BEGIN:VCALENDAR
VERSION:2.0
PRODID:-//Things To Lou - ECPv6.15.20//NONSGML v1.0//EN
CALSCALE:GREGORIAN
METHOD:PUBLISH
X-WR-CALNAME:Things To Lou
X-ORIGINAL-URL:https://things-to-lou.com
X-WR-CALDESC:Events for Things To Lou
REFRESH-INTERVAL;VALUE=DURATION:PT1H
X-Robots-Tag:noindex
X-PUBLISHED-TTL:PT1H
BEGIN:VTIMEZONE
TZID:America/New_York
BEGIN:DAYLIGHT
TZOFFSETFROM:-0500
TZOFFSETTO:-0400
TZNAME:EDT
DTSTART:20240310T070000
END:DAYLIGHT
BEGIN:STANDARD
TZOFFSETFROM:-0400
TZOFFSETTO:-0500
TZNAME:EST
DTSTART:20241103T060000
END:STANDARD
BEGIN:DAYLIGHT
TZOFFSETFROM:-0500
TZOFFSETTO:-0400
TZNAME:EDT
DTSTART:20250309T070000
END:DAYLIGHT
BEGIN:STANDARD
TZOFFSETFROM:-0400
TZOFFSETTO:-0500
TZNAME:EST
DTSTART:20251102T060000
END:STANDARD
BEGIN:DAYLIGHT
TZOFFSETFROM:-0500
TZOFFSETTO:-0400
TZNAME:EDT
DTSTART:20260308T070000
END:DAYLIGHT
BEGIN:STANDARD
TZOFFSETFROM:-0400
TZOFFSETTO:-0500
TZNAME:EST
DTSTART:20261101T060000
END:STANDARD
END:VTIMEZONE
BEGIN:VEVENT
DTSTART;TZID=America/New_York:20251018T160000
DTEND;TZID=America/New_York:20251018T190000
DTSTAMP:20260424T231225
CREATED:20251014T161919Z
LAST-MODIFIED:20251014T161919Z
UID:10003100-1760803200-1760814000@things-to-lou.com
SUMMARY:OcDOBErfest | fundraiser for Bluegrass Doberman Rescue
DESCRIPTION:OcDOBErfest is a fun celebration and fundraiser for Bluegrass Doberman Rescue. \nThere will be raffle items\, silent auction items\, BDR t-shirts and sweatshirts\, food truck\, dog costume contest\, beer\, fun and DOBES!! \nThis is a family friendly event and all well behaved dogs of any breed are welcome! \n  \n****description from Facebook event
URL:https://things-to-lou.com/events/ocdoberfest-fundraiser-for-bluegrass-doberman-rescue/
LOCATION:Apocalypse Brew Works\, 1612 Mellwood Ave\, Louisville\, KY\, 40206\, United States
CATEGORIES:Beer / Brewery,Family & Children,Pets
END:VEVENT
END:VCALENDAR