BEGIN:VCALENDAR
VERSION:2.0
PRODID:-//Things To Lou - ECPv6.15.20//NONSGML v1.0//EN
CALSCALE:GREGORIAN
METHOD:PUBLISH
X-ORIGINAL-URL:https://things-to-lou.com
X-WR-CALDESC:Events for Things To Lou
REFRESH-INTERVAL;VALUE=DURATION:PT1H
X-Robots-Tag:noindex
X-PUBLISHED-TTL:PT1H
BEGIN:VTIMEZONE
TZID:America/New_York
BEGIN:DAYLIGHT
TZOFFSETFROM:-0500
TZOFFSETTO:-0400
TZNAME:EDT
DTSTART:20240310T070000
END:DAYLIGHT
BEGIN:STANDARD
TZOFFSETFROM:-0400
TZOFFSETTO:-0500
TZNAME:EST
DTSTART:20241103T060000
END:STANDARD
BEGIN:DAYLIGHT
TZOFFSETFROM:-0500
TZOFFSETTO:-0400
TZNAME:EDT
DTSTART:20250309T070000
END:DAYLIGHT
BEGIN:STANDARD
TZOFFSETFROM:-0400
TZOFFSETTO:-0500
TZNAME:EST
DTSTART:20251102T060000
END:STANDARD
BEGIN:DAYLIGHT
TZOFFSETFROM:-0500
TZOFFSETTO:-0400
TZNAME:EDT
DTSTART:20260308T070000
END:DAYLIGHT
BEGIN:STANDARD
TZOFFSETFROM:-0400
TZOFFSETTO:-0500
TZNAME:EST
DTSTART:20261101T060000
END:STANDARD
END:VTIMEZONE
BEGIN:VEVENT
DTSTART;TZID=America/New_York:20251025T140000
DTEND;TZID=America/New_York:20251025T180000
DTSTAMP:20260424T231951
CREATED:20251014T172608Z
LAST-MODIFIED:20251014T172608Z
UID:10003105-1761400800-1761415200@things-to-lou.com
SUMMARY:PG&J's HOWL-O-Ween PAWty & Costume Contest | Bluegrass Pug Rescue Benefit
DESCRIPTION:Get your furry friends ready for a Howling good time! \nAwesome Prizes! Bluegrass Pug Rescue Benefit. Sponsored by Ole Smoky & Hi-Wire \nPG&J’s Annual Howl-o-ween Pawty & Costume Contest \nA Bluegrass Pug Rescue Benefit. Sponsored by Hi Wire Brewing and Ole Smokey Moonshine & Whisky. Lots of Spooky Fun & Prizes! \nBobbing for Balls All Day: Donate to play. Pick a special marked ball & win a prize. \nGroup Costume Contest Starts promptly at 3 pm\nDog Costume Contest Starts at 4 pm\nSpeed Pumpkin Carving Contest Starts at 5 pm. Donate $10 to play. First come first serve.\nNew to PG&J’s? No Dog\, No Prob! You don’t need a dog to enjoy the dog bar! 21+ \nBringing your dog? \nDog requirements: You must have vet records (paper or digital) showing that your dog is spayed or neutered and vaccinated for Rabies\, Distemper\, and Bordetella. Dogs must be 4 months or older. \nPlan your visit on our website\, http://www.pgjdogbar.com\nEmail Records to: info.louisville@pgjdogbar.com
URL:https://things-to-lou.com/events/pgjs-howl-o-ween-pawty-costume-contest-bluegrass-pug-rescue-benefit/
LOCATION:PG&J’s Dog Park Bar\, 800 Baxter Avenue\, Louisville\, KY\, 40204\, United States
CATEGORIES:Family & Children,Food & Drink,Pets
ATTACH;FMTTYPE=image/jpeg:https://things-to-lou.com/wp-content/uploads/2025/10/IMG_5086-e1760462525151.jpeg
END:VEVENT
END:VCALENDAR