BEGIN:VCALENDAR
VERSION:2.0
PRODID:-//Things To Lou - ECPv6.15.20//NONSGML v1.0//EN
CALSCALE:GREGORIAN
METHOD:PUBLISH
X-ORIGINAL-URL:https://things-to-lou.com
X-WR-CALDESC:Events for Things To Lou
REFRESH-INTERVAL;VALUE=DURATION:PT1H
X-Robots-Tag:noindex
X-PUBLISHED-TTL:PT1H
BEGIN:VTIMEZONE
TZID:America/New_York
BEGIN:DAYLIGHT
TZOFFSETFROM:-0500
TZOFFSETTO:-0400
TZNAME:EDT
DTSTART:20240310T070000
END:DAYLIGHT
BEGIN:STANDARD
TZOFFSETFROM:-0400
TZOFFSETTO:-0500
TZNAME:EST
DTSTART:20241103T060000
END:STANDARD
BEGIN:DAYLIGHT
TZOFFSETFROM:-0500
TZOFFSETTO:-0400
TZNAME:EDT
DTSTART:20250309T070000
END:DAYLIGHT
BEGIN:STANDARD
TZOFFSETFROM:-0400
TZOFFSETTO:-0500
TZNAME:EST
DTSTART:20251102T060000
END:STANDARD
BEGIN:DAYLIGHT
TZOFFSETFROM:-0500
TZOFFSETTO:-0400
TZNAME:EDT
DTSTART:20260308T070000
END:DAYLIGHT
BEGIN:STANDARD
TZOFFSETFROM:-0400
TZOFFSETTO:-0500
TZNAME:EST
DTSTART:20261101T060000
END:STANDARD
END:VTIMEZONE
BEGIN:VEVENT
DTSTART;TZID=America/New_York:20251213T083000
DTEND;TZID=America/New_York:20251213T093000
DTSTAMP:20260420T191050
CREATED:20251111T172005Z
LAST-MODIFIED:20251111T172005Z
UID:10003191-1765614600-1765618200@things-to-lou.com
SUMMARY:Distilled & Down Dogs: Yoga Pop Up!
DESCRIPTION:Get ready to flow and find your zen at Distilled Fitness! Join us for Distilled + Down Dogs\, a special yoga pop-up event on Saturday\, December 13\, at 8:30 AM (1 Hour Flow). \nLed by the talented Tavi Wallace\, this all-levels class is designed to both challenge and restore. \n\nWe’ll start with an invigorating vinyasa flow to build heat\, strengthen\, and loosen up.\nThen\, we’ll transition into the second half of the class with a calming restorative practice\, focusing on deep stretching and recovery.\n\nWhether you’re a seasoned yogi or a complete beginner\, this class is the perfect opportunity to work out and work in. Come connect with your breath\, your body\, and your community. \nSpace is limited\, so be sure to reserve your spot! $18 Registration Fee. \n***description from website
URL:https://things-to-lou.com/events/distilled-down-dogs-yoga-pop-up-2/
LOCATION:Distilled Fitness\, 512 Lyndon Ln\, Louisville\, KY\, 40222\, United States
CATEGORIES:Exercise,Pets,Wellness
ORGANIZER;CN="Distilled Fitness":MAILTO:info@distilledfitness.com
END:VEVENT
END:VCALENDAR