BEGIN:VCALENDAR
VERSION:2.0
PRODID:-//Things To Lou - ECPv6.15.20//NONSGML v1.0//EN
CALSCALE:GREGORIAN
METHOD:PUBLISH
X-WR-CALNAME:Things To Lou
X-ORIGINAL-URL:https://things-to-lou.com
X-WR-CALDESC:Events for Things To Lou
REFRESH-INTERVAL;VALUE=DURATION:PT1H
X-Robots-Tag:noindex
X-PUBLISHED-TTL:PT1H
BEGIN:VTIMEZONE
TZID:America/New_York
BEGIN:DAYLIGHT
TZOFFSETFROM:-0500
TZOFFSETTO:-0400
TZNAME:EDT
DTSTART:20250309T070000
END:DAYLIGHT
BEGIN:STANDARD
TZOFFSETFROM:-0400
TZOFFSETTO:-0500
TZNAME:EST
DTSTART:20251102T060000
END:STANDARD
BEGIN:DAYLIGHT
TZOFFSETFROM:-0500
TZOFFSETTO:-0400
TZNAME:EDT
DTSTART:20260308T070000
END:DAYLIGHT
BEGIN:STANDARD
TZOFFSETFROM:-0400
TZOFFSETTO:-0500
TZNAME:EST
DTSTART:20261101T060000
END:STANDARD
BEGIN:DAYLIGHT
TZOFFSETFROM:-0500
TZOFFSETTO:-0400
TZNAME:EDT
DTSTART:20270314T070000
END:DAYLIGHT
BEGIN:STANDARD
TZOFFSETFROM:-0400
TZOFFSETTO:-0500
TZNAME:EST
DTSTART:20271107T060000
END:STANDARD
END:VTIMEZONE
BEGIN:VEVENT
DTSTART;TZID=America/New_York:20260615T180000
DTEND;TZID=America/New_York:20260615T190000
DTSTAMP:20260419T103859
CREATED:20251231T070129Z
LAST-MODIFIED:20251231T070129Z
UID:10003499-1781546400-1781550000@things-to-lou.com
SUMMARY:Marketplace Hall Yoga (all levels)
DESCRIPTION:Yoga at West Sixth NuLu \n6 – 7pm \nEvent occurs weekly on Monday \nMarketplace Hall Yoga with Harley Gilman. Donation-based\, beginner friendly flow — just come with a mat and any props you’d like to have \nNo registration required \nAll levels are welcome
URL:https://things-to-lou.com/events/marketplace-hall-yoga-all-levels/2026-06-15/
LOCATION:West 6th Nulu\, 817 E Market St\, Suite 101\, Louisville\, KY\, 40206\, United States
CATEGORIES:Beer / Brewery,Exercise
END:VEVENT
BEGIN:VEVENT
DTSTART;TZID=America/New_York:20260616T180000
DTEND;TZID=America/New_York:20260616T210000
DTSTAMP:20260419T103859
CREATED:20260402T192815Z
LAST-MODIFIED:20260402T194148Z
UID:10004949-1781632800-1781643600@things-to-lou.com
SUMMARY:Join a Silly Pickles pickleball league! | save $10 with this promo code! | Play Pickleball Club
DESCRIPTION:Sign up for Silly Pickles pickleball here! \n\nEach week\, you’ll have one hour of scheduled play within a new group of four\, for 2v2 doubles games.\nAll skill levels are welcome! 🚀 Total beginners to DUPR 4.0 legends\, we’ll match you at your level with other players every week.\n\n\nThere are TWO different leagues you can sign up for — more info here. \nUse code GETSILLY-JOHN to save $10 on your registration!\n\nLeague 1:\n📍 Location: Play Pickleball Club\n12100 Plantside Dr\, Louisville\, KY 40299 \n📅 Schedule: 8 Weeks of Play\nStart Date: 04/28/2026\nEnd Date: 06/16/2026 \n⏱ Timing: 6-9pm on Tuesdays\nYou’ll play one full hour each week. Time slots rotate weekly (6-7pm\, 7-8pm\, etc). \n\nLeague 2: \n📍 Location: Pickle & Pong\n13141 Aiken Road\, Louisville\, KY 40243 \n📅 Schedule: 8 Weeks of Play\nStart Date: 04/19/2026\nEnd Date: 06/14/2026 (Skipping 05/24) \n⏱ Timing: 1-4pm on Sundays\nYou’ll play one full hour each week. Time slots rotate weekly (1-2pm\, 2-3pm\, etc). \n\nUse code GETSILLY-JOHN to save $10 on your registration!\n\nDetails on the promo code: \n\nNo minimum purchase requirement\nOne per customer\n$10.00 off Spring Pickleball Leagues 2026\n\nDisclosure: ThingsToLou LLC is an authorized affiliate for Silly Pickles and may receive a commission on sales made on the Silly Pickles website \n\nDID YOU MISS THE BOAT ON THIS SEASON’S LEAGUES? That’s ok! \nGo ahead and sign up for the summer leagues here! \n  \n 
URL:https://things-to-lou.com/events/join-a-silly-pickles-pickleball-league-save-10-with-this-promo-code-play-pickleball-club/2026-06-16/
LOCATION:Play Pickleball Club\, 12100 Plantside Dr\, Louisville\, KY\, 40299\, United States
CATEGORIES:Exercise,PROMO CODE,Wellness
ATTACH;FMTTYPE=image/png:https://things-to-lou.com/wp-content/uploads/2026/04/1768420889_kOIoU-e1775156839382.png
END:VEVENT
BEGIN:VEVENT
DTSTART;TZID=America/New_York:20260622T180000
DTEND;TZID=America/New_York:20260622T190000
DTSTAMP:20260419T103859
CREATED:20251231T070129Z
LAST-MODIFIED:20251231T070129Z
UID:10003500-1782151200-1782154800@things-to-lou.com
SUMMARY:Marketplace Hall Yoga (all levels)
DESCRIPTION:Yoga at West Sixth NuLu \n6 – 7pm \nEvent occurs weekly on Monday \nMarketplace Hall Yoga with Harley Gilman. Donation-based\, beginner friendly flow — just come with a mat and any props you’d like to have \nNo registration required \nAll levels are welcome
URL:https://things-to-lou.com/events/marketplace-hall-yoga-all-levels/2026-06-22/
LOCATION:West 6th Nulu\, 817 E Market St\, Suite 101\, Louisville\, KY\, 40206\, United States
CATEGORIES:Beer / Brewery,Exercise
END:VEVENT
BEGIN:VEVENT
DTSTART;TZID=America/New_York:20260629T180000
DTEND;TZID=America/New_York:20260629T190000
DTSTAMP:20260419T103859
CREATED:20251231T070129Z
LAST-MODIFIED:20251231T070129Z
UID:10003501-1782756000-1782759600@things-to-lou.com
SUMMARY:Marketplace Hall Yoga (all levels)
DESCRIPTION:Yoga at West Sixth NuLu \n6 – 7pm \nEvent occurs weekly on Monday \nMarketplace Hall Yoga with Harley Gilman. Donation-based\, beginner friendly flow — just come with a mat and any props you’d like to have \nNo registration required \nAll levels are welcome
URL:https://things-to-lou.com/events/marketplace-hall-yoga-all-levels/2026-06-29/
LOCATION:West 6th Nulu\, 817 E Market St\, Suite 101\, Louisville\, KY\, 40206\, United States
CATEGORIES:Beer / Brewery,Exercise
END:VEVENT
BEGIN:VEVENT
DTSTART;TZID=America/New_York:20260706T180000
DTEND;TZID=America/New_York:20260706T190000
DTSTAMP:20260419T103859
CREATED:20251231T070129Z
LAST-MODIFIED:20251231T070129Z
UID:10003502-1783360800-1783364400@things-to-lou.com
SUMMARY:Marketplace Hall Yoga (all levels)
DESCRIPTION:Yoga at West Sixth NuLu \n6 – 7pm \nEvent occurs weekly on Monday \nMarketplace Hall Yoga with Harley Gilman. Donation-based\, beginner friendly flow — just come with a mat and any props you’d like to have \nNo registration required \nAll levels are welcome
URL:https://things-to-lou.com/events/marketplace-hall-yoga-all-levels/2026-07-06/
LOCATION:West 6th Nulu\, 817 E Market St\, Suite 101\, Louisville\, KY\, 40206\, United States
CATEGORIES:Beer / Brewery,Exercise
END:VEVENT
BEGIN:VEVENT
DTSTART;TZID=America/New_York:20260713T180000
DTEND;TZID=America/New_York:20260713T190000
DTSTAMP:20260419T103859
CREATED:20251231T070129Z
LAST-MODIFIED:20251231T070129Z
UID:10003503-1783965600-1783969200@things-to-lou.com
SUMMARY:Marketplace Hall Yoga (all levels)
DESCRIPTION:Yoga at West Sixth NuLu \n6 – 7pm \nEvent occurs weekly on Monday \nMarketplace Hall Yoga with Harley Gilman. Donation-based\, beginner friendly flow — just come with a mat and any props you’d like to have \nNo registration required \nAll levels are welcome
URL:https://things-to-lou.com/events/marketplace-hall-yoga-all-levels/2026-07-13/
LOCATION:West 6th Nulu\, 817 E Market St\, Suite 101\, Louisville\, KY\, 40206\, United States
CATEGORIES:Beer / Brewery,Exercise
END:VEVENT
BEGIN:VEVENT
DTSTART;TZID=America/New_York:20260720T180000
DTEND;TZID=America/New_York:20260720T190000
DTSTAMP:20260419T103859
CREATED:20251231T070129Z
LAST-MODIFIED:20251231T070129Z
UID:10003504-1784570400-1784574000@things-to-lou.com
SUMMARY:Marketplace Hall Yoga (all levels)
DESCRIPTION:Yoga at West Sixth NuLu \n6 – 7pm \nEvent occurs weekly on Monday \nMarketplace Hall Yoga with Harley Gilman. Donation-based\, beginner friendly flow — just come with a mat and any props you’d like to have \nNo registration required \nAll levels are welcome
URL:https://things-to-lou.com/events/marketplace-hall-yoga-all-levels/2026-07-20/
LOCATION:West 6th Nulu\, 817 E Market St\, Suite 101\, Louisville\, KY\, 40206\, United States
CATEGORIES:Beer / Brewery,Exercise
END:VEVENT
BEGIN:VEVENT
DTSTART;TZID=America/New_York:20260725T070000
DTEND;TZID=America/New_York:20260725T120000
DTSTAMP:20260419T103859
CREATED:20260117T021821Z
LAST-MODIFIED:20260117T021821Z
UID:10004034-1784962800-1784980800@things-to-lou.com
SUMMARY:2026 Black Men's Wellness Day
DESCRIPTION:Come celebrate Black Men’s health and wellness with us in Louisville! It’s the most fun you’ll ever have at a doctor’s appointment! \nBlack Men’s Wellness Day isn’t just an event – it’s a movement. It’s about understanding the health disparities that exist\, taking actionable steps towards better health\, and celebrating the strength and resilience of our community. Whether you’ve been a part of our journey from the start or are just getting to know us\, this day is for you. \nWhat to Expect:\nFree Health Screenings: Prioritize your health. From blood pressure checks to more comprehensive screenings\, our team of healthcare professionals are here to make sure that this is the most fun that you will ever have at a doctor’s appointment. \nKids Zone: A day for the entire family! There’s something for everyone at the walk! Let your little ones engage in fun\, interactive\, and educational activities centered around health and wellness. \nSenior Pavilion: It’s critical to the mission of Black Men’s Wellness Day to promote wellness for the entire Black community. That’s why we have a special pavilion with activities just for our Golden citizens. \nEntertainment: Celebrate with us! From live music to performances\, there’s something for everyone to enjoy. \nCome\, be a part of a day filled with knowledge\, celebration\, and unity. Let’s champion the cause of health equity and ensure a brighter\, healthier future for all! \n\n  \nMORE INFO
URL:https://things-to-lou.com/events/2026-black-mens-wellness-day/
LOCATION:Norton Healthcare Sports & Learning Center\, 3029 W Muhammad Ali Blvd\, Louisville\, KY\, 40212\, United States
CATEGORIES:Block Party / Community Festival,Exercise,Family & Children,Wellness
END:VEVENT
BEGIN:VEVENT
DTSTART;TZID=America/New_York:20260727T180000
DTEND;TZID=America/New_York:20260727T190000
DTSTAMP:20260419T103859
CREATED:20251231T070129Z
LAST-MODIFIED:20251231T070129Z
UID:10003505-1785175200-1785178800@things-to-lou.com
SUMMARY:Marketplace Hall Yoga (all levels)
DESCRIPTION:Yoga at West Sixth NuLu \n6 – 7pm \nEvent occurs weekly on Monday \nMarketplace Hall Yoga with Harley Gilman. Donation-based\, beginner friendly flow — just come with a mat and any props you’d like to have \nNo registration required \nAll levels are welcome
URL:https://things-to-lou.com/events/marketplace-hall-yoga-all-levels/2026-07-27/
LOCATION:West 6th Nulu\, 817 E Market St\, Suite 101\, Louisville\, KY\, 40206\, United States
CATEGORIES:Beer / Brewery,Exercise
END:VEVENT
BEGIN:VEVENT
DTSTART;TZID=America/New_York:20260803T180000
DTEND;TZID=America/New_York:20260803T190000
DTSTAMP:20260419T103900
CREATED:20251231T070129Z
LAST-MODIFIED:20251231T070129Z
UID:10003506-1785780000-1785783600@things-to-lou.com
SUMMARY:Marketplace Hall Yoga (all levels)
DESCRIPTION:Yoga at West Sixth NuLu \n6 – 7pm \nEvent occurs weekly on Monday \nMarketplace Hall Yoga with Harley Gilman. Donation-based\, beginner friendly flow — just come with a mat and any props you’d like to have \nNo registration required \nAll levels are welcome
URL:https://things-to-lou.com/events/marketplace-hall-yoga-all-levels/2026-08-03/
LOCATION:West 6th Nulu\, 817 E Market St\, Suite 101\, Louisville\, KY\, 40206\, United States
CATEGORIES:Beer / Brewery,Exercise
END:VEVENT
BEGIN:VEVENT
DTSTART;TZID=America/New_York:20260810T180000
DTEND;TZID=America/New_York:20260810T190000
DTSTAMP:20260419T103900
CREATED:20251231T070129Z
LAST-MODIFIED:20251231T070129Z
UID:10003507-1786384800-1786388400@things-to-lou.com
SUMMARY:Marketplace Hall Yoga (all levels)
DESCRIPTION:Yoga at West Sixth NuLu \n6 – 7pm \nEvent occurs weekly on Monday \nMarketplace Hall Yoga with Harley Gilman. Donation-based\, beginner friendly flow — just come with a mat and any props you’d like to have \nNo registration required \nAll levels are welcome
URL:https://things-to-lou.com/events/marketplace-hall-yoga-all-levels/2026-08-10/
LOCATION:West 6th Nulu\, 817 E Market St\, Suite 101\, Louisville\, KY\, 40206\, United States
CATEGORIES:Beer / Brewery,Exercise
END:VEVENT
BEGIN:VEVENT
DTSTART;TZID=America/New_York:20260817T180000
DTEND;TZID=America/New_York:20260817T190000
DTSTAMP:20260419T103900
CREATED:20251231T070129Z
LAST-MODIFIED:20251231T070129Z
UID:10003508-1786989600-1786993200@things-to-lou.com
SUMMARY:Marketplace Hall Yoga (all levels)
DESCRIPTION:Yoga at West Sixth NuLu \n6 – 7pm \nEvent occurs weekly on Monday \nMarketplace Hall Yoga with Harley Gilman. Donation-based\, beginner friendly flow — just come with a mat and any props you’d like to have \nNo registration required \nAll levels are welcome
URL:https://things-to-lou.com/events/marketplace-hall-yoga-all-levels/2026-08-17/
LOCATION:West 6th Nulu\, 817 E Market St\, Suite 101\, Louisville\, KY\, 40206\, United States
CATEGORIES:Beer / Brewery,Exercise
END:VEVENT
BEGIN:VEVENT
DTSTART;TZID=America/New_York:20260824T180000
DTEND;TZID=America/New_York:20260824T190000
DTSTAMP:20260419T103900
CREATED:20251231T070129Z
LAST-MODIFIED:20251231T070129Z
UID:10003509-1787594400-1787598000@things-to-lou.com
SUMMARY:Marketplace Hall Yoga (all levels)
DESCRIPTION:Yoga at West Sixth NuLu \n6 – 7pm \nEvent occurs weekly on Monday \nMarketplace Hall Yoga with Harley Gilman. Donation-based\, beginner friendly flow — just come with a mat and any props you’d like to have \nNo registration required \nAll levels are welcome
URL:https://things-to-lou.com/events/marketplace-hall-yoga-all-levels/2026-08-24/
LOCATION:West 6th Nulu\, 817 E Market St\, Suite 101\, Louisville\, KY\, 40206\, United States
CATEGORIES:Beer / Brewery,Exercise
END:VEVENT
BEGIN:VEVENT
DTSTART;TZID=America/New_York:20260831T180000
DTEND;TZID=America/New_York:20260831T190000
DTSTAMP:20260419T103900
CREATED:20251231T070129Z
LAST-MODIFIED:20251231T070129Z
UID:10003510-1788199200-1788202800@things-to-lou.com
SUMMARY:Marketplace Hall Yoga (all levels)
DESCRIPTION:Yoga at West Sixth NuLu \n6 – 7pm \nEvent occurs weekly on Monday \nMarketplace Hall Yoga with Harley Gilman. Donation-based\, beginner friendly flow — just come with a mat and any props you’d like to have \nNo registration required \nAll levels are welcome
URL:https://things-to-lou.com/events/marketplace-hall-yoga-all-levels/2026-08-31/
LOCATION:West 6th Nulu\, 817 E Market St\, Suite 101\, Louisville\, KY\, 40206\, United States
CATEGORIES:Beer / Brewery,Exercise
END:VEVENT
BEGIN:VEVENT
DTSTART;TZID=America/New_York:20260907T180000
DTEND;TZID=America/New_York:20260907T190000
DTSTAMP:20260419T103900
CREATED:20251231T070129Z
LAST-MODIFIED:20251231T070129Z
UID:10003511-1788804000-1788807600@things-to-lou.com
SUMMARY:Marketplace Hall Yoga (all levels)
DESCRIPTION:Yoga at West Sixth NuLu \n6 – 7pm \nEvent occurs weekly on Monday \nMarketplace Hall Yoga with Harley Gilman. Donation-based\, beginner friendly flow — just come with a mat and any props you’d like to have \nNo registration required \nAll levels are welcome
URL:https://things-to-lou.com/events/marketplace-hall-yoga-all-levels/2026-09-07/
LOCATION:West 6th Nulu\, 817 E Market St\, Suite 101\, Louisville\, KY\, 40206\, United States
CATEGORIES:Beer / Brewery,Exercise
END:VEVENT
BEGIN:VEVENT
DTSTART;TZID=America/New_York:20260914T180000
DTEND;TZID=America/New_York:20260914T190000
DTSTAMP:20260419T103900
CREATED:20251231T070129Z
LAST-MODIFIED:20251231T070129Z
UID:10003512-1789408800-1789412400@things-to-lou.com
SUMMARY:Marketplace Hall Yoga (all levels)
DESCRIPTION:Yoga at West Sixth NuLu \n6 – 7pm \nEvent occurs weekly on Monday \nMarketplace Hall Yoga with Harley Gilman. Donation-based\, beginner friendly flow — just come with a mat and any props you’d like to have \nNo registration required \nAll levels are welcome
URL:https://things-to-lou.com/events/marketplace-hall-yoga-all-levels/2026-09-14/
LOCATION:West 6th Nulu\, 817 E Market St\, Suite 101\, Louisville\, KY\, 40206\, United States
CATEGORIES:Beer / Brewery,Exercise
END:VEVENT
BEGIN:VEVENT
DTSTART;TZID=America/New_York:20260921T180000
DTEND;TZID=America/New_York:20260921T190000
DTSTAMP:20260419T103900
CREATED:20251231T070129Z
LAST-MODIFIED:20251231T070129Z
UID:10003513-1790013600-1790017200@things-to-lou.com
SUMMARY:Marketplace Hall Yoga (all levels)
DESCRIPTION:Yoga at West Sixth NuLu \n6 – 7pm \nEvent occurs weekly on Monday \nMarketplace Hall Yoga with Harley Gilman. Donation-based\, beginner friendly flow — just come with a mat and any props you’d like to have \nNo registration required \nAll levels are welcome
URL:https://things-to-lou.com/events/marketplace-hall-yoga-all-levels/2026-09-21/
LOCATION:West 6th Nulu\, 817 E Market St\, Suite 101\, Louisville\, KY\, 40206\, United States
CATEGORIES:Beer / Brewery,Exercise
END:VEVENT
BEGIN:VEVENT
DTSTART;TZID=America/New_York:20260928T180000
DTEND;TZID=America/New_York:20260928T190000
DTSTAMP:20260419T103900
CREATED:20251231T070129Z
LAST-MODIFIED:20251231T070129Z
UID:10003514-1790618400-1790622000@things-to-lou.com
SUMMARY:Marketplace Hall Yoga (all levels)
DESCRIPTION:Yoga at West Sixth NuLu \n6 – 7pm \nEvent occurs weekly on Monday \nMarketplace Hall Yoga with Harley Gilman. Donation-based\, beginner friendly flow — just come with a mat and any props you’d like to have \nNo registration required \nAll levels are welcome
URL:https://things-to-lou.com/events/marketplace-hall-yoga-all-levels/2026-09-28/
LOCATION:West 6th Nulu\, 817 E Market St\, Suite 101\, Louisville\, KY\, 40206\, United States
CATEGORIES:Beer / Brewery,Exercise
END:VEVENT
BEGIN:VEVENT
DTSTART;TZID=America/New_York:20261005T180000
DTEND;TZID=America/New_York:20261005T190000
DTSTAMP:20260419T103900
CREATED:20251231T070129Z
LAST-MODIFIED:20251231T070129Z
UID:10003515-1791223200-1791226800@things-to-lou.com
SUMMARY:Marketplace Hall Yoga (all levels)
DESCRIPTION:Yoga at West Sixth NuLu \n6 – 7pm \nEvent occurs weekly on Monday \nMarketplace Hall Yoga with Harley Gilman. Donation-based\, beginner friendly flow — just come with a mat and any props you’d like to have \nNo registration required \nAll levels are welcome
URL:https://things-to-lou.com/events/marketplace-hall-yoga-all-levels/2026-10-05/
LOCATION:West 6th Nulu\, 817 E Market St\, Suite 101\, Louisville\, KY\, 40206\, United States
CATEGORIES:Beer / Brewery,Exercise
END:VEVENT
BEGIN:VEVENT
DTSTART;TZID=America/New_York:20261012T180000
DTEND;TZID=America/New_York:20261012T190000
DTSTAMP:20260419T103900
CREATED:20251231T070129Z
LAST-MODIFIED:20251231T070129Z
UID:10003516-1791828000-1791831600@things-to-lou.com
SUMMARY:Marketplace Hall Yoga (all levels)
DESCRIPTION:Yoga at West Sixth NuLu \n6 – 7pm \nEvent occurs weekly on Monday \nMarketplace Hall Yoga with Harley Gilman. Donation-based\, beginner friendly flow — just come with a mat and any props you’d like to have \nNo registration required \nAll levels are welcome
URL:https://things-to-lou.com/events/marketplace-hall-yoga-all-levels/2026-10-12/
LOCATION:West 6th Nulu\, 817 E Market St\, Suite 101\, Louisville\, KY\, 40206\, United States
CATEGORIES:Beer / Brewery,Exercise
END:VEVENT
BEGIN:VEVENT
DTSTART;TZID=America/New_York:20261019T180000
DTEND;TZID=America/New_York:20261019T190000
DTSTAMP:20260419T103900
CREATED:20251231T070129Z
LAST-MODIFIED:20251231T070129Z
UID:10003517-1792432800-1792436400@things-to-lou.com
SUMMARY:Marketplace Hall Yoga (all levels)
DESCRIPTION:Yoga at West Sixth NuLu \n6 – 7pm \nEvent occurs weekly on Monday \nMarketplace Hall Yoga with Harley Gilman. Donation-based\, beginner friendly flow — just come with a mat and any props you’d like to have \nNo registration required \nAll levels are welcome
URL:https://things-to-lou.com/events/marketplace-hall-yoga-all-levels/2026-10-19/
LOCATION:West 6th Nulu\, 817 E Market St\, Suite 101\, Louisville\, KY\, 40206\, United States
CATEGORIES:Beer / Brewery,Exercise
END:VEVENT
BEGIN:VEVENT
DTSTART;TZID=America/New_York:20261026T180000
DTEND;TZID=America/New_York:20261026T190000
DTSTAMP:20260419T103900
CREATED:20251231T070129Z
LAST-MODIFIED:20251231T070129Z
UID:10003518-1793037600-1793041200@things-to-lou.com
SUMMARY:Marketplace Hall Yoga (all levels)
DESCRIPTION:Yoga at West Sixth NuLu \n6 – 7pm \nEvent occurs weekly on Monday \nMarketplace Hall Yoga with Harley Gilman. Donation-based\, beginner friendly flow — just come with a mat and any props you’d like to have \nNo registration required \nAll levels are welcome
URL:https://things-to-lou.com/events/marketplace-hall-yoga-all-levels/2026-10-26/
LOCATION:West 6th Nulu\, 817 E Market St\, Suite 101\, Louisville\, KY\, 40206\, United States
CATEGORIES:Beer / Brewery,Exercise
END:VEVENT
BEGIN:VEVENT
DTSTART;TZID=America/New_York:20261102T180000
DTEND;TZID=America/New_York:20261102T190000
DTSTAMP:20260419T103900
CREATED:20251231T070129Z
LAST-MODIFIED:20251231T070129Z
UID:10003519-1793642400-1793646000@things-to-lou.com
SUMMARY:Marketplace Hall Yoga (all levels)
DESCRIPTION:Yoga at West Sixth NuLu \n6 – 7pm \nEvent occurs weekly on Monday \nMarketplace Hall Yoga with Harley Gilman. Donation-based\, beginner friendly flow — just come with a mat and any props you’d like to have \nNo registration required \nAll levels are welcome
URL:https://things-to-lou.com/events/marketplace-hall-yoga-all-levels/2026-11-02/
LOCATION:West 6th Nulu\, 817 E Market St\, Suite 101\, Louisville\, KY\, 40206\, United States
CATEGORIES:Beer / Brewery,Exercise
END:VEVENT
BEGIN:VEVENT
DTSTART;TZID=America/New_York:20261109T180000
DTEND;TZID=America/New_York:20261109T190000
DTSTAMP:20260419T103900
CREATED:20251231T070129Z
LAST-MODIFIED:20251231T070129Z
UID:10003520-1794247200-1794250800@things-to-lou.com
SUMMARY:Marketplace Hall Yoga (all levels)
DESCRIPTION:Yoga at West Sixth NuLu \n6 – 7pm \nEvent occurs weekly on Monday \nMarketplace Hall Yoga with Harley Gilman. Donation-based\, beginner friendly flow — just come with a mat and any props you’d like to have \nNo registration required \nAll levels are welcome
URL:https://things-to-lou.com/events/marketplace-hall-yoga-all-levels/2026-11-09/
LOCATION:West 6th Nulu\, 817 E Market St\, Suite 101\, Louisville\, KY\, 40206\, United States
CATEGORIES:Beer / Brewery,Exercise
END:VEVENT
BEGIN:VEVENT
DTSTART;TZID=America/New_York:20261116T180000
DTEND;TZID=America/New_York:20261116T190000
DTSTAMP:20260419T103900
CREATED:20251231T070129Z
LAST-MODIFIED:20251231T070129Z
UID:10003521-1794852000-1794855600@things-to-lou.com
SUMMARY:Marketplace Hall Yoga (all levels)
DESCRIPTION:Yoga at West Sixth NuLu \n6 – 7pm \nEvent occurs weekly on Monday \nMarketplace Hall Yoga with Harley Gilman. Donation-based\, beginner friendly flow — just come with a mat and any props you’d like to have \nNo registration required \nAll levels are welcome
URL:https://things-to-lou.com/events/marketplace-hall-yoga-all-levels/2026-11-16/
LOCATION:West 6th Nulu\, 817 E Market St\, Suite 101\, Louisville\, KY\, 40206\, United States
CATEGORIES:Beer / Brewery,Exercise
END:VEVENT
BEGIN:VEVENT
DTSTART;TZID=America/New_York:20261123T180000
DTEND;TZID=America/New_York:20261123T190000
DTSTAMP:20260419T103900
CREATED:20251231T070129Z
LAST-MODIFIED:20251231T070129Z
UID:10003522-1795456800-1795460400@things-to-lou.com
SUMMARY:Marketplace Hall Yoga (all levels)
DESCRIPTION:Yoga at West Sixth NuLu \n6 – 7pm \nEvent occurs weekly on Monday \nMarketplace Hall Yoga with Harley Gilman. Donation-based\, beginner friendly flow — just come with a mat and any props you’d like to have \nNo registration required \nAll levels are welcome
URL:https://things-to-lou.com/events/marketplace-hall-yoga-all-levels/2026-11-23/
LOCATION:West 6th Nulu\, 817 E Market St\, Suite 101\, Louisville\, KY\, 40206\, United States
CATEGORIES:Beer / Brewery,Exercise
END:VEVENT
BEGIN:VEVENT
DTSTART;TZID=America/New_York:20261130T180000
DTEND;TZID=America/New_York:20261130T190000
DTSTAMP:20260419T103900
CREATED:20251231T070129Z
LAST-MODIFIED:20251231T070129Z
UID:10003523-1796061600-1796065200@things-to-lou.com
SUMMARY:Marketplace Hall Yoga (all levels)
DESCRIPTION:Yoga at West Sixth NuLu \n6 – 7pm \nEvent occurs weekly on Monday \nMarketplace Hall Yoga with Harley Gilman. Donation-based\, beginner friendly flow — just come with a mat and any props you’d like to have \nNo registration required \nAll levels are welcome
URL:https://things-to-lou.com/events/marketplace-hall-yoga-all-levels/2026-11-30/
LOCATION:West 6th Nulu\, 817 E Market St\, Suite 101\, Louisville\, KY\, 40206\, United States
CATEGORIES:Beer / Brewery,Exercise
END:VEVENT
BEGIN:VEVENT
DTSTART;TZID=America/New_York:20261207T180000
DTEND;TZID=America/New_York:20261207T190000
DTSTAMP:20260419T103900
CREATED:20251231T070129Z
LAST-MODIFIED:20251231T070129Z
UID:10003524-1796666400-1796670000@things-to-lou.com
SUMMARY:Marketplace Hall Yoga (all levels)
DESCRIPTION:Yoga at West Sixth NuLu \n6 – 7pm \nEvent occurs weekly on Monday \nMarketplace Hall Yoga with Harley Gilman. Donation-based\, beginner friendly flow — just come with a mat and any props you’d like to have \nNo registration required \nAll levels are welcome
URL:https://things-to-lou.com/events/marketplace-hall-yoga-all-levels/2026-12-07/
LOCATION:West 6th Nulu\, 817 E Market St\, Suite 101\, Louisville\, KY\, 40206\, United States
CATEGORIES:Beer / Brewery,Exercise
END:VEVENT
BEGIN:VEVENT
DTSTART;TZID=America/New_York:20261214T180000
DTEND;TZID=America/New_York:20261214T190000
DTSTAMP:20260419T103900
CREATED:20251231T070129Z
LAST-MODIFIED:20251231T070129Z
UID:10003525-1797271200-1797274800@things-to-lou.com
SUMMARY:Marketplace Hall Yoga (all levels)
DESCRIPTION:Yoga at West Sixth NuLu \n6 – 7pm \nEvent occurs weekly on Monday \nMarketplace Hall Yoga with Harley Gilman. Donation-based\, beginner friendly flow — just come with a mat and any props you’d like to have \nNo registration required \nAll levels are welcome
URL:https://things-to-lou.com/events/marketplace-hall-yoga-all-levels/2026-12-14/
LOCATION:West 6th Nulu\, 817 E Market St\, Suite 101\, Louisville\, KY\, 40206\, United States
CATEGORIES:Beer / Brewery,Exercise
END:VEVENT
BEGIN:VEVENT
DTSTART;TZID=America/New_York:20261221T180000
DTEND;TZID=America/New_York:20261221T190000
DTSTAMP:20260419T103900
CREATED:20251231T070129Z
LAST-MODIFIED:20251231T070129Z
UID:10003526-1797876000-1797879600@things-to-lou.com
SUMMARY:Marketplace Hall Yoga (all levels)
DESCRIPTION:Yoga at West Sixth NuLu \n6 – 7pm \nEvent occurs weekly on Monday \nMarketplace Hall Yoga with Harley Gilman. Donation-based\, beginner friendly flow — just come with a mat and any props you’d like to have \nNo registration required \nAll levels are welcome
URL:https://things-to-lou.com/events/marketplace-hall-yoga-all-levels/2026-12-21/
LOCATION:West 6th Nulu\, 817 E Market St\, Suite 101\, Louisville\, KY\, 40206\, United States
CATEGORIES:Beer / Brewery,Exercise
END:VEVENT
END:VCALENDAR