BEGIN:VCALENDAR
VERSION:2.0
PRODID:-//Things To Lou - ECPv6.15.20//NONSGML v1.0//EN
CALSCALE:GREGORIAN
METHOD:PUBLISH
X-WR-CALNAME:Things To Lou
X-ORIGINAL-URL:https://things-to-lou.com
X-WR-CALDESC:Events for Things To Lou
REFRESH-INTERVAL;VALUE=DURATION:PT1H
X-Robots-Tag:noindex
X-PUBLISHED-TTL:PT1H
BEGIN:VTIMEZONE
TZID:America/New_York
BEGIN:DAYLIGHT
TZOFFSETFROM:-0500
TZOFFSETTO:-0400
TZNAME:EDT
DTSTART:20250309T070000
END:DAYLIGHT
BEGIN:STANDARD
TZOFFSETFROM:-0400
TZOFFSETTO:-0500
TZNAME:EST
DTSTART:20251102T060000
END:STANDARD
BEGIN:DAYLIGHT
TZOFFSETFROM:-0500
TZOFFSETTO:-0400
TZNAME:EDT
DTSTART:20260308T070000
END:DAYLIGHT
BEGIN:STANDARD
TZOFFSETFROM:-0400
TZOFFSETTO:-0500
TZNAME:EST
DTSTART:20261101T060000
END:STANDARD
BEGIN:DAYLIGHT
TZOFFSETFROM:-0500
TZOFFSETTO:-0400
TZNAME:EDT
DTSTART:20270314T070000
END:DAYLIGHT
BEGIN:STANDARD
TZOFFSETFROM:-0400
TZOFFSETTO:-0500
TZNAME:EST
DTSTART:20271107T060000
END:STANDARD
END:VTIMEZONE
BEGIN:VEVENT
DTSTART;TZID=America/New_York:20260212T183000
DTEND;TZID=America/New_York:20260212T200000
DTSTAMP:20260423T181350
CREATED:20260108T074040Z
LAST-MODIFIED:20260108T074040Z
UID:10003813-1770921000-1770926400@things-to-lou.com
SUMMARY:Four Roses\, Ten Recipes\, One Love | Frazier
DESCRIPTION:The Frazier Kentucky History Museum invites you to fall head over heels for one of Kentucky’s most iconic love stories—Four Roses Bourbon! \nJoin us at the Frazier for an intimate evening of tastings\, pairings\, and exceptional Bourbon as we celebrate the artistry of Four Roses’ ten unique recipes. Four Roses Master Distiller Brent Elliott and Four Roses Brand Champion Tucker Carper will share stories and lead guided tastings culminating with the exclusive single-barrel OBSO 9+ year selection that all attendees will have the option to purchase. \nGuests will explore the unique recipes\, yeast strains\, and craftsmanship that make Four Roses a true original—complex\, elegant\, and unforgettable. Whether you’re sharing the experience with a partner\, friends\, or fellow Bourbon lovers\, this is a Valentine’s celebration not to be missed. \nABOUT THE PROGRAM\nFour Roses\, Ten Recipes\, One Love\nThursday\, February 12\nFrazier Kentucky History Museum \nProgram: 6:30–8 p.m. \nAdmission: $45 \nFour Roses OBSO Frazier Single Barrel Selection: $125 \n\nEvent Date:\n2026-02-12 \nWebsite / Ticket Link:\nhttps://www.fraziermuseum.org/calendar/four-roses-ten-recipes-one-love \nLocation:\nFrazier Kentucky History Museum\, 829 W. Main St. \nEvent Host:\nFrazier Kentucky History Museum \n 
URL:https://things-to-lou.com/events/four-roses-ten-recipes-one-love-frazier/
LOCATION:Frazier History Museum\, 829 West Main Street\, Louisville\, 40202\, United States
CATEGORIES:Bourbon,Museum
ATTACH;FMTTYPE=image/jpeg:https://things-to-lou.com/wp-content/uploads/2026/01/four-roses-one-love_-website-square-e1767858104714.jpg
END:VEVENT
BEGIN:VEVENT
DTSTART;TZID=America/New_York:20260215T140000
DTEND;TZID=America/New_York:20260215T150000
DTSTAMP:20260423T181350
CREATED:20260108T075206Z
LAST-MODIFIED:20260108T075330Z
UID:10003816-1771164000-1771167600@things-to-lou.com
SUMMARY:Lady Washington: America’s First First Lady | Frazier
DESCRIPTION:As we approach Presidents’ Day in February\, also known as George Washington’s Birthday\, we’re sharing more about Martha Washington. \nKnown as Lady Washington\, she was considered formidable\, a worthy partner of her husband\, who very much helped create a sense of what the presidency is today. As part of our nation’s 250 celebration\, join us as we partner with the National Society of the Sons of the American Revolution (SAR) for this program showcasing important artifacts\, including a swatch of Martha Washington’s wedding dress\, that will be on display in our Founder’s Gallery. \nWe’ll also explore how she helped establish precedents as a social hostess\, but also as a model of public service and sacrifice. \nSpeakers are Zachary Distel\, Curator & Director of Collections\, National Society of the Sons of the American Revolution; and Vickie Yates Brown Glisson\, attorney in private practice in Louisville\, Chair of Spencer County America250 Committee. \nABOUT THE PROGRAM\nLady Washington: America’s First First Lady\nSunday\, February 15\nFrazier Kentucky History Museum \nProgram: 2–3 p.m. \nAdmission: Free with Cost of Museum Admission (Must RSVP) \n\nEvent Name:\nLady Washington: America’s First First Lady \nEvent Date:\n2026-02-15 \nWebsite / Ticket Link:\nhttps://www.fraziermuseum.org/calendar/lady-washington-americas-first-first-lady \nLocation:\nFrazier Kentucky History Museum\, 829 W. Main St. \nEvent Host:\nFrazier Kentucky History Museum \n 
URL:https://things-to-lou.com/events/lady-washington-americas-first-first-lady/
LOCATION:Frazier History Museum\, 829 West Main Street\, Louisville\, 40202\, United States
CATEGORIES:Educational,Museum,Public Speakers
ATTACH;FMTTYPE=image/jpeg:https://things-to-lou.com/wp-content/uploads/2026/01/lady-washington_-website-square-e1767858157194.jpg
END:VEVENT
END:VCALENDAR