BEGIN:VCALENDAR
VERSION:2.0
PRODID:-//Things To Lou - ECPv6.15.20//NONSGML v1.0//EN
CALSCALE:GREGORIAN
METHOD:PUBLISH
X-ORIGINAL-URL:https://things-to-lou.com
X-WR-CALDESC:Events for Things To Lou
REFRESH-INTERVAL;VALUE=DURATION:PT1H
X-Robots-Tag:noindex
X-PUBLISHED-TTL:PT1H
BEGIN:VTIMEZONE
TZID:America/New_York
BEGIN:DAYLIGHT
TZOFFSETFROM:-0500
TZOFFSETTO:-0400
TZNAME:EDT
DTSTART:20240310T070000
END:DAYLIGHT
BEGIN:STANDARD
TZOFFSETFROM:-0400
TZOFFSETTO:-0500
TZNAME:EST
DTSTART:20241103T060000
END:STANDARD
BEGIN:DAYLIGHT
TZOFFSETFROM:-0500
TZOFFSETTO:-0400
TZNAME:EDT
DTSTART:20250309T070000
END:DAYLIGHT
BEGIN:STANDARD
TZOFFSETFROM:-0400
TZOFFSETTO:-0500
TZNAME:EST
DTSTART:20251102T060000
END:STANDARD
BEGIN:DAYLIGHT
TZOFFSETFROM:-0500
TZOFFSETTO:-0400
TZNAME:EDT
DTSTART:20260308T070000
END:DAYLIGHT
BEGIN:STANDARD
TZOFFSETFROM:-0400
TZOFFSETTO:-0500
TZNAME:EST
DTSTART:20261101T060000
END:STANDARD
END:VTIMEZONE
BEGIN:VEVENT
DTSTART;TZID=America/New_York:20250810T140000
DTEND;TZID=America/New_York:20250810T150000
DTSTAMP:20260425T120113
CREATED:20250717T052338Z
LAST-MODIFIED:20250717T052338Z
UID:10002770-1754834400-1754838000@things-to-lou.com
SUMMARY:Nurse Lucy Nichols: Unsung Civil War Hero with Eileen Yanoviak | Frazier History Museum
DESCRIPTION:Event Name:\nNurse Lucy Nichols: Unsung Civil War Hero with Eileen Yanoviak \nEvent Date:\nAug 10\, 2025 \nWebsite / Ticket Link:\nhttps://www.fraziermuseum.org/calendar/nurse-lucy-nichols-eileen-yanoviak \nLocation:\nFrazier History Museum \nEvent Host:\nFrazier History Museum \nEvent Description / Other Info:\nLocal author Eileen Yanoviak will discuss her book The Tenacious Nurse Nichols: An Unsung African American Civil War Hero. Lucy Higgs Nichols escaped enslavement to join the Twenty-Third Regiment. \nShe served as a nurse for the Union Army during the American Civil War and was as devoted to the soldiers as they were to her. After the war ended\, she settled in New Albany\, Indiana. \nJoin us Sunday\, August 10\, to hear Lucy’s remarkable story and ask questions of the author\, Eileen Yanoviak\, who will have books for purchase and signing. \nABOUT THE PROGRAM \nNurse Lucy Nichols: Unsung Civil War Hero with Eileen Yanoviak\nSunday\, August 10\nProgram: 2–3 p.m.\nFrazier History Museum\n1st Floor\, Brown-Forman Theatre \nAdmission: Free with cost of museum admission (RSVP required)
URL:https://things-to-lou.com/events/nurse-lucy-nichols-unsung-civil-war-hero-with-eileen-yanoviak-frazier-history-museum/
LOCATION:Frazier History Museum\, 829 West Main Street\, Louisville\, 40202\, United States
CATEGORIES:Educational,Literary Event / Book-Signing,Museum,Public Speakers
END:VEVENT
END:VCALENDAR