BEGIN:VCALENDAR
VERSION:2.0
PRODID:-//Things To Lou - ECPv6.15.20//NONSGML v1.0//EN
CALSCALE:GREGORIAN
METHOD:PUBLISH
X-ORIGINAL-URL:https://things-to-lou.com
X-WR-CALDESC:Events for Things To Lou
REFRESH-INTERVAL;VALUE=DURATION:PT1H
X-Robots-Tag:noindex
X-PUBLISHED-TTL:PT1H
BEGIN:VTIMEZONE
TZID:America/New_York
BEGIN:DAYLIGHT
TZOFFSETFROM:-0500
TZOFFSETTO:-0400
TZNAME:EDT
DTSTART:20250309T070000
END:DAYLIGHT
BEGIN:STANDARD
TZOFFSETFROM:-0400
TZOFFSETTO:-0500
TZNAME:EST
DTSTART:20251102T060000
END:STANDARD
BEGIN:DAYLIGHT
TZOFFSETFROM:-0500
TZOFFSETTO:-0400
TZNAME:EDT
DTSTART:20260308T070000
END:DAYLIGHT
BEGIN:STANDARD
TZOFFSETFROM:-0400
TZOFFSETTO:-0500
TZNAME:EST
DTSTART:20261101T060000
END:STANDARD
BEGIN:DAYLIGHT
TZOFFSETFROM:-0500
TZOFFSETTO:-0400
TZNAME:EDT
DTSTART:20270314T070000
END:DAYLIGHT
BEGIN:STANDARD
TZOFFSETFROM:-0400
TZOFFSETTO:-0500
TZNAME:EST
DTSTART:20271107T060000
END:STANDARD
END:VTIMEZONE
BEGIN:VEVENT
DTSTART;TZID=America/New_York:20260314T100000
DTEND;TZID=America/New_York:20260314T140000
DTSTAMP:20260419T110551
CREATED:20260305T073841Z
LAST-MODIFIED:20260310T203201Z
UID:10004738-1773482400-1773496800@things-to-lou.com
SUMMARY:Pursuit of Happiness Free Family Day | Frazier
DESCRIPTION:Join us for a FREE Family Day celebrating happiness and what happiness means to us personally\, inspired by the Frazier’s America50 exhibition Pursuit of Happiness! \nExperience the Pursuit of Happiness exhibition firsthand\, as you and your families explore and discover the stories of thirteen historical figures who lived during 1776 when the Declaration of Independence was signed. \nWith admission to the event\, you and your family can engage in a series of hands-on crafts and activities provided by the Frazier’s Education team. \nYou can participate in museum-wide scavenger hunts\, take guided tours\, and meet various vendors. You can witness the many wonders of Kentucky and the happiness it brings to both residents and travelers during a screening of KentuckyShow! in our Brown-Forman Theatre. \nPlus\, you can explore all three floors of museum exhibitions\, including Aflora and Davis Jewelers’ Love & Marriage! Admission is FREE from 10 a.m. to 2 p.m. We’ll see you there! \nABOUT THE PROGRAM\n\nPursuit of Happiness Free Family Day\nSaturday\, March 14\, 2026\nFrazier Kentucky History Museum\n10 a.m.–2 p.m.\n\nAdmission: Free (from 10 to 2)!
URL:https://things-to-lou.com/events/pursuit-of-happiness-family-day-frazier/
LOCATION:Frazier History Museum\, 829 West Main Street\, Louisville\, 40202\, United States
CATEGORIES:Educational,Family & Children,Museum
ATTACH;FMTTYPE=image/png:https://things-to-lou.com/wp-content/uploads/2026/03/poh-family-day-square-e1772695715382.png
END:VEVENT
END:VCALENDAR