BEGIN:VCALENDAR
VERSION:2.0
PRODID:-//Things To Lou - ECPv6.15.20//NONSGML v1.0//EN
CALSCALE:GREGORIAN
METHOD:PUBLISH
X-ORIGINAL-URL:https://things-to-lou.com
X-WR-CALDESC:Events for Things To Lou
REFRESH-INTERVAL;VALUE=DURATION:PT1H
X-Robots-Tag:noindex
X-PUBLISHED-TTL:PT1H
BEGIN:VTIMEZONE
TZID:America/New_York
BEGIN:DAYLIGHT
TZOFFSETFROM:-0500
TZOFFSETTO:-0400
TZNAME:EDT
DTSTART:20250309T070000
END:DAYLIGHT
BEGIN:STANDARD
TZOFFSETFROM:-0400
TZOFFSETTO:-0500
TZNAME:EST
DTSTART:20251102T060000
END:STANDARD
BEGIN:DAYLIGHT
TZOFFSETFROM:-0500
TZOFFSETTO:-0400
TZNAME:EDT
DTSTART:20260308T070000
END:DAYLIGHT
BEGIN:STANDARD
TZOFFSETFROM:-0400
TZOFFSETTO:-0500
TZNAME:EST
DTSTART:20261101T060000
END:STANDARD
BEGIN:DAYLIGHT
TZOFFSETFROM:-0500
TZOFFSETTO:-0400
TZNAME:EDT
DTSTART:20270314T070000
END:DAYLIGHT
BEGIN:STANDARD
TZOFFSETFROM:-0400
TZOFFSETTO:-0500
TZNAME:EST
DTSTART:20271107T060000
END:STANDARD
END:VTIMEZONE
BEGIN:VEVENT
DTSTART;TZID=America/New_York:20260710T083000
DTEND;TZID=America/New_York:20260710T160000
DTSTAMP:20260419T211759
CREATED:20260210T055841Z
LAST-MODIFIED:20260210T055841Z
UID:10004684-1783672200-1783699200@things-to-lou.com
SUMMARY:Camp Frazier: Pursuit of Happiness: America’s 250th
DESCRIPTION:What are the things that make you happy? Themed around America’s 250th anniversary of Independence\, tour all three of the Frazier’s new temporary exhibitions—Pursuit of Happiness\, I Too Am a Kentuckian\, and Revolutionary Threads—during this week-long Summer Camp. \nLearn about the amazing lives of American colonists as they declared their independence from Great Britain! \nABOUT THE CAMP\nCamp Frazier: Pursuit of Happiness: America’s 250th\nMonday\, July 6–Friday\, July 10\nFrazier Kentucky History Museum \nTime:\n\nDrop-off: 8:45–9:30 a.m.\nPickup: 3:30–4 p.m.\n\nAges:\n\nOpen to Kids in Grades Rising 1–6\n\nCost:\n\n$295/week\n($265/week for members)\n(ask about our sibling discount!)
URL:https://things-to-lou.com/events/camp-frazier-pursuit-of-happiness-americas-250th/2026-07-10/
LOCATION:Frazier History Museum\, 829 West Main Street\, Louisville\, 40202\, United States
CATEGORIES:Educational,Family & Children,Museum
ATTACH;FMTTYPE=image/jpeg:https://things-to-lou.com/wp-content/uploads/2026/02/2026-7-6-10-camp-frazier-pursuit-of-happiness-e1770703067741.jpg
END:VEVENT
END:VCALENDAR