BEGIN:VCALENDAR
VERSION:2.0
PRODID:-//Things To Lou - ECPv6.15.20//NONSGML v1.0//EN
CALSCALE:GREGORIAN
METHOD:PUBLISH
X-ORIGINAL-URL:https://things-to-lou.com
X-WR-CALDESC:Events for Things To Lou
REFRESH-INTERVAL;VALUE=DURATION:PT1H
X-Robots-Tag:noindex
X-PUBLISHED-TTL:PT1H
BEGIN:VTIMEZONE
TZID:America/New_York
BEGIN:DAYLIGHT
TZOFFSETFROM:-0500
TZOFFSETTO:-0400
TZNAME:EDT
DTSTART:20250309T070000
END:DAYLIGHT
BEGIN:STANDARD
TZOFFSETFROM:-0400
TZOFFSETTO:-0500
TZNAME:EST
DTSTART:20251102T060000
END:STANDARD
BEGIN:DAYLIGHT
TZOFFSETFROM:-0500
TZOFFSETTO:-0400
TZNAME:EDT
DTSTART:20260308T070000
END:DAYLIGHT
BEGIN:STANDARD
TZOFFSETFROM:-0400
TZOFFSETTO:-0500
TZNAME:EST
DTSTART:20261101T060000
END:STANDARD
BEGIN:DAYLIGHT
TZOFFSETFROM:-0500
TZOFFSETTO:-0400
TZNAME:EDT
DTSTART:20270314T070000
END:DAYLIGHT
BEGIN:STANDARD
TZOFFSETFROM:-0400
TZOFFSETTO:-0500
TZNAME:EST
DTSTART:20271107T060000
END:STANDARD
END:VTIMEZONE
BEGIN:VEVENT
DTSTART;TZID=America/New_York:20260722T083000
DTEND;TZID=America/New_York:20260722T160000
DTSTAMP:20260420T024502
CREATED:20260210T060942Z
LAST-MODIFIED:20260210T060942Z
UID:10004692-1784709000-1784736000@things-to-lou.com
SUMMARY:Camp Frazier: The Museum\, the Myth\, the Legend
DESCRIPTION:Brace yourself for some history mysteries! \nIn this exciting week-long Summer Camp\, learn all about local legends\, discover the history behind some of the world’s most famous myths\, and embark on a journey around the museum! \n\nABOUT THE CAMP\nCamp Frazier: The Museum\, the Myth\, the Legend\nMonday\, July 20–Friday\, July 24\nFrazier Kentucky History Museum \nTime:\n\nDrop-off: 8:45–9:30 a.m.\nPickup: 3:30–4 p.m.\n\nAges:\n\nOpen to Kids in Grades Rising 1–6\n\nCost:\n\n$295/week\n($265/week for members)\n(ask about our sibling discount!)
URL:https://things-to-lou.com/events/camp-frazier-the-museum-the-myth-the-legend-2/2026-07-22/
LOCATION:Frazier History Museum\, 829 West Main Street\, Louisville\, 40202\, United States
CATEGORIES:Educational,Family & Children,Museum
ATTACH;FMTTYPE=image/jpeg:https://things-to-lou.com/wp-content/uploads/2026/02/2026-7-20-24-camp-frazier-museum-myth-legend-e1770703792172.jpg
END:VEVENT
BEGIN:VEVENT
DTSTART;TZID=America/New_York:20260723T083000
DTEND;TZID=America/New_York:20260723T160000
DTSTAMP:20260420T024502
CREATED:20260210T060942Z
LAST-MODIFIED:20260210T060942Z
UID:10004693-1784795400-1784822400@things-to-lou.com
SUMMARY:Camp Frazier: The Museum\, the Myth\, the Legend
DESCRIPTION:Brace yourself for some history mysteries! \nIn this exciting week-long Summer Camp\, learn all about local legends\, discover the history behind some of the world’s most famous myths\, and embark on a journey around the museum! \n\nABOUT THE CAMP\nCamp Frazier: The Museum\, the Myth\, the Legend\nMonday\, July 20–Friday\, July 24\nFrazier Kentucky History Museum \nTime:\n\nDrop-off: 8:45–9:30 a.m.\nPickup: 3:30–4 p.m.\n\nAges:\n\nOpen to Kids in Grades Rising 1–6\n\nCost:\n\n$295/week\n($265/week for members)\n(ask about our sibling discount!)
URL:https://things-to-lou.com/events/camp-frazier-the-museum-the-myth-the-legend-2/2026-07-23/
LOCATION:Frazier History Museum\, 829 West Main Street\, Louisville\, 40202\, United States
CATEGORIES:Educational,Family & Children,Museum
ATTACH;FMTTYPE=image/jpeg:https://things-to-lou.com/wp-content/uploads/2026/02/2026-7-20-24-camp-frazier-museum-myth-legend-e1770703792172.jpg
END:VEVENT
BEGIN:VEVENT
DTSTART;TZID=America/New_York:20260724T083000
DTEND;TZID=America/New_York:20260724T160000
DTSTAMP:20260420T024502
CREATED:20260210T060942Z
LAST-MODIFIED:20260210T060942Z
UID:10004694-1784881800-1784908800@things-to-lou.com
SUMMARY:Camp Frazier: The Museum\, the Myth\, the Legend
DESCRIPTION:Brace yourself for some history mysteries! \nIn this exciting week-long Summer Camp\, learn all about local legends\, discover the history behind some of the world’s most famous myths\, and embark on a journey around the museum! \n\nABOUT THE CAMP\nCamp Frazier: The Museum\, the Myth\, the Legend\nMonday\, July 20–Friday\, July 24\nFrazier Kentucky History Museum \nTime:\n\nDrop-off: 8:45–9:30 a.m.\nPickup: 3:30–4 p.m.\n\nAges:\n\nOpen to Kids in Grades Rising 1–6\n\nCost:\n\n$295/week\n($265/week for members)\n(ask about our sibling discount!)
URL:https://things-to-lou.com/events/camp-frazier-the-museum-the-myth-the-legend-2/2026-07-24/
LOCATION:Frazier History Museum\, 829 West Main Street\, Louisville\, 40202\, United States
CATEGORIES:Educational,Family & Children,Museum
ATTACH;FMTTYPE=image/jpeg:https://things-to-lou.com/wp-content/uploads/2026/02/2026-7-20-24-camp-frazier-museum-myth-legend-e1770703792172.jpg
END:VEVENT
BEGIN:VEVENT
DTSTART;TZID=America/New_York:20260727T083000
DTEND;TZID=America/New_York:20260727T160000
DTSTAMP:20260420T024502
CREATED:20260210T062024Z
LAST-MODIFIED:20260210T062024Z
UID:10004702-1785141000-1785168000@things-to-lou.com
SUMMARY:Camp Frazier: Across the Universe: The Fandom Awaits!
DESCRIPTION:Strap in and prepare to traverse the universe! \nIn this pay-by-day week of camp\, each day we will explore a different world within pop culture’s most iconic fictional works\, including KPop Demon Hunters\, Marvel Comics\, and Harry Potter! \n\nABOUT THE CAMP\nCamp Frazier: Across the Universe: The Fandom Awaits!\nMonday\, July 27–Friday\, July 31\nFrazier Kentucky History Museum \nTime:\n\nDrop-off: 8:45–9:30 a.m.\nPickup: 3:30–4 p.m.\n\nAges:\n\nOpen to Kids in Grades Rising 1–6\n\nCost: \n\n$65/day\n($55/day for members)\n(ask about our sibling discount!)
URL:https://things-to-lou.com/events/camp-frazier-across-the-universe-the-fandom-awaits/2026-07-27/
LOCATION:Frazier History Museum\, 829 West Main Street\, Louisville\, 40202\, United States
CATEGORIES:Family & Children,Museum
ATTACH;FMTTYPE=image/jpeg:https://things-to-lou.com/wp-content/uploads/2026/02/2026-7-27-31-camp-frazier-across-the-universe-e1770704637984.jpg
END:VEVENT
BEGIN:VEVENT
DTSTART;TZID=America/New_York:20260728T083000
DTEND;TZID=America/New_York:20260728T160000
DTSTAMP:20260420T024502
CREATED:20260210T062024Z
LAST-MODIFIED:20260210T062024Z
UID:10004703-1785227400-1785254400@things-to-lou.com
SUMMARY:Camp Frazier: Across the Universe: The Fandom Awaits!
DESCRIPTION:Strap in and prepare to traverse the universe! \nIn this pay-by-day week of camp\, each day we will explore a different world within pop culture’s most iconic fictional works\, including KPop Demon Hunters\, Marvel Comics\, and Harry Potter! \n\nABOUT THE CAMP\nCamp Frazier: Across the Universe: The Fandom Awaits!\nMonday\, July 27–Friday\, July 31\nFrazier Kentucky History Museum \nTime:\n\nDrop-off: 8:45–9:30 a.m.\nPickup: 3:30–4 p.m.\n\nAges:\n\nOpen to Kids in Grades Rising 1–6\n\nCost: \n\n$65/day\n($55/day for members)\n(ask about our sibling discount!)
URL:https://things-to-lou.com/events/camp-frazier-across-the-universe-the-fandom-awaits/2026-07-28/
LOCATION:Frazier History Museum\, 829 West Main Street\, Louisville\, 40202\, United States
CATEGORIES:Family & Children,Museum
ATTACH;FMTTYPE=image/jpeg:https://things-to-lou.com/wp-content/uploads/2026/02/2026-7-27-31-camp-frazier-across-the-universe-e1770704637984.jpg
END:VEVENT
BEGIN:VEVENT
DTSTART;TZID=America/New_York:20260729T083000
DTEND;TZID=America/New_York:20260729T160000
DTSTAMP:20260420T024502
CREATED:20260210T062024Z
LAST-MODIFIED:20260210T062024Z
UID:10004704-1785313800-1785340800@things-to-lou.com
SUMMARY:Camp Frazier: Across the Universe: The Fandom Awaits!
DESCRIPTION:Strap in and prepare to traverse the universe! \nIn this pay-by-day week of camp\, each day we will explore a different world within pop culture’s most iconic fictional works\, including KPop Demon Hunters\, Marvel Comics\, and Harry Potter! \n\nABOUT THE CAMP\nCamp Frazier: Across the Universe: The Fandom Awaits!\nMonday\, July 27–Friday\, July 31\nFrazier Kentucky History Museum \nTime:\n\nDrop-off: 8:45–9:30 a.m.\nPickup: 3:30–4 p.m.\n\nAges:\n\nOpen to Kids in Grades Rising 1–6\n\nCost: \n\n$65/day\n($55/day for members)\n(ask about our sibling discount!)
URL:https://things-to-lou.com/events/camp-frazier-across-the-universe-the-fandom-awaits/2026-07-29/
LOCATION:Frazier History Museum\, 829 West Main Street\, Louisville\, 40202\, United States
CATEGORIES:Family & Children,Museum
ATTACH;FMTTYPE=image/jpeg:https://things-to-lou.com/wp-content/uploads/2026/02/2026-7-27-31-camp-frazier-across-the-universe-e1770704637984.jpg
END:VEVENT
BEGIN:VEVENT
DTSTART;TZID=America/New_York:20260730T083000
DTEND;TZID=America/New_York:20260730T160000
DTSTAMP:20260420T024502
CREATED:20260210T062024Z
LAST-MODIFIED:20260210T062024Z
UID:10004705-1785400200-1785427200@things-to-lou.com
SUMMARY:Camp Frazier: Across the Universe: The Fandom Awaits!
DESCRIPTION:Strap in and prepare to traverse the universe! \nIn this pay-by-day week of camp\, each day we will explore a different world within pop culture’s most iconic fictional works\, including KPop Demon Hunters\, Marvel Comics\, and Harry Potter! \n\nABOUT THE CAMP\nCamp Frazier: Across the Universe: The Fandom Awaits!\nMonday\, July 27–Friday\, July 31\nFrazier Kentucky History Museum \nTime:\n\nDrop-off: 8:45–9:30 a.m.\nPickup: 3:30–4 p.m.\n\nAges:\n\nOpen to Kids in Grades Rising 1–6\n\nCost: \n\n$65/day\n($55/day for members)\n(ask about our sibling discount!)
URL:https://things-to-lou.com/events/camp-frazier-across-the-universe-the-fandom-awaits/2026-07-30/
LOCATION:Frazier History Museum\, 829 West Main Street\, Louisville\, 40202\, United States
CATEGORIES:Family & Children,Museum
ATTACH;FMTTYPE=image/jpeg:https://things-to-lou.com/wp-content/uploads/2026/02/2026-7-27-31-camp-frazier-across-the-universe-e1770704637984.jpg
END:VEVENT
BEGIN:VEVENT
DTSTART;TZID=America/New_York:20260731T083000
DTEND;TZID=America/New_York:20260731T160000
DTSTAMP:20260420T024502
CREATED:20260210T062024Z
LAST-MODIFIED:20260210T062024Z
UID:10004706-1785486600-1785513600@things-to-lou.com
SUMMARY:Camp Frazier: Across the Universe: The Fandom Awaits!
DESCRIPTION:Strap in and prepare to traverse the universe! \nIn this pay-by-day week of camp\, each day we will explore a different world within pop culture’s most iconic fictional works\, including KPop Demon Hunters\, Marvel Comics\, and Harry Potter! \n\nABOUT THE CAMP\nCamp Frazier: Across the Universe: The Fandom Awaits!\nMonday\, July 27–Friday\, July 31\nFrazier Kentucky History Museum \nTime:\n\nDrop-off: 8:45–9:30 a.m.\nPickup: 3:30–4 p.m.\n\nAges:\n\nOpen to Kids in Grades Rising 1–6\n\nCost: \n\n$65/day\n($55/day for members)\n(ask about our sibling discount!)
URL:https://things-to-lou.com/events/camp-frazier-across-the-universe-the-fandom-awaits/2026-07-31/
LOCATION:Frazier History Museum\, 829 West Main Street\, Louisville\, 40202\, United States
CATEGORIES:Family & Children,Museum
ATTACH;FMTTYPE=image/jpeg:https://things-to-lou.com/wp-content/uploads/2026/02/2026-7-27-31-camp-frazier-across-the-universe-e1770704637984.jpg
END:VEVENT
BEGIN:VEVENT
DTSTART;TZID=America/New_York:20260801T160000
DTEND;TZID=America/New_York:20260801T200000
DTSTAMP:20260420T024502
CREATED:20260403T161409Z
LAST-MODIFIED:20260403T161409Z
UID:10004979-1785600000-1785614400@things-to-lou.com
SUMMARY:2026 Frazier Summer Beer Fest
DESCRIPTION:Celebrate America250 at the sixth annual Frazier Summer Beer Fest! \nFeaturing over 250 specialty beers\, food\, live music\, and Kentucky pride spilling over with each tasting. \nABOUT FRAZIER SUMMER BEER FEST\n2026 Frazier Summer Beer Fest Saturday\, August 1\, 2026 \n\nVIP Admission\, 4–8 p.m.\nGeneral Admission\, 5–8 p.m.\n\nFrazier Kentucky History Museum\, 829 West Main Street Louisville\, KY 40202 \nTICKETS\n\nEarly Bird\, March 16–April 6 at 11:59 p.m.: $80 (VIP)\, $40 (GA)\nGeneral Sale\, Starts April 7: $90 (VIP)\, $50 (GA)\nDesignated Driver Ticket: $10\n\nDETAILS\nThis year’s beer fest will again take place in front of the museum\, on Main Street between Eighth and Ninth Streets; and on the side of the museum\, on Ninth Street between Main and Washington Streets. \nVIP ticketholders will get access to the museum\, including: indoor bathrooms and air conditioning\, vendors pouring exclusive VIP beers\, three floors of museum exhibitions to explore\, and the Frazier’s Gateway Garden\, which extends from Main to Washington Streets on the east side of the building. \nTraffic will be rerouted so the festival can occupy the whole block. \nON TAP\nThis year\, in honor of America250\, we will have about 250 specialty beers—many of which will be available exclusively to festivalgoers who purchased VIP Admission. On tap will be a wide variety of craft and specialty beers: over 80 local\, regional\, and out-of-state breweries will be represented. In addition to the selection of standard craft and specialty beers\, festivalgoers will have access to a selection of NA beers\, gluten-free/gluten-reduced beers\, low-calorie IPAs\, hard ciders\, and spiked seltzers. \nMUSIC\nOld Lou’s Ragtime Band will play jazz\, Dixieland\, and swing numbers. The four-piece rock band the Bourbonauts will perform as well! \nVIP TICKETS\nA VIP Ticket gets you: \n\nEarly access\nIndoor access to museum exhibitions\nIndoor bathrooms and air conditioning!\nAccess to the Frazier’s Gateway Garden and exclusive additional beers\n\nMORE INFO\nLearn more at fraziermuseum.org/beer-fest \n 
URL:https://things-to-lou.com/events/2026-frazier-summer-beer-fest/
LOCATION:Frazier History Museum\, 829 West Main Street\, Louisville\, 40202\, United States
CATEGORIES:Beer / Brewery,Block Party / Community Festival,Food & Drink
ATTACH;FMTTYPE=image/jpeg:https://things-to-lou.com/wp-content/uploads/2026/04/beer-fest-2026-fare-harbor-image-e1775232863869.jpg
END:VEVENT
END:VCALENDAR