BEGIN:VCALENDAR
VERSION:2.0
PRODID:-//Things To Lou - ECPv6.15.20//NONSGML v1.0//EN
CALSCALE:GREGORIAN
METHOD:PUBLISH
X-WR-CALNAME:Things To Lou
X-ORIGINAL-URL:https://things-to-lou.com
X-WR-CALDESC:Events for Things To Lou
REFRESH-INTERVAL;VALUE=DURATION:PT1H
X-Robots-Tag:noindex
X-PUBLISHED-TTL:PT1H
BEGIN:VTIMEZONE
TZID:America/New_York
BEGIN:DAYLIGHT
TZOFFSETFROM:-0500
TZOFFSETTO:-0400
TZNAME:EDT
DTSTART:20250309T070000
END:DAYLIGHT
BEGIN:STANDARD
TZOFFSETFROM:-0400
TZOFFSETTO:-0500
TZNAME:EST
DTSTART:20251102T060000
END:STANDARD
BEGIN:DAYLIGHT
TZOFFSETFROM:-0500
TZOFFSETTO:-0400
TZNAME:EDT
DTSTART:20260308T070000
END:DAYLIGHT
BEGIN:STANDARD
TZOFFSETFROM:-0400
TZOFFSETTO:-0500
TZNAME:EST
DTSTART:20261101T060000
END:STANDARD
BEGIN:DAYLIGHT
TZOFFSETFROM:-0500
TZOFFSETTO:-0400
TZNAME:EDT
DTSTART:20270314T070000
END:DAYLIGHT
BEGIN:STANDARD
TZOFFSETFROM:-0400
TZOFFSETTO:-0500
TZNAME:EST
DTSTART:20271107T060000
END:STANDARD
END:VTIMEZONE
BEGIN:VEVENT
DTSTART;TZID=America/New_York:20260425T090000
DTEND;TZID=America/New_York:20260425T140000
DTSTAMP:20260419T231844
CREATED:20260416T042300Z
LAST-MODIFIED:20260416T042300Z
UID:10005029-1777107600-1777125600@things-to-lou.com
SUMMARY:Derby Jazz Brunch at High Stakes Rooftop
DESCRIPTION:Derby season in Louisville just hits different—especially when you’re brunching above NuLu. \nJoin us at High Stakes Rooftop\, located on the 6th floor of the Tempo by Hilton\, for a Derby-themed Jazz Brunch that feels like a true locals’ tradition. \nKick back with skyline views and a laid-back brunch vibe that blends Derby charm with NuLu style. \nSip on classic Derby cocktails\, enjoy elevated brunch favorites\, and settle in for a Sunday that’s all about good music\, great drinks\, and even better company. \n\nBrunch: 9 AM – 2 PM\nLive Jazz: 11 AM – 2 PM\n\nThink mint juleps in hand\, jazz in the air\, and the city buzzing below. Whether you’re meeting friends\, showing off your Derby hat\, or just soaking up the atmosphere\, High Stakes Rooftop is the place to brunch before the big race energy takes over the city. \n🎷 Live Jazz\n🥂 Derby-Inspired Cocktails\n🍳 Rooftop Brunch\n🌇 NuLu Views \nGrab your crew\, dress a little Derby\, and make brunch plans that feel quintessentially Louisville. Reservations strongly advised.
URL:https://things-to-lou.com/events/derby-jazz-brunch-at-high-stakes-rooftop/
LOCATION:High Stakes Rooftop Grill\, 710 E Jefferson St\, Louisville\, KY\, 40202\, United States
CATEGORIES:Derby,Food & Drink
ATTACH;FMTTYPE=image/png:https://things-to-lou.com/wp-content/uploads/2026/04/aaaaaaaaaaaaaaaaaaaaaaaaaaaaaaaaaaaaaaaa-e1776314663366.png
END:VEVENT
BEGIN:VEVENT
DTSTART;TZID=America/New_York:20260613T193000
DTEND;TZID=America/New_York:20260613T210000
DTSTAMP:20260419T231844
CREATED:20260408T212348Z
LAST-MODIFIED:20260408T212414Z
UID:10004999-1781379000-1781384400@things-to-lou.com
SUMMARY:Marcus Click performance | Billboard-charting saxophonist
DESCRIPTION:A night of smooth jazz\, soulful grooves\, and unforgettable live saxophone. \n\nBillboard-charting saxophonist\, Marcus Click\, Live! Chart-topping hits\, soulful sax\, and a high-energy smooth jazz experience. \nAn evening of smooth jazz with billboard recording artist and saxophonist\, Marcus Click! Marcus Click\, a Louisville\, Kentucky native\, dedicated 13 years of his early adulthood to serving in the U.S. Navy\, where he developed a passion for the alto saxophone and contemporary jazz. Encouraged by the late saxophonist George Howard\, along with Mel Holder\, Nelson Rangell\, and Najee\, he began pursuing his professional music journey. \nDuring this time\, Marcus deepened his love for jazz by listening to and learning from legendary artists such as Grover Washington Jr.\, David Sanborn\, and Kirk Whalum\, among others. Reflecting on one pivotal moment\, Marcus recalls\, “I became truly inspired by a phone call from the late saxophonist George Howard—a conversation I’ll never forget.” \nIn an unexpected turn during his musical journey\, Marcus found himself performing with Rebbie Jackson during her show in Las Vegas. That moment affirmed that his life was being directed toward a career in music. \nThroughout his journey\, Marcus has received encouragement from renowned percussionist Sheila E.\, as well as fellow saxophonists Nelson Rangell and Najee. He also credits his saxophone mentors Joe Yorio (who toured with Peabo Bryson) and Mel Holder\, a Grammy and Stellar Award–nominated artist and producer\, for helping shape his musical path. \nIn 2023\, Marcus released his breakout CD Brand New Day\, which peaked at #37 on the SmoothJazz.com Top 100 Chart. His single “Higher Ground” reached #8 on the inaugural SmoothJazz.com Top 100 Streaming Chart\, further establishing his presence in the contemporary jazz scene. \nIn 2025\, Click received the InterContinental Music Award (ICMA) for Instrumentalist of the Year for his performance on “Higher Ground\,” produced by Mel Holder. He will release his next single\, Gratitude\, on March 27\, 2026—a smooth\, radio-ready track produced by Grammy-\, Stellar-\, and Dove Award–nominated producer Mel Holder. \nStay connected with Marcus through his website\, and be sure to subscribe and follow him on social media to stay updated on new music releases and upcoming performance dates. \n  \n***description from Eventbrite event listing \nMore info on Instagram \n 
URL:https://things-to-lou.com/events/marcus-click-performance-billboard-charting-saxophonist/
LOCATION:Sugar Ray’s\, 2523 W Broadway\, Louisville\, KY\, 40211\, United States
CATEGORIES:Music
END:VEVENT
END:VCALENDAR