BEGIN:VCALENDAR
VERSION:2.0
PRODID:-//Things To Lou - ECPv6.15.20//NONSGML v1.0//EN
CALSCALE:GREGORIAN
METHOD:PUBLISH
X-ORIGINAL-URL:https://things-to-lou.com
X-WR-CALDESC:Events for Things To Lou
REFRESH-INTERVAL;VALUE=DURATION:PT1H
X-Robots-Tag:noindex
X-PUBLISHED-TTL:PT1H
BEGIN:VTIMEZONE
TZID:America/New_York
BEGIN:DAYLIGHT
TZOFFSETFROM:-0500
TZOFFSETTO:-0400
TZNAME:EDT
DTSTART:20250309T070000
END:DAYLIGHT
BEGIN:STANDARD
TZOFFSETFROM:-0400
TZOFFSETTO:-0500
TZNAME:EST
DTSTART:20251102T060000
END:STANDARD
BEGIN:DAYLIGHT
TZOFFSETFROM:-0500
TZOFFSETTO:-0400
TZNAME:EDT
DTSTART:20260308T070000
END:DAYLIGHT
BEGIN:STANDARD
TZOFFSETFROM:-0400
TZOFFSETTO:-0500
TZNAME:EST
DTSTART:20261101T060000
END:STANDARD
BEGIN:DAYLIGHT
TZOFFSETFROM:-0500
TZOFFSETTO:-0400
TZNAME:EDT
DTSTART:20270314T070000
END:DAYLIGHT
BEGIN:STANDARD
TZOFFSETFROM:-0400
TZOFFSETTO:-0500
TZNAME:EST
DTSTART:20271107T060000
END:STANDARD
END:VTIMEZONE
BEGIN:VEVENT
DTSTART;TZID=America/New_York:20260521T090000
DTEND;TZID=America/New_York:20260521T100000
DTSTAMP:20260419T104657
CREATED:20260416T032818Z
LAST-MODIFIED:20260416T032818Z
UID:10005000-1779354000-1779357600@things-to-lou.com
SUMMARY:Morning Coffee with LIBA at Louisville Public Media
DESCRIPTION:Join us for a casual and productive morning of networking! Our monthly “Morning Coffee with LIBA” series brings together Louisville’s independent business community. \nEach month\, a different partner member business will generously host this event\, giving them a chance to showcase their unique space and services. Grab a fresh cup of coffee\, enjoy some delicious pastries\, and make valuable connections with like-minded individuals and entrepreneurs in a relaxed atmosphere before your workday begins. \nWhether you’re a long-time member or new to the community\, this is the perfect way to connect and learn more about supporting local. \nThis month we will be gathering at Louisville Public Media. Coffee and pastries will be provided by LPM. \nHope to see you there! \n\nHosting Morning Coffee with LIBA is a benefit of being a LIBA Partner Member. \n\nWhen: 21 May 2026\, 9:00 AM – 10:00 AM \nLocation:  Louisville Public Media – 619 S. 4th Street\, Louisville\, KY 40202 \nRegistration: Free Attendance for LIBA Members
URL:https://things-to-lou.com/events/morning-coffee-with-liba-at-louisville-public-media/
LOCATION:KY
CATEGORIES:Coffee,Professional Networking
END:VEVENT
BEGIN:VEVENT
DTSTART;TZID=America/New_York:20260531T120000
DTEND;TZID=America/New_York:20260531T180000
DTSTAMP:20260419T104657
CREATED:20260403T145718Z
LAST-MODIFIED:20260403T145718Z
UID:10004973-1780228800-1780250400@things-to-lou.com
SUMMARY:2026 Buy Local Fair
DESCRIPTION:The Louisville Independent Business Alliance (LIBA) will host the annual Buy Local Fair on Sunday\, May 31st from 12:00pm-6:00pm at the Lynn Family Stadium Fan Zone. \nThe event will include more than 100 booths from local retailers\, organizations\, and artists\, as well as food and libations. \nAdmission is free; stadium parking in the Purple Lot is $10 a carload with a portion supporting LIBA. \nCarpooling encouraged and bicycle parking is free. \nFor more information\, visit keeplouisvilleweird.com/buylocalfair. \n 
URL:https://things-to-lou.com/events/2026-buy-local-fair/
LOCATION:Lynn Family Stadium\, 350 Adams St\, Louisville\, KY\, 40206
CATEGORIES:Market,Shopping
ATTACH;FMTTYPE=image/jpeg:https://things-to-lou.com/wp-content/uploads/2026/04/blf-2025-1-e1775218062101.jpg
END:VEVENT
BEGIN:VEVENT
DTSTART;TZID=America/New_York:20260531T120000
DTEND;TZID=America/New_York:20260531T180000
DTSTAMP:20260419T104657
CREATED:20260416T033006Z
LAST-MODIFIED:20260416T033006Z
UID:10005001-1780228800-1780250400@things-to-lou.com
SUMMARY:Buy Local Fair | LIBA
DESCRIPTION:
URL:https://things-to-lou.com/events/buy-local-fair-liba/
LOCATION:Lynn Family Stadium\, 350 Adams St\, Louisville\, KY\, 40206
CATEGORIES:Local Culture,Market,Professional Networking
END:VEVENT
END:VCALENDAR