BEGIN:VCALENDAR
VERSION:2.0
PRODID:-//Things To Lou - ECPv6.15.20//NONSGML v1.0//EN
CALSCALE:GREGORIAN
METHOD:PUBLISH
X-ORIGINAL-URL:https://things-to-lou.com
X-WR-CALDESC:Events for Things To Lou
REFRESH-INTERVAL;VALUE=DURATION:PT1H
X-Robots-Tag:noindex
X-PUBLISHED-TTL:PT1H
BEGIN:VTIMEZONE
TZID:America/New_York
BEGIN:DAYLIGHT
TZOFFSETFROM:-0500
TZOFFSETTO:-0400
TZNAME:EDT
DTSTART:20240310T070000
END:DAYLIGHT
BEGIN:STANDARD
TZOFFSETFROM:-0400
TZOFFSETTO:-0500
TZNAME:EST
DTSTART:20241103T060000
END:STANDARD
BEGIN:DAYLIGHT
TZOFFSETFROM:-0500
TZOFFSETTO:-0400
TZNAME:EDT
DTSTART:20250309T070000
END:DAYLIGHT
BEGIN:STANDARD
TZOFFSETFROM:-0400
TZOFFSETTO:-0500
TZNAME:EST
DTSTART:20251102T060000
END:STANDARD
BEGIN:DAYLIGHT
TZOFFSETFROM:-0500
TZOFFSETTO:-0400
TZNAME:EDT
DTSTART:20260308T070000
END:DAYLIGHT
BEGIN:STANDARD
TZOFFSETFROM:-0400
TZOFFSETTO:-0500
TZNAME:EST
DTSTART:20261101T060000
END:STANDARD
END:VTIMEZONE
BEGIN:VEVENT
DTSTART;TZID=America/New_York:20251002T183000
DTEND;TZID=America/New_York:20251002T220000
DTSTAMP:20260425T220129
CREATED:20250912T200658Z
LAST-MODIFIED:20250915T164408Z
UID:10003022-1759429800-1759442400@things-to-lou.com
SUMMARY:An Evening with The Bill Frisell Trio
DESCRIPTION:An Evening with The Bill Frisell Trio at Whiskey Thief Louisville \nTime/Date: Thursday\, October 2\, 6:30 PM doors\, 8 PM music \nLocation: Whiskey Thief Louisville – 610 Nanny Goat Strut\, Louisville \nThis is a rare opportunity to experience one of jazz’s most innovative and iconic guitarists in an intimate setting \nGET TICKETS HERE
URL:https://things-to-lou.com/events/an-evening-with-the-bill-frisell-trio/
LOCATION:Whiskey Thief Distilling Co — Louisville\, 610 Nanny Goat Strut\, Louisville\, KY\, 40202\, United States
CATEGORIES:Bourbon,Music
ATTACH;FMTTYPE=image/jpeg:https://things-to-lou.com/wp-content/uploads/2025/09/IMG_8685-e1757954399981.jpeg
END:VEVENT
BEGIN:VEVENT
DTSTART;TZID=America/New_York:20251004T160000
DTEND;TZID=America/New_York:20251004T170000
DTSTAMP:20260425T220129
CREATED:20250924T160611Z
LAST-MODIFIED:20250924T160631Z
UID:10003041-1759593600-1759597200@things-to-lou.com
SUMMARY:Lydia Burrell: in-store performance / album release at Guestroom Records
DESCRIPTION:Excited to finally share something that’s been sitting patiently for years\, the next release on This Man Records. \nOutside with Lacey is a stripped-down Lydia Burrell album with the incredible Lacey Guthrie\, recorded back in 2019 and finally seeing the light of day. \nWe’ll celebrate with an in-store performance at Guestroom Records Louisville on October 4 at 4PM. \nPreorder the vinyl here:  https://www.thismanrecords.com/product/lydia-burrell-outside-with-lacey \n  \n***description from Facebook post
URL:https://things-to-lou.com/events/lydia-burrell-in-store-performance-album-release-at-guestroom-records/
LOCATION:Guestroom Records\, 1806 Frankfort Ave\, Louisville\, KY\, 40206\, United States
CATEGORIES:Music
END:VEVENT
BEGIN:VEVENT
DTSTART;TZID=America/New_York:20251004T210000
DTEND;TZID=America/New_York:20251004T233000
DTSTAMP:20260425T220129
CREATED:20250912T203326Z
LAST-MODIFIED:20250912T203326Z
UID:10003029-1759611600-1759620600@things-to-lou.com
SUMMARY:Emo Nite
DESCRIPTION:Sat\, Oct 4 at 09:00 PM EDT at Headliners Music Hall \nAges 21 & over\nDoors open at 09:00 PM \n\n“Not a band. Not DJ’s. We throw parties for the music we love.” \nWhat started as an impromptu party at a small dive bar in Los Angeles has now turned into a recurring community driven event in over 50 cities internationally. Emo Nite creates a space for people to passionately sing along to their favorite emo/pop-punk songs\, forge new friendships\, and be unapologetically themselves. \n$1 per ticket transaction sponsors Emo Nite Gives A F*ck. Donations are allocated for worthwhile organizations focusing on: \n· Mental Health\n· Harm Reduction\n· Children & Families\n· Poverty & Homelessness\n· Disenfranchised Communities\n· Terminal Illness
URL:https://things-to-lou.com/events/emo-nite/
LOCATION:Headliners Music Hall\, 1386 Lexington Road\, Louisville\, KY\, 40206\, United States
CATEGORIES:Music
END:VEVENT
BEGIN:VEVENT
DTSTART;TZID=America/New_York:20251011T200000
DTEND;TZID=America/New_York:20251011T220000
DTSTAMP:20260425T220129
CREATED:20250930T072717Z
LAST-MODIFIED:20250930T072830Z
UID:10003053-1760212800-1760220000@things-to-lou.com
SUMMARY:"The Witcher" in Concert
DESCRIPTION:🗡️⚔️ The Witcher in Concert comes to The Louisville Palace on Saturday\, October 11 to celebrate 10 years of The Witcher 3: Wild Hunt 🎶✨ \nExperience the epic music live! \n\nABOUT THE CONCERT\nA one-of-a-kind live event that transforms the lasting legacy and emotional storytelling of The Witcher 3: Wild Hunt into an immersive concert — coming to cities around the world. \nAN IMMERSIVE WITCHER CONCERT EXPERIENCE\nExperience an innovative blend of cutting-edge visuals & gameplay from The Witcher 3: Wild Hunt combined with a stirring orchestral performance. Featuring an immersive emotional tour through the game’s story brought to life with traditional and modern instruments\, The Witcher in Concert promises to be unforgettable. \nOFFICIAL SOUNDTRACK PERFORMED LIVE\nThe original soundtrack composed by Marcin Przybyłowicz\, Mikołaj Stroiński\, Piotr Musiał\, and folk band Percival Schuttenbach — and arranged under Przybyłowicz’s supervision just for this occasion — is bolstered by a professional orchestra and the support of co-composers Percival\, recreating each stirring track as envisioned by CD PROJEKT RED. \nA JOURNEY THROUGH A BELOVED STORY\nFrom the opening strains of “The Trail” to the heart-pounding “…Steel for Humans”\, Geralt of Rivia’s journey across the war-torn Northern Kingdoms is a sonic marvel to hear for the first time or the hundredth. \nEPIC WORLD TOUR\nJoin us as we bring this immersive concert to audiences across the globe. Explore the announced locations below and book your tickets today \nWhat can I expect from The Witcher in Concert?\nBlending together captivating visuals and The Witcher 3: Wild Hunt’s soundtrack arranged just for this occasion\, The Witcher in Concert is an immersive experience perfect for those looking to relive the game or anyone looking for an engaging live concert. \nWhat will I see on the stage?\nThroughout the tour\, an ensemble of 14 musicians — including select members of Percival Schuttenbach\, the score’s co-composers — will perform a special arrangement of the game’s soundtrack prepared under the supervision of co-composer Marcin Przybyłowicz. \nThe music will be accompanied by a visual layer prepared by CD PROJEKT RED team to make the experience as entrancing and immersive as possible. Every single frame of the video scene has been prepared to perfectly fit the music and the story it tells. \n  \n***description from The Witcher website \nDetails:\nSat Oct 11\, 2025 ▪︎ 8PM \nThe Witcher in Concert \nThe Louisville Palace
URL:https://things-to-lou.com/events/the-witcher-in-concert/
LOCATION:Louisville Palace\, 625 S 4th St\, Louisville\, KY\, 40202\, United States
CATEGORIES:Fandom,Music
END:VEVENT
BEGIN:VEVENT
DTSTART;TZID=America/New_York:20251015T170000
DTEND;TZID=America/New_York:20251015T210000
DTSTAMP:20260425T220129
CREATED:20251008T063548Z
LAST-MODIFIED:20251008T063548Z
UID:10003068-1760547600-1760562000@things-to-lou.com
SUMMARY:Monster Mash 2025! at High Stakes Rooftop
DESCRIPTION:Event Name:\nMonster Mash 2025! \nEvent Date:\n2025-10-15 \nWebsite / Ticket Link:\nhttps://www.opentable.com/booking/experiences-availability?rid=1361749&restref=1361749&experienceId=537233&utm_source=external&utm_medium=referral&utm_campaign=shared \nLocation:\n710 E Jefferson St\, Louisville\, KY 40202 \nEvent Host:\nHigh Stakes Rooftop Grill \nEvent Description / Other Info:\n🎃 2nd annual Monster Mash at High Stakes Rooftop 🎃 \nGet ready for a frightfully fun evening high above Louisville! On Wednesday\, October 15th\, 5–9 PM\, the Tin Pan Alley Cats will bring the rooftop alive with spooky swing and monster mash-ups starting at 6pm\, all set against breathtaking views of the city skyline. \nJoin the ghoulish gathering for: \n👻 Live monster tunes & toe-tapping beats\n🧛‍♀️ A hair-raising costume contest with prizes\n🎨 Pumpkin painting to show off your creepy creativity\n🍴 Themed small bites that are devilishly delicious\n🍹 Wickedly good cocktails to sip under the moonlight\n…and other eerie surprises lurking in the shadows! \nCostumes encouraged. Fun guaranteed. Spooks optional.
URL:https://things-to-lou.com/events/monster-mash-2025-at-high-stakes-rooftop/
LOCATION:High Stakes Rooftop Grill\, 710 E Jefferson St\, Louisville\, KY\, 40202\, United States
CATEGORIES:Food & Drink,Music
ATTACH;FMTTYPE=image/png:https://things-to-lou.com/wp-content/uploads/2025/10/screenshot-2025-10-05-at-10.13.05-pm-e1759905363415.png
END:VEVENT
BEGIN:VEVENT
DTSTART;TZID=America/New_York:20251017T190000
DTEND;TZID=America/New_York:20251017T220000
DTSTAMP:20260425T220129
CREATED:20251013T141350Z
LAST-MODIFIED:20251013T141350Z
UID:10003090-1760727600-1760738400@things-to-lou.com
SUMMARY:Atomic Groove Machine Rocks Captain's Quarters
DESCRIPTION:Event Name:\nAtomic Groove Machine Rocks Captain’s Quarters \nEvent Date:\n2025-10-17 \nWebsite / Ticket Link:\nhttp://www.atomicgroovemachine.com \nLocation:\nCaptains Quarters Riverside Grille \, 5700 Captains Quarters Rd. Louisville\, KY \nEvent Host:\nCaptains Quarters Riverside Grille \nEvent Description / Other Info:\nLive Music
URL:https://things-to-lou.com/events/atomic-groove-machine-rocks-captains-quarters/
LOCATION:Captains Quarters Riverside Grille\, 5700 Captains Quarters Rd\, Prospect\, KY\, 40059\, United States
CATEGORIES:Music
ATTACH;FMTTYPE=image/jpeg:https://things-to-lou.com/wp-content/uploads/2025/10/screenshot_12-10-2025_1519_www.facebook.com_-1-e1760364978985.jpeg
END:VEVENT
BEGIN:VEVENT
DTSTART;TZID=America/New_York:20251018T090000
DTEND;TZID=America/New_York:20251018T140000
DTSTAMP:20260425T220129
CREATED:20251008T063109Z
LAST-MODIFIED:20251008T063109Z
UID:10003067-1760778000-1760796000@things-to-lou.com
SUMMARY:Jazz Brunch at High Stakes Rooftop Grill
DESCRIPTION:Event Name:\nJazz Brunch at High Stakes Rooftop Grill \nEvent Date:\n2025-10-18 \nWebsite / Ticket Link:\nhttps://www.opentable.com/booking/experiences-availability?rid=1361749&restref=1361749&experienceId=494685&utm_source=external&utm_medium=referral&utm_campaign=shared \nLocation:\n710 E Jefferson St\, Louisville\, KY 40202 \nEvent Host:\nHigh Stakes Rooftop Grill \nEvent Description / Other Info:\nSavor a sophisticated Jazz Brunch at High Stakes Rooftop\, featuring soulful live performances by the talented local artist Carly Johnson. \nEnjoy breathtaking city views as you indulge in delicious food and sip on our exceptional handcrafted cocktails. \nWhether relaxing with friends or celebrating a special occasion\, this brunch offers a perfect blend of great music\, stunning scenery\, and delectable eats in an elevated setting. \n\nBrunch is 9am to 2pm\nlive music from 11am-2pm\nreservations strongly advised.
URL:https://things-to-lou.com/events/jazz-brunch-at-high-stakes-rooftop-grill/
LOCATION:High Stakes Rooftop Grill\, 710 E Jefferson St\, Louisville\, KY\, 40202\, United States
CATEGORIES:Food & Drink,Music
ATTACH;FMTTYPE=image/png:https://things-to-lou.com/wp-content/uploads/2025/10/screenshot-2025-07-03-at-9.44.36-pm-e1759905087799.png
END:VEVENT
BEGIN:VEVENT
DTSTART;TZID=America/New_York:20251018T170000
DTEND;TZID=America/New_York:20251018T200000
DTSTAMP:20260425T220129
CREATED:20250910T030937Z
LAST-MODIFIED:20250910T030937Z
UID:10002951-1760806800-1760817600@things-to-lou.com
SUMMARY:Sofar Sounds concert (Downtown - Museum)
DESCRIPTION:At this show\, you’ll get up close and personal with artists\, meet like-minded music fans\, and experience a cool\, local space in an entirely new way. \nNOTE — check out this Instagram video of a recent Sofar Sounds concert we went to! \nSaturday\, October 18 \n\nDoors open – 5:00 PM\nShow starts – 6:00 PM\n\nDowntown \nAddress revealed 36 hours before \nLate arrivals may be held at door until set break \n\nEvent details \n\nDuration: Up to 3 hours\nAddress reveal: You’ll receive the street address via email or text about 36 hours before the show. For same day purchases\, you’ll receive an email or text within 15 minutes of placing your order.\n\n  \nAlcohol for purchase \n\nThis venue has drinks (alcoholic and non-alcoholic) available for purchase.\n\n  \nYou cannot bring your own food \n\nThis venue does not permit attendees to bring any food to the show. If you need to bring food for medical or religious reasons\, please reach out to our team so we can make appropriate accommodations.\n\n  \nUsually floor seating: cushions welcome \n\nIf we don’t have the full seating information for the venue\, you can assume that the show will be mostly floor seating. You can bring cushions or blankets to make yourself more comfortable. If you have an accessibility need\, please reach out in advance and we can try to make arrangements to provide seats.\n\n  \nIndoor show \n\nThis show takes place indoors.\n\n  \nMuseum \n\nOur shows are hosted in unique spaces and hidden gems around the city.\n\n  \nAccessibility information \n\nThis space is not wheelchair accessible.\nFor more details on how we can assist you\, check out this helpful article.\nIf you have an accessibility need\, please get in touch either before or immediately after booking tickets so we can work with you to accommodate any requests.\n\n  \nAdditional information \n\nFree public parking is available near this venue.\n\n  \n***description from event website
URL:https://things-to-lou.com/events/sofar-sounds-concert-downtown-museum/
LOCATION:Secret Location
CATEGORIES:Music
END:VEVENT
BEGIN:VEVENT
DTSTART;TZID=America/New_York:20251018T180000
DTEND;TZID=America/New_York:20251018T200000
DTSTAMP:20260425T220129
CREATED:20250818T143249Z
LAST-MODIFIED:20250818T143249Z
UID:10002906-1760810400-1760817600@things-to-lou.com
SUMMARY:Sofar Sounds: Secret Concert - Downtown
DESCRIPTION:At this show\, you’ll get up close and personal with artists\, meet like-minded music fans\, and experience a cool\, local space in an entirely new way. \nSaturday\, October 18 \nDoors open – 5:00 PM \nShow starts – 6:00 PM \n\nDowntown \nAddress revealed 36 hours before \nLate arrivals may be held at door until set break \nDuration: Up to 3 hours \nAddress reveal: You’ll receive the street address via email or text about 36 hours before the show. For same day purchases\, you’ll receive an email or text within 15 minutes of placing your order. \nAlcohol for purchase \nThis venue has drinks (alcoholic and non-alcoholic) available for purchase. \nYou cannot bring your own food \nThis venue does not permit attendees to bring any food to the show. If you need to bring food for medical or religious reasons\, please reach out to our team so we can make appropriate accommodations. \nUsually floor seating: cushions welcome \nIf we don’t have the full seating information for the venue\, you can assume that the show will be mostly floor seating. You can bring cushions or blankets to make yourself more comfortable. If you have an accessibility need\, please reach out in advance and we can try to make arrangements to provide seats. \nIndoor show \nThis show takes place indoors. \nMuseum \nOur shows are hosted in unique spaces and hidden gems around the city. \nAccessibility information \nThis space is not wheelchair accessible. \nFor more details on how we can assist you\, check out this helpful article. \nIf you have an accessibility need\, please get in touch either before or immediately after booking tickets so we can work with you to accommodate any requests. \nAdditional information \nFree public parking is available near this venue. \n  \n***description from website
URL:https://things-to-lou.com/events/sofar-sounds-secret-concert-downtown/
LOCATION:Secret Location
CATEGORIES:Music
END:VEVENT
BEGIN:VEVENT
DTSTART;TZID=America/New_York:20251018T210000
DTEND;TZID=America/New_York:20251019T010000
DTSTAMP:20260425T220129
CREATED:20250910T002505Z
LAST-MODIFIED:20250910T002619Z
UID:10002944-1760821200-1760835600@things-to-lou.com
SUMMARY:CarniVille Vol.2 An Evening of Mysterious Masquerade
DESCRIPTION:Event Name:\nCarniVille \nEvent Date:\n2025-10-18 \nWebsite / Ticket Link:\nhttps://www.universe.com/events/carniville-vol2-an-evening-of-mysterious-masquerade-tickets-SRV940 \nLocation:\nThe Louisville Palace\, 624 \nHost:\nA John Fogle Joint \nEvent Description / Other Info:\n“Louisville’s Exclusive Night of Mystery\, Masks & Music” \nDon’t you dare miss the Masquerade Ball to end ALL Masquerades! CarniVille Vol. 2 returns at the Louisville Palace this year! It all goes down Saturday\, October 18th\, 2025 from 9pm-1am! Live music by V-Groove\, Special Performances by Tiffaney Nesbeth\, Tesia Mae White! \nDJ K Karm on sound control\, Special Performance by Maria Jade\, special appearences by Apollonia Llewellyn from Great Britain\, Maria Carla Cadotte\, Phoebe Samba Dance Team Dance Company\, Plus\, lots of surprises you must see to believe! \nMust be 30 & Over to attend this sophisticated affair! Cashless Bar with major credit/debit cards accepted! We have several ticket options to fit your individual needs. \nhttps://www.universe.com/events/carniville-vol2-an-evening-of-mysterious-masquerade-tickets-SRV940
URL:https://things-to-lou.com/events/carniville-vol-2-an-evening-of-mysterious-masquerade-2/
LOCATION:Louisville Palace\, 625 S 4th St\, Louisville\, KY\, 40202\, United States
CATEGORIES:Galas,Music,Nightlife
END:VEVENT
BEGIN:VEVENT
DTSTART;TZID=America/New_York:20251018T210000
DTEND;TZID=America/New_York:20251019T010000
DTSTAMP:20260425T220129
CREATED:20250930T071933Z
LAST-MODIFIED:20250930T071933Z
UID:10003052-1760821200-1760835600@things-to-lou.com
SUMMARY:CarniVille Vol.2 An Evening of Mysterious Masquerade
DESCRIPTION:Think MET GALA KY STYLE with a twist!\nThis is a ticketed event and tickets WILL NOT be sold at the door!!! \nCarniVille Vol.2 INTERNATIONAL is truly “An Evening of Mysterious Masquerade!” Must be 30 & Over to attend this enchanting & luxurious event that will transport you into a world of intrigue & allure. \nJoin us on Saturday\, October 18th\, 2025\, from 9:00 PM – 1:00AM at The Historic Louisville Palace Theatre for an unforgettable evening filled with moonlit vibes & hidden identities. This event promises to be a night of enchantment\, where you can indulge in the thrill of not knowing who is behind each mask. \nDress to the impress in your most alluring attire and don’t forget to mask yourself to add to the intrigue of the evening! Let your imagination run wild as you mingle with other guests\, each adorned in their own unique disguise. \nWe strongly encourage creative and unique concept designs. Masks are a requirement for entry\, no exceptions will be made. Don’t miss out on this extraordinary experience! Get ready to indulge in a night of mystery & elegance\, in the fabulous Louisville Palace for an atmosphere that exudes luxury. \nTicket price includes: admission to Masquerade Ball\, live music by Louisville’s very own ultimate cover band V-Groove\, Special Performances by Pixie Pistola\, Special Performance by Internationally known Carnival Dancers Phoebe Vecchioni and Phoebe Samba Dance Team\, Special Appearance by Great Britain’s Super Model Apollonia Llewellyn\, Special Performance by Tesia Mae\, Special Performance by Lola Dee Licious\, DJ K Karm on sound control\, a living work of art by renowned MUA Richard Gore! Plus\, lots of surprises! \nCashless Bar! Major credit cards and debit cards accepted for beverage purchases. \n  \nWhat To Expect\nUpon arrival at The Louisville Palace\, guests will be greeted by staff and there will be a brief security check. \nAll guests will be asked to remove items from their pockets and walk through a metal detector. All bags are subject to security search \nEveryone must have pre purchased a ticket to enter the venue- no exceptions. \nEveryone must have a valid ID to enter the venue – no exceptions. \nMasquerade Masks will be required to be removed prior to entry (if applicable) for security and identification purposes. \nTwo VIP Sections are available with expedited entry. \nVIP Tier 1 and VIP Tier 2! click on “Get Tickets” for additional information. \nBe advised that the Venue charges a $3 Venue ticketing fee and Universe charges a $3 Universe fee\, they have already been added to the price points for your convenience. \n  \nProhibited Items:\nPlease note the following are not allowed at the Louisville Palace: \nWeapons of any kind – including but not limited to pocketknives\, guns\, mace\, pepper spray\, or anything deemed to be used as a weapon by security staff.\nOutside food or drink\nNo alcohol or illegal drugs (vaping is not allowed inside the venue)\nAnimals (except service animals)\nAny other item that may pose a threat to other guests\, staff\, or performers. \nThis is a ticketed event and tickets WILL NOT be sold at the door!!! No refunds will be given! No re-entry allowed! \n***description from website \n\n  \nDon’t you dare miss the Masquerade Ball to end ALL Masquerades! \nCarniVille Vol. 2 returns at the Louisville Palace this year! It all goes down Saturday\, October 18th\, 2025 from 9pm-1am! Live music by V-Groove\, Special Performances by Tiffaney Nesbeth\, Tesia Mae White! \nDJ K Karm on sound control\, Special Performance by Maria Jade\, special appearences by Apollonia Llewellyn from Great Britain\, Maria Carla Cadotte\, Phoebe Samba Dance Team Dance Company\, Plus\, lots of surprises you must see to believe! \nMust be 30 & Over to attend this sophisticated affair! \nCashless Bar with major credit/debit cards accepted! We have several ticket options to fit your individual needs. \n  \nFacebook event \n  \n***description from Facebook event
URL:https://things-to-lou.com/events/carniville-vol-2-an-evening-of-mysterious-masquerade-3/
LOCATION:Louisville Palace\, 625 S 4th St\, Louisville\, KY\, 40202\, United States
CATEGORIES:Dance,Music,Nightlife
END:VEVENT
BEGIN:VEVENT
DTSTART;TZID=America/New_York:20251019T190000
DTEND;TZID=America/New_York:20251019T230000
DTSTAMP:20260425T220129
CREATED:20250925T131602Z
LAST-MODIFIED:20250925T131602Z
UID:10003042-1760900400-1760914800@things-to-lou.com
SUMMARY:Casey Powell / Cowboy Preacher's Club / North by North (CHI) / Couch Cadet
DESCRIPTION:All Ages – $10 adv / $12 dos \n7pm doors – 7:30 music start \nhttps://www.facebook.com/events/1211442143848080 \n07:00 PM – 11:00 PM \nSunday\, October 19th at Mag Bar \nCasey Powell + Cowboy Preacher’s Club + North by North + Couch Cadet \n***description from website \n\nSunday\, October 19th at Mag Bar \nAll Ages\n7pm doors\n7:30 music start\n$10 adv / $12 dos \nFEATURING: \n\nCasey Powell\nCowboy Preacher’s Club\nNorth by North (Chicago Garage/Powerpop)\n\nInsta: https://tinyurl.com/5427j8bp\nSpotify: https://tinyurl.com/5fa5jtum\nBandcamp: https://tinyurl.com/hte47e24\n\n\nCouch Cadet\n\n***description from Facebook event
URL:https://things-to-lou.com/events/casey-powell-cowboy-preachers-club-north-by-north-chi-couch-cadet/
LOCATION:Mag Bar\, 1398 S 2nd St\, Louisville\, KY\, 40208\, United States
CATEGORIES:Music
END:VEVENT
BEGIN:VEVENT
DTSTART;TZID=America/New_York:20251021T000000
DTEND;TZID=America/New_York:20251025T235959
DTSTAMP:20260425T220129
CREATED:20250912T033412Z
LAST-MODIFIED:20250912T033412Z
UID:10003010-1761004800-1761436799@things-to-lou.com
SUMMARY:Songwriters in Paradise Bardstown (multiple dates & locations)
DESCRIPTION:Event Name:\nSongwriters in Paradise Bardstown \nEvent Date:\n2025-10-21 \nWebsite / Ticket Link:\nhttps://www.songwritersinparadise.com/2025-passesbt \nLocation:\nThe Trail Hotel (Multiple venues) \nEvent Host:\nSongwriters in Paradise \nEvent Description / Other Info:\nSongwriters in Paradise (SIP) is a multi-day celebration featuring intimate performances from some of the world’s most acclaimed songwriters and musicians\, paired with world-class cuisine and Kentucky’s finest bourbons. \nHosted across iconic venues like James B. Beam Distillery\, Heaven Hill\, My Old Kentucky Home State Park\, and the new Trail Hotel\, SIP offers a uniquely immersive experience. \nThis year’s lineup includes Eric Paslay\, Kristian Bush\, James Otto\, David Ryan Harris\, Levi Lowrey\, Lauren Jenkins\, Matraca Berg\, Patrick Davis\, Django Walker\, Aaron Raitiere\, and Tyler Reeve—Grammy winners and hitmakers who’ve penned some of the most beloved songs of our time.
URL:https://things-to-lou.com/events/songwriters-in-paradise-bardstown-multiple-dates-locations/
LOCATION:Various
CATEGORIES:Bourbon,Music
ORGANIZER;CN="Songwriters in Paradise (SIP)":MAILTO:ginsberg@bighassle.com
END:VEVENT
BEGIN:VEVENT
DTSTART;TZID=America/New_York:20251023T180000
DTEND;TZID=America/New_York:20251023T210000
DTSTAMP:20260425T220129
CREATED:20251013T150112Z
LAST-MODIFIED:20251013T150112Z
UID:10003092-1761242400-1761253200@things-to-lou.com
SUMMARY:Samples ‘N Sips music trivia
DESCRIPTION:Your favorite music trivia experience is back! Come join us October 23rd for Samples ‘N Sips at @tribectrl! \n@djhonestave on the 1’s and 2’s and @poetickj will have some fire specialty cocktails crafted for us. \nWe will also have @taqueriaeltacofeliz serving some good eats. Definitely don’t want to miss this! \n  \n***description from Instagram post
URL:https://things-to-lou.com/events/samples-n-sips-music-trivia/
LOCATION:TRIBE (private membership lounge)\, 430 S 3rd St\, Louisville\, KY\, 40202\, United States
CATEGORIES:Music,Trivia Event
END:VEVENT
BEGIN:VEVENT
DTSTART;TZID=America/New_York:20251025T173000
DTEND;TZID=America/New_York:20251025T220000
DTSTAMP:20260425T220129
CREATED:20251021T185626Z
LAST-MODIFIED:20251021T185956Z
UID:10003138-1761413400-1761429600@things-to-lou.com
SUMMARY:Whiskey Thief Fest
DESCRIPTION:Join us for an evening of great music\, food\, cocktails\, and\, of course\, the best thieve-your-own bourbons available! \nWHISKEY THIEF FEST IS BACK! ⭐🥃\nTicket price includes a Tour & Tasting\, (tours available early in the evening\, or by request). \n\nMUSIC\nThe lineup includes… \n\nBlue Lick Victory Club\nAbby Hamilton\nThe Galoots\nMichael Cleveland\n\n\nDETAILS\nDATE & TIME: Saturday October 25th\, Doors at 5pm \nLOCATION: 283 Crab Orchard Rd\, Frankfort\, KY \nBuy Tickets Here \n\n*Please note coolers\, tents\, and outside food/drink are not permitted. Our patio furniture is first come first serve\, and we do recommend bringing blankets and chairs for lawn seating (if needed).\n* This is an all-ages event\, however you must be 21+ to consume alcoholic beverages. Children 12 years of age and younger do not need a ticket. See less \nTicket price includes tasting. \n  \n**Description from Facebook event \n 
URL:https://things-to-lou.com/events/whiskey-thief-fest-2/
LOCATION:Whiskey Thief Distilling Co – Frankfort\, 283 Crab Orchard Road\, Frankfort\, KY\, 40601\, United States
CATEGORIES:Block Party / Community Festival,Bourbon,Food & Drink,Music
ATTACH;FMTTYPE=image/png:https://things-to-lou.com/wp-content/uploads/2025/10/WhiskeyThiefFest2025-1-e1761073215635.png
END:VEVENT
BEGIN:VEVENT
DTSTART;TZID=America/New_York:20251030T193000
DTEND;TZID=America/New_York:20251030T220000
DTSTAMP:20260425T220129
CREATED:20250912T202944Z
LAST-MODIFIED:20250912T202944Z
UID:10003027-1761852600-1761861600@things-to-lou.com
SUMMARY:Jeff Tweedy: TWILIGHT OVERRIDE TOUR | w/ Sima Cunningham
DESCRIPTION:Thu\, Oct 30 at 07:30 PM EDT at Headliners Music Hall \nGeneral Admission\n$55.05\n(Includes fees)
URL:https://things-to-lou.com/events/jeff-tweedy-twilight-override-tour-w-sima-cunningham/
LOCATION:Headliners Music Hall\, 1386 Lexington Road\, Louisville\, KY\, 40206\, United States
CATEGORIES:Music
END:VEVENT
END:VCALENDAR