BEGIN:VCALENDAR
VERSION:2.0
PRODID:-//Things To Lou - ECPv6.15.20//NONSGML v1.0//EN
CALSCALE:GREGORIAN
METHOD:PUBLISH
X-ORIGINAL-URL:https://things-to-lou.com
X-WR-CALDESC:Events for Things To Lou
REFRESH-INTERVAL;VALUE=DURATION:PT1H
X-Robots-Tag:noindex
X-PUBLISHED-TTL:PT1H
BEGIN:VTIMEZONE
TZID:America/New_York
BEGIN:DAYLIGHT
TZOFFSETFROM:-0500
TZOFFSETTO:-0400
TZNAME:EDT
DTSTART:20240310T070000
END:DAYLIGHT
BEGIN:STANDARD
TZOFFSETFROM:-0400
TZOFFSETTO:-0500
TZNAME:EST
DTSTART:20241103T060000
END:STANDARD
BEGIN:DAYLIGHT
TZOFFSETFROM:-0500
TZOFFSETTO:-0400
TZNAME:EDT
DTSTART:20250309T070000
END:DAYLIGHT
BEGIN:STANDARD
TZOFFSETFROM:-0400
TZOFFSETTO:-0500
TZNAME:EST
DTSTART:20251102T060000
END:STANDARD
BEGIN:DAYLIGHT
TZOFFSETFROM:-0500
TZOFFSETTO:-0400
TZNAME:EDT
DTSTART:20260308T070000
END:DAYLIGHT
BEGIN:STANDARD
TZOFFSETFROM:-0400
TZOFFSETTO:-0500
TZNAME:EST
DTSTART:20261101T060000
END:STANDARD
END:VTIMEZONE
BEGIN:VEVENT
DTSTART;TZID=America/New_York:20251101T180000
DTEND;TZID=America/New_York:20251101T233000
DTSTAMP:20260425T174628
CREATED:20251013T141024Z
LAST-MODIFIED:20251013T141024Z
UID:10003089-1762020000-1762039800@things-to-lou.com
SUMMARY:Dead Man's Ball (live music\, entertainment\, paranormal)
DESCRIPTION:Event Name:\nDead Man’s Ball at Waverly Hills Sanatorium \nEvent Date:\n2025-11-01 \nWebsite / Ticket Link:\nhttps://lrs102.com/ \nLocation:\nWaverly Hills Sanatorium \nEvent Host:\nLRS102.com \nEvent Description / Other Info:\nLRS102.com presents Dead Man’s Ball being held at the infamous Waverly Hills Sanatorium \nNovember 1st\, gate opens at 6:00pm and music starts at 7:00pm \n5 Local Bands hit the stage inside Waverly Hills\, Bands include: Animal Transit\, Bandshee\, Jefferson Clark\, TVLO\, and Underground Warning \nCostume contest has $500 worth of cash and prizes up for grabs to win!! \nPresent you purchased ticket to Dead Mans Ball at Caufield’s and receive 10% off your costume for the Ball!! \nDrink vendors include West 6th brewery providing beer and cider for the alcohol option. Non-alcohol drinks will be provided by Unbridled Grounds with cold and hot coffee options\, fruit smoothies\, and a specialty spooky concoctions.
URL:https://things-to-lou.com/events/dead-mans-ball-live-music-entertainment-paranormal/
LOCATION:Waverly Hills Sanatorium\, 4400 Paralee Dr\,\, Louisville\, KY\, 40272\, United States
CATEGORIES:Paranormal
ATTACH;FMTTYPE=image/jpeg:https://things-to-lou.com/wp-content/uploads/2025/10/lrs-waverly-flyer-2025_bw-flyer-e1760364987182.jpg
END:VEVENT
BEGIN:VEVENT
DTSTART;TZID=America/New_York:20251101T200000
DTEND;TZID=America/New_York:20251101T233000
DTSTAMP:20260425T174628
CREATED:20251018T030914Z
LAST-MODIFIED:20251018T030914Z
UID:10003117-1762027200-1762039800@things-to-lou.com
SUMMARY:Punk Rock Night All Hallow's Night Bash
DESCRIPTION:Punk Rock Night All Hallow’s Night Bash \n7pm doors \n8pm show \n$10 \nAll events are 21+ and IDs required for entry. \nTickets are General Admission and are available at the door. \nThere is NO item minimum for attending shows\, however we do offer a full bar selection\, mocktails and other non-alcoholic options\, as well a a rotating selection of snacks. \nBe kind\, \nUnwind \n**description from website
URL:https://things-to-lou.com/events/punk-rock-night-all-hallows-night-bash/
LOCATION:Planet Of The Tapes\, 640 Barret Ave\, Louisville\, KY\, 40204\, United States
CATEGORIES:Music
END:VEVENT
BEGIN:VEVENT
DTSTART;TZID=America/New_York:20251101T210000
DTEND;TZID=America/New_York:20251102T030000
DTSTAMP:20260425T174628
CREATED:20251027T193203Z
LAST-MODIFIED:20251027T193203Z
UID:10003148-1762030800-1762052400@things-to-lou.com
SUMMARY:DJ Havok & DJ Moe
DESCRIPTION:No cover. \nWith special guest DJ. \n21+
URL:https://things-to-lou.com/events/dj-havok-dj-moe/
LOCATION:Spinelli’s Downtown\, 574 S 4th St\, Louisville\, KY\, 40202\, United States
CATEGORIES:Music,Nightlife
ATTACH;FMTTYPE=image/jpeg:https://things-to-lou.com/wp-content/uploads/2025/10/acd75c49-0279-49c5-8ab1-0985ab5b2461-e1761592997741.jpg
END:VEVENT
BEGIN:VEVENT
DTSTART;TZID=America/New_York:20251114T190000
DTEND;TZID=America/New_York:20251114T220000
DTSTAMP:20260425T174628
CREATED:20251112T040451Z
LAST-MODIFIED:20251112T040451Z
UID:10003206-1763146800-1763157600@things-to-lou.com
SUMMARY:The Local Honeys w/ Abby Hamilton @ Zbar
DESCRIPTION:The Local Honeys w/ Abby Hamilton \nFriday\, November 14th \n18+ \nDoors 7:00 PM | Show 8:00 PM \nZanzabar – Louisville\, KY \n***description from website
URL:https://things-to-lou.com/events/the-local-honeys-w-abby-hamilton-zbar/
LOCATION:Zanzabar\, 2100 S Preston St\, Louisville\, KY\, 40217\, United States
CATEGORIES:Music
END:VEVENT
BEGIN:VEVENT
DTSTART;TZID=America/New_York:20251115T090000
DTEND;TZID=America/New_York:20251115T140000
DTSTAMP:20260425T174628
CREATED:20251031T023940Z
LAST-MODIFIED:20251031T023940Z
UID:10003152-1763197200-1763215200@things-to-lou.com
SUMMARY:Jazz & Mimosa Brunch!
DESCRIPTION:Event Name:\nJazz & Mimosa Brunch! \nEvent Date:\n2025-11-15 \nWebsite / Ticket Link:\nhttps://www.opentable.com/booking/experiences-availability?rid=1361749&restref=1361749&experienceId=568706&utm_source=external&utm_medium=referral&utm_campaign=shared \nLocation:\n710 E Jefferson St\, Louisville\, KY 40202 \nEvent Host:\nHigh Stakes Rooftop Grill \nEvent Description / Other Info:\nSavor a sophisticated Jazz Brunch at High Stakes Rooftop\, featuring soulful live performances by the talented local artist Carly Johnson. \nEnjoy breathtaking city views as you indulge in delicious food and sip on our exceptional handcrafted mimosa’s. \nWhether relaxing with friends or celebrating a special occasion\, this brunch offers a perfect blend of great music\, stunning scenery\, and delectable eats in an elevated setting.
URL:https://things-to-lou.com/events/jazz-mimosa-brunch/
LOCATION:High Stakes Rooftop Grill\, 710 E Jefferson St\, Louisville\, KY\, 40202\, United States
CATEGORIES:Food & Drink,Music
ATTACH;FMTTYPE=image/png:https://things-to-lou.com/wp-content/uploads/2025/10/screenshot-2025-10-06-at-8.35.32-am-1-1-e1761878447126.png
END:VEVENT
BEGIN:VEVENT
DTSTART;TZID=America/New_York:20251115T190000
DTEND;TZID=America/New_York:20251115T220000
DTSTAMP:20260425T174628
CREATED:20251112T040600Z
LAST-MODIFIED:20251112T040600Z
UID:10003207-1763233200-1763244000@things-to-lou.com
SUMMARY:Shadowgrass @ Zbar
DESCRIPTION:Shadowgrass \nSaturday\, November 15th \n18+ \nDoors 7:00 PM | Show 8:00 PM \nZanzabar – Louisville\, KY \n***description from website
URL:https://things-to-lou.com/events/shadowgrass-zbar/
LOCATION:Zanzabar\, 2100 S Preston St\, Louisville\, KY\, 40217\, United States
CATEGORIES:Music
END:VEVENT
BEGIN:VEVENT
DTSTART;TZID=America/New_York:20251121T190000
DTEND;TZID=America/New_York:20251121T220000
DTSTAMP:20260425T174628
CREATED:20251112T040737Z
LAST-MODIFIED:20251112T040737Z
UID:10003208-1763751600-1763762400@things-to-lou.com
SUMMARY:Cigarettes @ Sunset show
DESCRIPTION:Cigarettes @ Sunset \nSupport TBA \nFriday\, November 21st\n18+ \nDoors 7:00 PM | Show 8:00 PM \nZanzabar – Louisville\, KY \n***description from website
URL:https://things-to-lou.com/events/cigarettes-sunset-show/
LOCATION:Zanzabar\, 2100 S Preston St\, Louisville\, KY\, 40217\, United States
CATEGORIES:Music
END:VEVENT
BEGIN:VEVENT
DTSTART;TZID=America/New_York:20251121T200000
DTEND;TZID=America/New_York:20251121T230000
DTSTAMP:20260425T174628
CREATED:20250912T202746Z
LAST-MODIFIED:20250912T202746Z
UID:10003026-1763755200-1763766000@things-to-lou.com
SUMMARY:Margo Price - Wild At Heart Tour | w/ Rattlesnake Milk
DESCRIPTION:Fri\, Nov 21 at 08:00 PM EST at Headliners Music Hall \nGeneral Admission\n$35.71\n(Includes fees) \nMargo Price Pre-Show Experience\n$150.66\n(Includes fees)
URL:https://things-to-lou.com/events/margo-price-wild-at-heart-tour-w-rattlesnake-milk/
LOCATION:Headliners Music Hall\, 1386 Lexington Road\, Louisville\, KY\, 40206\, United States
CATEGORIES:Music
END:VEVENT
BEGIN:VEVENT
DTSTART;TZID=America/New_York:20251122T200000
DTEND;TZID=America/New_York:20251122T230000
DTSTAMP:20260425T174628
CREATED:20250912T202538Z
LAST-MODIFIED:20250912T202538Z
UID:10003025-1763841600-1763852400@things-to-lou.com
SUMMARY:S.G. Goodman: Planting By The Signs
DESCRIPTION:Sat\, Nov 22 at 08:00 PM EST at Headliners Music Hall
URL:https://things-to-lou.com/events/s-g-goodman-planting-by-the-signs/
LOCATION:Headliners Music Hall\, 1386 Lexington Road\, Louisville\, KY\, 40206\, United States
CATEGORIES:Music
END:VEVENT
END:VCALENDAR