BEGIN:VCALENDAR
VERSION:2.0
PRODID:-//Things To Lou - ECPv6.15.20//NONSGML v1.0//EN
CALSCALE:GREGORIAN
METHOD:PUBLISH
X-ORIGINAL-URL:https://things-to-lou.com
X-WR-CALDESC:Events for Things To Lou
REFRESH-INTERVAL;VALUE=DURATION:PT1H
X-Robots-Tag:noindex
X-PUBLISHED-TTL:PT1H
BEGIN:VTIMEZONE
TZID:America/New_York
BEGIN:DAYLIGHT
TZOFFSETFROM:-0500
TZOFFSETTO:-0400
TZNAME:EDT
DTSTART:20250309T070000
END:DAYLIGHT
BEGIN:STANDARD
TZOFFSETFROM:-0400
TZOFFSETTO:-0500
TZNAME:EST
DTSTART:20251102T060000
END:STANDARD
BEGIN:DAYLIGHT
TZOFFSETFROM:-0500
TZOFFSETTO:-0400
TZNAME:EDT
DTSTART:20260308T070000
END:DAYLIGHT
BEGIN:STANDARD
TZOFFSETFROM:-0400
TZOFFSETTO:-0500
TZNAME:EST
DTSTART:20261101T060000
END:STANDARD
BEGIN:DAYLIGHT
TZOFFSETFROM:-0500
TZOFFSETTO:-0400
TZNAME:EDT
DTSTART:20270314T070000
END:DAYLIGHT
BEGIN:STANDARD
TZOFFSETFROM:-0400
TZOFFSETTO:-0500
TZNAME:EST
DTSTART:20271107T060000
END:STANDARD
END:VTIMEZONE
BEGIN:VEVENT
DTSTART;TZID=America/New_York:20260301T150000
DTEND;TZID=America/New_York:20260301T170000
DTSTAMP:20260419T212938
CREATED:20260214T054035Z
LAST-MODIFIED:20260214T054035Z
UID:10004732-1772377200-1772384400@things-to-lou.com
SUMMARY:Kevin Harris Jazz Trio | Louisville Urban League Benefit Concert
DESCRIPTION:Experience an unforgettable evening of music at the Kentucky Opera Center\, a beautiful and welcoming venue designed to bring the community together through the arts. \nLocated at 708 Magazine Street\, this event offers an open\, vibrant concert atmosphere where everyone is invited to enjoy the performance. \nDonations are welcomed and appreciated\, helping support the Louisville Urban League and its mission to create equity\, opportunity\, and economic mobility in our community. \n\nAbout the Artist\n\nKevin Harris is an internationally recognized jazz pianist and composer known for his soulful sound\, artistic curiosity\, and innovative collaborations.\nRooted in Black Gospel and Afro-Caribbean traditions\, his music weaves together jazz\, classical\, electronic media\, and storytelling to create immersive\, participatory performances that engage both heart and mind. Praised by artists such as Fred Hersch and Terri Lyne Carrington\, Harris’s work explores themes of strength\, love\, and self-awareness.\nA prolific composer and bandleader\, Harris has released six albums and premiered major works including Resonance: A Contemporary Symphonic Reflection Through the Courageous Lens of Steve Biko in South Africa. He is a Yamaha Jazz piano artist and serves on the faculty at Berklee College of Music\, where he coaches ensembles\, teaches piano\, and mentors emerging musicians.
URL:https://things-to-lou.com/events/kevin-harris-jazz-trio-louisville-urban-league-benefit-concert-2/
LOCATION:Kentucky Opera Center for Cultural Health\, 708 Magazine Street\, Louisville\, KY\, 40203\, United States
CATEGORIES:Charity Fundraiser,Music
ATTACH;FMTTYPE=image/png:https://things-to-lou.com/wp-content/uploads/2026/02/mar1-social-media-e1771047662132.png
END:VEVENT
BEGIN:VEVENT
DTSTART;TZID=America/New_York:20260301T190000
DTEND;TZID=America/New_York:20260301T220000
DTSTAMP:20260419T212938
CREATED:20260210T070840Z
LAST-MODIFIED:20260210T070840Z
UID:10004717-1772391600-1772402400@things-to-lou.com
SUMMARY:Laid Back Country Picker
DESCRIPTION:Pretty Good Concerts Presents: Laid Back Country Picker \n18+ \nSunday\, March 01 \n\nDoors: 7 pm\nShow: 8 pm\nTicket: $18.90\nDay Of : $24.9
URL:https://things-to-lou.com/events/laid-back-country-picker/
LOCATION:The Whirling Tiger\, 1335 Story Ave \, KY 40206\, Louisville\, KY\, 40206\, United States
CATEGORIES:Music
END:VEVENT
BEGIN:VEVENT
DTSTART;TZID=America/New_York:20260305T200000
DTEND;TZID=America/New_York:20260305T220000
DTSTAMP:20260419T212938
CREATED:20260109T215713Z
LAST-MODIFIED:20260109T215713Z
UID:10003902-1772740800-1772748000@things-to-lou.com
SUMMARY:ACE HOOD "THE BORN REBEL TOUR"
DESCRIPTION:Thu Mar 5\, 2026 \n8:00PM \nACE HOOD “THE BORN REBEL TOUR”
URL:https://things-to-lou.com/events/ace-hood-the-born-rebel-tour/
LOCATION:Mercury Ballroom\, 611 S 4th St\, Louisville\, KY\, 40202\, United States
CATEGORIES:Music
END:VEVENT
BEGIN:VEVENT
DTSTART;TZID=America/New_York:20260308T190000
DTEND;TZID=America/New_York:20260308T220000
DTSTAMP:20260419T212938
CREATED:20251014T150741Z
LAST-MODIFIED:20251014T150741Z
UID:10003094-1772996400-1773007200@things-to-lou.com
SUMMARY:Dropkick Murphys St. Patricks Day Tour
DESCRIPTION:☘️ JUST ANNOUNCED ☘️ @dropkickmurphys bring their St. Patrick’s Day Tour — FOR THE PEOPLE…IN THE PIT — to @oldforestersparistownhall on March 8 with @theaggrolites and @haywire617! \n🎫 Tickets on sale Friday at 10AM >> link in bio \n***description from Instagram post \n  \nGET TICKETS
URL:https://things-to-lou.com/events/dropkick-murphys-st-patricks-day-tour/
LOCATION:Old Forester’s Paristown Hall\, 724 Brent St\, Louisville\, KY\, 40204\, United States
CATEGORIES:Music
END:VEVENT
BEGIN:VEVENT
DTSTART;TZID=America/New_York:20260308T190000
DTEND;TZID=America/New_York:20260308T220000
DTSTAMP:20260419T212938
CREATED:20260105T081521Z
LAST-MODIFIED:20260105T081521Z
UID:10003789-1772996400-1773007200@things-to-lou.com
SUMMARY:Dropkick Murphys For The People... In the Pit St. Patrick's Day 2026 Tour
DESCRIPTION:Dropkick Murphys proudly remain Boston’s rock ‘n’ roll underdogs turned champions. Since 1996\, the boys have created the kind of music that’s meant to be chanted at last call\, in packed arenas\, and during the fourth quarter\, third period\, or ninth inning of a comeback rally. Their celebrated discography includes four consecutive Billboard top 10 album debuts (Turn Up That Dial\, 11 Short Stories Of Pain & Glory\, Signed and Sealed in Blood\, Going Out In Style)\, along with 2005’s Certified-Gold album The Warrior’s Code featuring the double platinum classic “I’m Shipping Up To Boston.” \nDropkick Murphys’ music has generated half-a-billion streams\, they’ve quietly moved 8 million-plus units worldwide and the band has sold out gigs on multiple continents. \nDropkick Murphys’ new album For The People rises to its moment: an expression of humanity at a time of relentless dehumanization\, a promise of hope in an era fueled by fear-mongering\, a declaration of solidarity in an age of disunion\, a defiant rebuttal to the charlatans and demagogues who seek to divide us for their own power and profit. \n  \n  \n**description from website
URL:https://things-to-lou.com/events/dropkick-murphys-for-the-people-in-the-pit-st-patricks-day-2026-tour/
LOCATION:Old Forester’s Paristown Hall\, 724 Brent St\, Louisville\, KY\, 40204\, United States
CATEGORIES:Music
END:VEVENT
BEGIN:VEVENT
DTSTART;TZID=America/New_York:20260313T200000
DTEND;TZID=America/New_York:20260313T220000
DTSTAMP:20260419T212938
CREATED:20260112T142808Z
LAST-MODIFIED:20260112T142808Z
UID:10003977-1773432000-1773439200@things-to-lou.com
SUMMARY:Hot Like Mars show
DESCRIPTION:Hot Like Mars returns to Mellwood Tavern for an epic night of Funky Jams!
URL:https://things-to-lou.com/events/hot-like-mars-show/
LOCATION:Mellwood Tavern\, 1801 Brownsboro Rd\, Louisville\, KY\, 40206\, United States
CATEGORIES:Music
END:VEVENT
BEGIN:VEVENT
DTSTART;TZID=America/New_York:20260315T190000
DTEND;TZID=America/New_York:20260315T210000
DTSTAMP:20260419T212938
CREATED:20260109T213334Z
LAST-MODIFIED:20260109T213334Z
UID:10003886-1773601200-1773608400@things-to-lou.com
SUMMARY:Pink Talking Fish: A Fusion of Pink Floyd\, Talking Heads and Phish
DESCRIPTION:Pink Talking Fish is a Hybrid Tribute Fusion Act that takes the music from three of the world’s most beloved bands and creates a special treat for fans of the music. \nPink Floyd\, Talking Heads and Phish are all more than just bands… they are Phenomenons. Their creations have artistically inspired people and their mind-blowing live performances have brought people together to form a sense of community around the love for their favorite bands. \nAlthough the music from each act is different\, Pink Talking Fish has discovered that fusing the material together writes an amazing new story. The epic emotion of Pink Floyd… The funky\, danceable layerings of Talking Heads… The multitude of styles\, unique compositional structures and pure fun of​ Phish… to merge these three acts into one gives music lovers an experience like no other. \nPink Talking Fish features Eric Gould on bass\, Richard James/Stephen Learson on keyboards\, Zack Burwick on drums and Cal Kehoe on guitar. This is a band created by musicians who love the music of these iconic bands. Its purpose is to heighten people’s passion for this music by creating something fresh and exciting for fans. \nDiscovering connections is part of the fun: Pink Floyd’s “On The Run” seamlessly fitting in the middle of the composition of Phish’s “You Enjoy Myself”. Perfectly placing Phish’s “Sand” into the groove of Talking Head’s “Slippery People”. Segued collections from all three acts such as Run Like Hell > Making Flippy Floppy > Piper > Run Like Hell or Mike’s Song > Have A Cigar > Once In A Lifetime > Weekapaug Groove. These ideas are the spirit behind Pink Talking Fish. \nThe story is ever evolving. The experience is always thrilling. No two shows are ever the same. \nCome join Pink Talking Fish for the ultimate fusion tribute and celebrate the love of this music in unmatched fashion. \n\nAges 18 and up\nSunday\, March 15\nDoors: 7 pm // Show: 8 pm\n$28.90
URL:https://things-to-lou.com/events/pink-talking-fish-a-fusion-of-pink-floyd-talking-heads-and-phish/
LOCATION:The Whirling Tiger\, 1335 Story Ave \, KY 40206\, Louisville\, KY\, 40206\, United States
CATEGORIES:Music
END:VEVENT
BEGIN:VEVENT
DTSTART;TZID=America/New_York:20260315T200000
DTEND;TZID=America/New_York:20260315T220000
DTSTAMP:20260419T212938
CREATED:20260109T212523Z
LAST-MODIFIED:20260109T212523Z
UID:10003882-1773604800-1773612000@things-to-lou.com
SUMMARY:KPA + Live Nation + 91.9 WFPK Presents Leela James 2BHONEST
DESCRIPTION:
URL:https://things-to-lou.com/events/kpa-live-nation-91-9-wfpk-presents-leela-james-2bhonest/
LOCATION:Old Forester’s Paristown Hall\, 724 Brent St\, Louisville\, KY\, 40204\, United States
CATEGORIES:Music
END:VEVENT
BEGIN:VEVENT
DTSTART;TZID=America/New_York:20260321T200000
DTEND;TZID=America/New_York:20260321T220000
DTSTAMP:20260419T212938
CREATED:20260109T220906Z
LAST-MODIFIED:20260109T221009Z
UID:10003908-1774123200-1774130400@things-to-lou.com
SUMMARY:Dirtwire
DESCRIPTION:
URL:https://things-to-lou.com/events/dirtwire/
LOCATION:Headliners Music Hall\, 1386 Lexington Road\, Louisville\, KY\, 40206\, United States
CATEGORIES:Music
END:VEVENT
BEGIN:VEVENT
DTSTART;TZID=America/New_York:20260322T193000
DTEND;TZID=America/New_York:20260322T220000
DTSTAMP:20260419T212938
CREATED:20260109T212650Z
LAST-MODIFIED:20260109T212650Z
UID:10003883-1774207800-1774216800@things-to-lou.com
SUMMARY:91.9 WFPK Presents moe. | Born To Fly Tour
DESCRIPTION:Thirty-five years ago\, a posse of University of Buffalo-based musician-friends got together to play music. Out of freewheeling sessions bursting with bold\, genre-defying creativity and tongue-in-cheek humor\, a 6-headed monster named moe. emerged. \nDecades later\, moe.’s tireless work ethic\, DIY resourcefulness\, infectious songwriting\, and highly-engaged fanbase—the Famoe.ly—have enabled the sextet to earn a successful career. Yet\, the guys have never rested on their lau-rels as “jam band pioneers.” They average 100 shows per year\, and regularly release vital new music\, including the band’s latest album\, Circle of Giants (ATO)\, its 13th release. \nCircle of Giants was almost all tracked when bassist/vocalist Rob Derhak’s 25-year-old son died tragically\, but it’s no downer. Visceral and vulnerable\, the 10-collection confronts life’s challenges with grace\, humor\, hard-fought wisdom\, and jaw-dropping musicality. Creatively-invigorated by the addition of keyboardist Nate Wilson to the full-time lineup\, moe. has created a milestone album while processing an unfathomable loss. \nmoe. is a brotherhood\, featuring Derhak\, Schnier\, guitarist/vocalist Chuck Garvey\, drummer Vinnie Amico\, percussionist/vibraphonist Jim Loughlin\, and keyboardist Nate Wilson. The six-piece band came up in the primordial pouch of the early jam band scene\, alongside Blues Traveler\, Spin Doctors\, Widespread Panic\, and Phish. \nLauded by American Songwriter for its “mind-bending musicality\,” moe. Is beloved for its sonic adventurousness\, unbridled showmanship\, and its witty and insightful songwriting. NYS Music has said: “moe. has redefined what’s possible within the genre\, leaving a lasting impact and challenging listeners to rethink the limits of musical expression.” \nSince releasing its foundational album\, Fatboy\, in 1992\, moe. has issued a vast and varied series of now-classic records. Select studio album highlights include 1998’s Tin Cans & Car Tires; 2004’s Wormwood; 2007’s The Conch (which reached #1 on Billboard’s “Heatseekers” chart); and 2012’s critically-acclaimed What Happened To The La Las. \n**Description from website
URL:https://things-to-lou.com/events/91-9-wfpk-presents-moe-born-to-fly-tour/
LOCATION:Old Forester’s Paristown Hall\, 724 Brent St\, Louisville\, KY\, 40204\, United States
CATEGORIES:Music
END:VEVENT
BEGIN:VEVENT
DTSTART;TZID=America/New_York:20260327T200000
DTEND;TZID=America/New_York:20260327T223000
DTSTAMP:20260419T212938
CREATED:20260325T191134Z
LAST-MODIFIED:20260325T191246Z
UID:10004764-1774641600-1774650600@things-to-lou.com
SUMMARY:10 Years of Throwback Thursday | punk goes pop
DESCRIPTION:The biggest pop songs you know like you’ve never heard them before. Louder. Darker. High-energy. \nTBT GOES POP is a full-scale 2-hour live show where your favorite pop hits get completely reimagined with edge\, intensity\, and modern rock energy. And for you scene-ior citizens\, don’t worry\, we’ve still got your pop punk/emo bangers covered. \nLast year’s TBT GOES POP sold out\, and if you were there last time\, you already know why. \n\nForest Music Hall\nMarch 27\n8PM – 10:30PM\n$15\n21+\n\nEvent Notice: This performance is independently presented by the performing artist(s). Floyd County Brewing Company and The Enchanted Forest & Music Hall\, also referred as Thirst & Main provide the venue space only and do not produce\, promote\, or present the event. Any admission charges are collected on behalf of the performing artist(s)\, who retain all ticket revenue except for a nominal administrative processing fee. The venue’s primary business is the sale of food and beverages\, and live music is provided as incidental entertainment for guests. \n\n  \n***Featured image on this event listing is property of THROWBACK THURSDAY \n  \n 
URL:https://things-to-lou.com/events/10-years-of-throwback-thursday-punk-goes-pop/
LOCATION:The Enchanted Forest & Music Hall\, 41 W 1st St\, New Albany\, New Albany\, IN\, 47150\, United States
CATEGORIES:Music
ATTACH;FMTTYPE=image/png:https://things-to-lou.com/wp-content/uploads/2026/03/tbt2-e1774466789813.png
END:VEVENT
BEGIN:VEVENT
DTSTART;TZID=America/New_York:20260328T220000
DTEND;TZID=America/New_York:20260328T233000
DTSTAMP:20260419T212938
CREATED:20260325T193201Z
LAST-MODIFIED:20260325T193201Z
UID:10004769-1774735200-1774740600@things-to-lou.com
SUMMARY:K-Pop Bash: Presented by Red Crown Events
DESCRIPTION:K-Pop Bash is making its Louisville debut! Come and dance the night away to the best K-Pop has to offer from artists like BTS\, SEVENTEEN\, ATEEZ\, ITZY\, AESPA and so much more! Featuring Rusty and DJ Sweaty as your DJs for the night! \nGot a request? Let us know via our request form\, we’ll do our best to play your song! \nhttps://forms.gle/cL4mn21hcmLtCZTU7 \n18+ \n***description from website
URL:https://things-to-lou.com/events/k-pop-bash-presented-by-red-crown-events/
LOCATION:Portal + Art Portal\, 1512 PORTLAND AVENUE\, Louisville\, KY\, 40203\, United States
CATEGORIES:Music,Nightlife
ORGANIZER;CN="PORTAL":MAILTO:portal@fifteen-twelve.com
END:VEVENT
BEGIN:VEVENT
DTSTART;TZID=America/New_York:20260329T193000
DTEND;TZID=America/New_York:20260329T220000
DTSTAMP:20260419T212939
CREATED:20260112T145756Z
LAST-MODIFIED:20260112T145756Z
UID:10003989-1774812600-1774821600@things-to-lou.com
SUMMARY:Robert Plant with Saving Grace and Suzi Dian | pres. by 91.9 WFPK
DESCRIPTION:Lineup: Robert Plant\, Saving Grace\, Suzi Dian\, Rosie Flores
URL:https://things-to-lou.com/events/robert-plant-with-saving-grace-and-suzi-dian-pres-by-91-9-wfpk/
LOCATION:Louisville Palace\, 625 S 4th St\, Louisville\, KY\, 40202\, United States
CATEGORIES:Music
END:VEVENT
BEGIN:VEVENT
DTSTART;TZID=America/New_York:20260330T193000
DTEND;TZID=America/New_York:20260330T220000
DTSTAMP:20260419T212939
CREATED:20260109T215417Z
LAST-MODIFIED:20260109T215417Z
UID:10003897-1774899000-1774908000@things-to-lou.com
SUMMARY:Filter - pres by Alt 105.1 | with Finger Eleven and Local H
DESCRIPTION:Mon Mar 30\, 2026 \n7:30PM \nFilter – presented by Alt 105.1 \nwith Finger Eleven and Local H
URL:https://things-to-lou.com/events/filter-pres-by-alt-105-1-with-finger-eleven-and-local-h/
LOCATION:Mercury Ballroom\, 611 S 4th St\, Louisville\, KY\, 40202\, United States
CATEGORIES:Music
END:VEVENT
BEGIN:VEVENT
DTSTART;TZID=America/New_York:20260331T193000
DTEND;TZID=America/New_York:20260331T220000
DTSTAMP:20260419T212939
CREATED:20260109T215448Z
LAST-MODIFIED:20260109T215448Z
UID:10003898-1774985400-1774994400@things-to-lou.com
SUMMARY:GWAR - presented by Alt 105.1
DESCRIPTION:Tue Mar 31\, 2026 \n7:30PM \nGWAR – presented by Alt 105.1
URL:https://things-to-lou.com/events/gwar-presented-by-alt-105-1/
LOCATION:Mercury Ballroom\, 611 S 4th St\, Louisville\, KY\, 40202\, United States
CATEGORIES:Music
END:VEVENT
END:VCALENDAR