BEGIN:VCALENDAR
VERSION:2.0
PRODID:-//Things To Lou - ECPv6.15.20//NONSGML v1.0//EN
CALSCALE:GREGORIAN
METHOD:PUBLISH
X-WR-CALNAME:Things To Lou
X-ORIGINAL-URL:https://things-to-lou.com
X-WR-CALDESC:Events for Things To Lou
REFRESH-INTERVAL;VALUE=DURATION:PT1H
X-Robots-Tag:noindex
X-PUBLISHED-TTL:PT1H
BEGIN:VTIMEZONE
TZID:America/New_York
BEGIN:DAYLIGHT
TZOFFSETFROM:-0500
TZOFFSETTO:-0400
TZNAME:EDT
DTSTART:20240310T070000
END:DAYLIGHT
BEGIN:STANDARD
TZOFFSETFROM:-0400
TZOFFSETTO:-0500
TZNAME:EST
DTSTART:20241103T060000
END:STANDARD
BEGIN:DAYLIGHT
TZOFFSETFROM:-0500
TZOFFSETTO:-0400
TZNAME:EDT
DTSTART:20250309T070000
END:DAYLIGHT
BEGIN:STANDARD
TZOFFSETFROM:-0400
TZOFFSETTO:-0500
TZNAME:EST
DTSTART:20251102T060000
END:STANDARD
BEGIN:DAYLIGHT
TZOFFSETFROM:-0500
TZOFFSETTO:-0400
TZNAME:EDT
DTSTART:20260308T070000
END:DAYLIGHT
BEGIN:STANDARD
TZOFFSETFROM:-0400
TZOFFSETTO:-0500
TZNAME:EST
DTSTART:20261101T060000
END:STANDARD
END:VTIMEZONE
BEGIN:VEVENT
DTSTART;TZID=America/New_York:20251015T170000
DTEND;TZID=America/New_York:20251015T210000
DTSTAMP:20260426T000620
CREATED:20251008T063548Z
LAST-MODIFIED:20251008T063548Z
UID:10003068-1760547600-1760562000@things-to-lou.com
SUMMARY:Monster Mash 2025! at High Stakes Rooftop
DESCRIPTION:Event Name:\nMonster Mash 2025! \nEvent Date:\n2025-10-15 \nWebsite / Ticket Link:\nhttps://www.opentable.com/booking/experiences-availability?rid=1361749&restref=1361749&experienceId=537233&utm_source=external&utm_medium=referral&utm_campaign=shared \nLocation:\n710 E Jefferson St\, Louisville\, KY 40202 \nEvent Host:\nHigh Stakes Rooftop Grill \nEvent Description / Other Info:\n🎃 2nd annual Monster Mash at High Stakes Rooftop 🎃 \nGet ready for a frightfully fun evening high above Louisville! On Wednesday\, October 15th\, 5–9 PM\, the Tin Pan Alley Cats will bring the rooftop alive with spooky swing and monster mash-ups starting at 6pm\, all set against breathtaking views of the city skyline. \nJoin the ghoulish gathering for: \n👻 Live monster tunes & toe-tapping beats\n🧛‍♀️ A hair-raising costume contest with prizes\n🎨 Pumpkin painting to show off your creepy creativity\n🍴 Themed small bites that are devilishly delicious\n🍹 Wickedly good cocktails to sip under the moonlight\n…and other eerie surprises lurking in the shadows! \nCostumes encouraged. Fun guaranteed. Spooks optional.
URL:https://things-to-lou.com/events/monster-mash-2025-at-high-stakes-rooftop/
LOCATION:High Stakes Rooftop Grill\, 710 E Jefferson St\, Louisville\, KY\, 40202\, United States
CATEGORIES:Food & Drink,Music
ATTACH;FMTTYPE=image/png:https://things-to-lou.com/wp-content/uploads/2025/10/screenshot-2025-10-05-at-10.13.05-pm-e1759905363415.png
END:VEVENT
END:VCALENDAR