BEGIN:VCALENDAR
VERSION:2.0
PRODID:-//Things To Lou - ECPv6.15.20//NONSGML v1.0//EN
CALSCALE:GREGORIAN
METHOD:PUBLISH
X-ORIGINAL-URL:https://things-to-lou.com
X-WR-CALDESC:Events for Things To Lou
REFRESH-INTERVAL;VALUE=DURATION:PT1H
X-Robots-Tag:noindex
X-PUBLISHED-TTL:PT1H
BEGIN:VTIMEZONE
TZID:America/New_York
BEGIN:DAYLIGHT
TZOFFSETFROM:-0500
TZOFFSETTO:-0400
TZNAME:EDT
DTSTART:20240310T070000
END:DAYLIGHT
BEGIN:STANDARD
TZOFFSETFROM:-0400
TZOFFSETTO:-0500
TZNAME:EST
DTSTART:20241103T060000
END:STANDARD
BEGIN:DAYLIGHT
TZOFFSETFROM:-0500
TZOFFSETTO:-0400
TZNAME:EDT
DTSTART:20250309T070000
END:DAYLIGHT
BEGIN:STANDARD
TZOFFSETFROM:-0400
TZOFFSETTO:-0500
TZNAME:EST
DTSTART:20251102T060000
END:STANDARD
BEGIN:DAYLIGHT
TZOFFSETFROM:-0500
TZOFFSETTO:-0400
TZNAME:EDT
DTSTART:20260308T070000
END:DAYLIGHT
BEGIN:STANDARD
TZOFFSETFROM:-0400
TZOFFSETTO:-0500
TZNAME:EST
DTSTART:20261101T060000
END:STANDARD
END:VTIMEZONE
BEGIN:VEVENT
DTSTART;TZID=America/New_York:20251205T200000
DTEND;TZID=America/New_York:20251205T230000
DTSTAMP:20260425T155855
CREATED:20251014T171114Z
LAST-MODIFIED:20251014T171114Z
UID:10003104-1764964800-1764975600@things-to-lou.com
SUMMARY:Louisville Loves Nu-Metal
DESCRIPTION:Louisville Loves Nu-Metal \nFri\, Dec 5 at 08:00 PM EST at Headliners Music Hall \nAges 18 & over\nDoors open at\n07:00 PM \nMore info: https://headlinerslouisville.com/events \n\n*2-DAY PASS* Louisville Loves: Nu-Metal & Emo\nDec 5 – 6 at Headliners Music Hall \nGet 2 day pass here \n 
URL:https://things-to-lou.com/events/louisville-loves-nu-metal/
LOCATION:Headliners Music Hall\, 1386 Lexington Road\, Louisville\, KY\, 40206\, United States
CATEGORIES:Music
ORGANIZER;CN="Louisville Loves Emo / Louisville Loves Nu-Metal":MAILTO:louisvillelovesemo@gmail.com
END:VEVENT
BEGIN:VEVENT
DTSTART;TZID=America/New_York:20251205T220000
DTEND;TZID=America/New_York:20251206T000000
DTSTAMP:20260425T155855
CREATED:20251112T040937Z
LAST-MODIFIED:20251112T041108Z
UID:10003209-1764972000-1764979200@things-to-lou.com
SUMMARY:Billy Strings Afterparty: with Hot Brown Smackdown & Mama Said String Band
DESCRIPTION:Billy Strings Afterparty with Hot Brown Smackdown \nw/ Mama Said String Band \nFriday\, December 5th\n18+ \nDoors 10:00 PM | Show 12:00 AM \nZanzabar – Louisville\, KY \n***description from website
URL:https://things-to-lou.com/events/billy-strings-afterparty-with-hot-brown-smackdown-mama-said-string-band/
LOCATION:Zanzabar\, 2100 S Preston St\, Louisville\, KY\, 40217\, United States
CATEGORIES:Music
END:VEVENT
END:VCALENDAR