BEGIN:VCALENDAR
VERSION:2.0
PRODID:-//Things To Lou - ECPv6.15.20//NONSGML v1.0//EN
CALSCALE:GREGORIAN
METHOD:PUBLISH
X-ORIGINAL-URL:https://things-to-lou.com
X-WR-CALDESC:Events for Things To Lou
REFRESH-INTERVAL;VALUE=DURATION:PT1H
X-Robots-Tag:noindex
X-PUBLISHED-TTL:PT1H
BEGIN:VTIMEZONE
TZID:America/New_York
BEGIN:DAYLIGHT
TZOFFSETFROM:-0500
TZOFFSETTO:-0400
TZNAME:EDT
DTSTART:20240310T070000
END:DAYLIGHT
BEGIN:STANDARD
TZOFFSETFROM:-0400
TZOFFSETTO:-0500
TZNAME:EST
DTSTART:20241103T060000
END:STANDARD
BEGIN:DAYLIGHT
TZOFFSETFROM:-0500
TZOFFSETTO:-0400
TZNAME:EDT
DTSTART:20250309T070000
END:DAYLIGHT
BEGIN:STANDARD
TZOFFSETFROM:-0400
TZOFFSETTO:-0500
TZNAME:EST
DTSTART:20251102T060000
END:STANDARD
BEGIN:DAYLIGHT
TZOFFSETFROM:-0500
TZOFFSETTO:-0400
TZNAME:EDT
DTSTART:20260308T070000
END:DAYLIGHT
BEGIN:STANDARD
TZOFFSETFROM:-0400
TZOFFSETTO:-0500
TZNAME:EST
DTSTART:20261101T060000
END:STANDARD
END:VTIMEZONE
BEGIN:VEVENT
DTSTART;TZID=America/New_York:20251206T200000
DTEND;TZID=America/New_York:20251206T220000
DTSTAMP:20260425T222629
CREATED:20251202T070726Z
LAST-MODIFIED:20251202T070726Z
UID:10003264-1765051200-1765058400@things-to-lou.com
SUMMARY:Yung Gravy: Voluptuous Voyage Tour with Pertinence
DESCRIPTION:Only the best things get better with age — wine\, cheddar\, 401ks\, the list goes on. \nIt turns out Yung Gravy gets better with age too. When you think about it\, the name Yung Gravy says a great deal. It’s perpetually youthful\, and it oozes “sauce.” \nAs such\, Yung Gravy uses his own special recipe to bring originality and positivity to make his one-of-a-kind impact on the genre. Gravy flexes his passion for soul music and oldies in his production\, sampling a wide range of musical styles dating from the 1940’s to the present-day. Nostalgic and often-jubilant melodies paired with heavy trap drums form the usual canvas for his signature baritone voice — reminiscent of Barry White. \nShowcasing effortless flows and endlessly quotable lyrics\, Yung Gravy paints something truly unique while clearly having a good time doing so. In the span of six short years\, Gravy has transformed from Soundcloud stalwart to platinum powerhouse. \nTo date\, his accolades include four platinum and five gold singles as well as 10 sold out tours across North America\, Europe\, and Australia. He has collaborated with his self-proclaimed musical heroes\, including Lil Wayne\, Chief Keef\, Juicy J\, T-Pain\, and the late Young Dolph. Gravy became the soundtrack\, and unofficial second mascot\, of the Tampa Bay Lightning\, and was given an honorary Stanley Cup Ring. \nHe starred in a worldwide commercial campaign with Martha Stewart\, and weeks later performed for the VMAs and Jimmy Kimmel Live. Not to mention\, he partnered with Audible\, Venmo\, Samsung and Jimmy John’s for campaigns. Tallying 6 billion streams and selling 5 million units thus far\, he’s notched four entries on the Billboard 200\, two in the Top 30 of the Top R&B/Hip-Hop Albums Chart\, and two on the Top 20 of the Top Album Sales Chart. \nFor all of the swagger and style he exhibited upon his arrival\, he managed to become even smoother since his introduction in 2016. After streams in the billions\, packed venues\, and “side missions” with Martha Stewart\, he decided to lock himself in the studio and load up a plethora of certifiably saucy bangers lined up for release in 2025. \n\nThere will be two VIP ticket options for this event\, ticket descriptions are below: \nVIP Meet & Greet \nGeneral admission ticket for entry\nOne (1) Meet & Greet with Yung Gravy\nOne (1) Photo with Yung Gravy on your phone\nFree piece of exclusive merchandise\nAccess to 10-minute group Q&A with Yung Gravy\nEarly Access to the merchandise table\n* The Meet & Greet experience will start promptly two (2) hours prior to door time. If you arrive any later\, you are at risk of not being admitted to the experience. \nVIP Q&A \nGeneral admission ticket for entry\n10-minute group Q&A with Yung Gravy\nFree piece of exclusive merchandise\n* The Early Entry experience will start promptly one (1) hour prior to door time. If you arrive any later\, you are at risk of not being admitted to the experience. \n\nKentucky Performing Arts Presents Yung Gravy: Voluptuous Voyage Tour with Pertinence \nGeneral Admission\, standing room event. \nPremium tickets include express entry into venue\, access to balcony lounge with private bathroom and full bar service. \n 
URL:https://things-to-lou.com/events/yung-gravy-voluptuous-voyage-tour-with-pertinence/
LOCATION:Old Forester’s Paristown Hall\, 724 Brent St\, Louisville\, KY\, 40204\, United States
CATEGORIES:Music
END:VEVENT
BEGIN:VEVENT
DTSTART;TZID=America/New_York:20251206T200000
DTEND;TZID=America/New_York:20251206T230000
DTSTAMP:20260425T222629
CREATED:20251014T170910Z
LAST-MODIFIED:20251014T170924Z
UID:10003103-1765051200-1765062000@things-to-lou.com
SUMMARY:Louisville Loves Emo
DESCRIPTION:Louisville Loves Emo \nSat\, Dec 6 at 08:00 PM EST at Headliners Music Hall \nAges 18 & over\nDoors open at\n07:00 PM \nMore info: https://headlinerslouisville.com/events \n\n*2-DAY PASS* Louisville Loves: Nu-Metal & Emo\nDec 5 – 6 at Headliners Music Hall \nGet 2 day pass here \n 
URL:https://things-to-lou.com/events/louisville-loves-emo-2/
LOCATION:Headliners Music Hall\, 1386 Lexington Road\, Louisville\, KY\, 40206\, United States
CATEGORIES:Music
ORGANIZER;CN="Louisville Loves Emo / Louisville Loves Nu-Metal":MAILTO:louisvillelovesemo@gmail.com
END:VEVENT
BEGIN:VEVENT
DTSTART;TZID=America/New_York:20251206T220000
DTEND;TZID=America/New_York:20251207T000000
DTSTAMP:20260425T222629
CREATED:20251112T041105Z
LAST-MODIFIED:20251112T041105Z
UID:10003210-1765058400-1765065600@things-to-lou.com
SUMMARY:Billy Strings Afterparty: with Hot Brown Smackdown & the Bibelhauser Brothers
DESCRIPTION:Billy Strings Afterparty with Hot Brown Smackdown w/ the Bibelhauser Brothers \nSaturday\, December 6th \n18+ \nDoors 10:00 PM | Show 12:00 AM \nZanzabar – Louisville\, KY \n***description from website
URL:https://things-to-lou.com/events/billy-strings-afterparty-with-hot-brown-smackdown-the-bibelhauser-brothers/
LOCATION:Zanzabar\, 2100 S Preston St\, Louisville\, KY\, 40217\, United States
CATEGORIES:Music
END:VEVENT
END:VCALENDAR