BEGIN:VCALENDAR
VERSION:2.0
PRODID:-//Things To Lou - ECPv6.15.20//NONSGML v1.0//EN
CALSCALE:GREGORIAN
METHOD:PUBLISH
X-ORIGINAL-URL:https://things-to-lou.com
X-WR-CALDESC:Events for Things To Lou
REFRESH-INTERVAL;VALUE=DURATION:PT1H
X-Robots-Tag:noindex
X-PUBLISHED-TTL:PT1H
BEGIN:VTIMEZONE
TZID:America/New_York
BEGIN:DAYLIGHT
TZOFFSETFROM:-0500
TZOFFSETTO:-0400
TZNAME:EDT
DTSTART:20250309T070000
END:DAYLIGHT
BEGIN:STANDARD
TZOFFSETFROM:-0400
TZOFFSETTO:-0500
TZNAME:EST
DTSTART:20251102T060000
END:STANDARD
BEGIN:DAYLIGHT
TZOFFSETFROM:-0500
TZOFFSETTO:-0400
TZNAME:EDT
DTSTART:20260308T070000
END:DAYLIGHT
BEGIN:STANDARD
TZOFFSETFROM:-0400
TZOFFSETTO:-0500
TZNAME:EST
DTSTART:20261101T060000
END:STANDARD
BEGIN:DAYLIGHT
TZOFFSETFROM:-0500
TZOFFSETTO:-0400
TZNAME:EDT
DTSTART:20270314T070000
END:DAYLIGHT
BEGIN:STANDARD
TZOFFSETFROM:-0400
TZOFFSETTO:-0500
TZNAME:EST
DTSTART:20271107T060000
END:STANDARD
END:VTIMEZONE
BEGIN:VEVENT
DTSTART;TZID=America/New_York:20260124T090000
DTEND;TZID=America/New_York:20260124T140000
DTSTAMP:20260425T135833
CREATED:20251231T034729Z
LAST-MODIFIED:20251231T034729Z
UID:10003474-1769245200-1769263200@things-to-lou.com
SUMMARY:Jazz Brunch at High Stakes Rooftop
DESCRIPTION:Event Name:\nJazz Brunch at High Stakes Rooftop \nEvent Date:\n2026-01-24 \nWebsite / Ticket Link:\nhttps://www.opentable.com/r/high-stakes-rooftop-grill-louisville \nLocation:\n710 E Jefferson St\, Louisville\, KY 40202 \nEvent Host:\nHigh Stakes Rooftop Grill \nEvent Description / Other Info:\nSavor a sophisticated Jazz Brunch at High Stakes Rooftop\, featuring soulful live performances by the talented local artist Carly Johnson. \nEnjoy breathtaking city views as you indulge in delicious food and sip on our exceptional handcrafted cocktails. \nWhether relaxing with friends or celebrating a special occasion\, this brunch offers a perfect blend of great music\, stunning scenery\, and delectable eats in an elevated setting. \n\nBrunch is 9am to 2pm\nlive music from 11am-2pm\nreservations strongly advised.
URL:https://things-to-lou.com/events/jazz-brunch-at-high-stakes-rooftop/
LOCATION:High Stakes Rooftop Grill\, 710 E Jefferson St\, Louisville\, KY\, 40202\, United States
CATEGORIES:Food & Drink,Music
ATTACH;FMTTYPE=image/png:https://things-to-lou.com/wp-content/uploads/2025/12/screenshot-2025-10-10-at-11.37.01-am-1-e1767152444449.png
END:VEVENT
BEGIN:VEVENT
DTSTART;TZID=America/New_York:20260124T180000
DTEND;TZID=America/New_York:20260124T220000
DTSTAMP:20260425T135833
CREATED:20260109T214359Z
LAST-MODIFIED:20260109T214359Z
UID:10003891-1769277600-1769292000@things-to-lou.com
SUMMARY:Land Most Precious Album Release Show
DESCRIPTION:Land Most Precious: A Compilation Album for Palestine is a collective effort by members of the Louisville music community to show that KY STANDS WITH PALESTINE. \nJoin us to hear live performances from artists who contributed unreleased tracks! \nProceeds from the show will benefit The Peace Dove\, a locally founded organization doing essential work on the ground in Gaza. \nAges 18 and up\nSaturday\, January 24\nDoors: 6 pm // Show: 7 pm\n$18.90
URL:https://things-to-lou.com/events/land-most-precious-album-release-show/
LOCATION:The Whirling Tiger\, 1335 Story Ave \, KY 40206\, Louisville\, KY\, 40206\, United States
CATEGORIES:Music
END:VEVENT
BEGIN:VEVENT
DTSTART;TZID=America/New_York:20260124T210000
DTEND;TZID=America/New_York:20260124T230000
DTSTAMP:20260425T135833
CREATED:20260112T143118Z
LAST-MODIFIED:20260112T143118Z
UID:10003980-1769288400-1769295600@things-to-lou.com
SUMMARY:The Early Favorites show
DESCRIPTION:Ready for some Roots & Boots sound? The Early Favorites return to The Mellwood! Tell a friend! No Cover! good Times!
URL:https://things-to-lou.com/events/the-early-favorites-show/
LOCATION:Mellwood Tavern\, 1801 Brownsboro Rd\, Louisville\, KY\, 40206\, United States
CATEGORIES:Music
END:VEVENT
END:VCALENDAR