BEGIN:VCALENDAR
VERSION:2.0
PRODID:-//Things To Lou - ECPv6.15.20//NONSGML v1.0//EN
CALSCALE:GREGORIAN
METHOD:PUBLISH
X-ORIGINAL-URL:https://things-to-lou.com
X-WR-CALDESC:Events for Things To Lou
REFRESH-INTERVAL;VALUE=DURATION:PT1H
X-Robots-Tag:noindex
X-PUBLISHED-TTL:PT1H
BEGIN:VTIMEZONE
TZID:America/New_York
BEGIN:DAYLIGHT
TZOFFSETFROM:-0500
TZOFFSETTO:-0400
TZNAME:EDT
DTSTART:20250309T070000
END:DAYLIGHT
BEGIN:STANDARD
TZOFFSETFROM:-0400
TZOFFSETTO:-0500
TZNAME:EST
DTSTART:20251102T060000
END:STANDARD
BEGIN:DAYLIGHT
TZOFFSETFROM:-0500
TZOFFSETTO:-0400
TZNAME:EDT
DTSTART:20260308T070000
END:DAYLIGHT
BEGIN:STANDARD
TZOFFSETFROM:-0400
TZOFFSETTO:-0500
TZNAME:EST
DTSTART:20261101T060000
END:STANDARD
BEGIN:DAYLIGHT
TZOFFSETFROM:-0500
TZOFFSETTO:-0400
TZNAME:EDT
DTSTART:20270314T070000
END:DAYLIGHT
BEGIN:STANDARD
TZOFFSETFROM:-0400
TZOFFSETTO:-0500
TZNAME:EST
DTSTART:20271107T060000
END:STANDARD
END:VTIMEZONE
BEGIN:VEVENT
DTSTART;TZID=America/New_York:20260130T190000
DTEND;TZID=America/New_York:20260130T233000
DTSTAMP:20260424T233507
CREATED:20260105T074458Z
LAST-MODIFIED:20260105T074458Z
UID:10003776-1769799600-1769815800@things-to-lou.com
SUMMARY:CROP + Lordship + Swamp Hawk + Acromancer | all-ages show
DESCRIPTION:Third House Communications turns 2 !! A local record label putting out some of the heaviest riffs in the land. Lets show out for this killer show. 2026 is going to amazing. \nCrop + Lordship + Swamp Hawk + Acromancer \n$15 – All Ages \nDoors @7:00pm – Music @8:00pm \nFACEBOOK EVENT \n07:00 PM – 11:30 PM
URL:https://things-to-lou.com/events/crop-lordship-swamp-hawk-acromancer-all-ages-show/
LOCATION:Mag Bar\, 1398 S 2nd St\, Louisville\, KY\, 40208\, United States
CATEGORIES:Music
END:VEVENT
BEGIN:VEVENT
DTSTART;TZID=America/New_York:20260130T210000
DTEND;TZID=America/New_York:20260130T230000
DTSTAMP:20260424T233507
CREATED:20260112T143019Z
LAST-MODIFIED:20260112T143019Z
UID:10003979-1769806800-1769814000@things-to-lou.com
SUMMARY:The Grateful Dads show
DESCRIPTION:Join us for some music from The Grateful Dads playing The Grateful Dead 💀- No Cover – Good people – Good times
URL:https://things-to-lou.com/events/the-grateful-dads-show/
LOCATION:Mellwood Tavern\, 1801 Brownsboro Rd\, Louisville\, KY\, 40206\, United States
CATEGORIES:Music
END:VEVENT
BEGIN:VEVENT
DTSTART;TZID=America/New_York:20260130T220000
DTEND;TZID=America/New_York:20260130T233000
DTSTAMP:20260424T233507
CREATED:20260109T214048Z
LAST-MODIFIED:20260109T214048Z
UID:10003889-1769810400-1769815800@things-to-lou.com
SUMMARY:United We Dance
DESCRIPTION:with Kym Williams\nand DJ Always \nFREE\nLAST FRIDAY OF EVERY MONTH \nAges 21 and up\nFriday\, January 30\nShow: 10 pm\n$0\nUnited We Dance
URL:https://things-to-lou.com/events/united-we-dance/
LOCATION:The Whirling Tiger\, 1335 Story Ave \, KY 40206\, Louisville\, KY\, 40206\, United States
CATEGORIES:Music,Nightlife
END:VEVENT
END:VCALENDAR