BEGIN:VCALENDAR
VERSION:2.0
PRODID:-//Things To Lou - ECPv6.15.20//NONSGML v1.0//EN
CALSCALE:GREGORIAN
METHOD:PUBLISH
X-ORIGINAL-URL:https://things-to-lou.com
X-WR-CALDESC:Events for Things To Lou
REFRESH-INTERVAL;VALUE=DURATION:PT1H
X-Robots-Tag:noindex
X-PUBLISHED-TTL:PT1H
BEGIN:VTIMEZONE
TZID:America/New_York
BEGIN:DAYLIGHT
TZOFFSETFROM:-0500
TZOFFSETTO:-0400
TZNAME:EDT
DTSTART:20250309T070000
END:DAYLIGHT
BEGIN:STANDARD
TZOFFSETFROM:-0400
TZOFFSETTO:-0500
TZNAME:EST
DTSTART:20251102T060000
END:STANDARD
BEGIN:DAYLIGHT
TZOFFSETFROM:-0500
TZOFFSETTO:-0400
TZNAME:EDT
DTSTART:20260308T070000
END:DAYLIGHT
BEGIN:STANDARD
TZOFFSETFROM:-0400
TZOFFSETTO:-0500
TZNAME:EST
DTSTART:20261101T060000
END:STANDARD
BEGIN:DAYLIGHT
TZOFFSETFROM:-0500
TZOFFSETTO:-0400
TZNAME:EDT
DTSTART:20270314T070000
END:DAYLIGHT
BEGIN:STANDARD
TZOFFSETFROM:-0400
TZOFFSETTO:-0500
TZNAME:EST
DTSTART:20271107T060000
END:STANDARD
END:VTIMEZONE
BEGIN:VEVENT
DTSTART;TZID=America/New_York:20260207T200000
DTEND;TZID=America/New_York:20260207T220000
DTSTAMP:20260420T010915
CREATED:20260109T215617Z
LAST-MODIFIED:20260109T215617Z
UID:10003901-1770494400-1770501600@things-to-lou.com
SUMMARY:Sundy Best
DESCRIPTION:Sat Feb 7\, 2026 \n8:00PM \nSundy Best
URL:https://things-to-lou.com/events/sundy-best/
LOCATION:Mercury Ballroom\, 611 S 4th St\, Louisville\, KY\, 40202\, United States
CATEGORIES:Music
END:VEVENT
BEGIN:VEVENT
DTSTART;TZID=America/New_York:20260207T200000
DTEND;TZID=America/New_York:20260207T220000
DTSTAMP:20260420T010915
CREATED:20260109T220805Z
LAST-MODIFIED:20260109T220818Z
UID:10003907-1770494400-1770501600@things-to-lou.com
SUMMARY:Love Jones with Lemonade Hayride
DESCRIPTION:WFPK Presents:\nLove Jones with Lemonade Hayride\nSat\, Feb 7 at 08:00 PM EST at Headliners Music Hall
URL:https://things-to-lou.com/events/love-jones-with-lemonade-hayride/
LOCATION:Headliners Music Hall\, 1386 Lexington Road\, Louisville\, KY\, 40206\, United States
CATEGORIES:Music
END:VEVENT
END:VCALENDAR