BEGIN:VCALENDAR
VERSION:2.0
PRODID:-//Things To Lou - ECPv6.15.20//NONSGML v1.0//EN
CALSCALE:GREGORIAN
METHOD:PUBLISH
X-WR-CALNAME:Things To Lou
X-ORIGINAL-URL:https://things-to-lou.com
X-WR-CALDESC:Events for Things To Lou
REFRESH-INTERVAL;VALUE=DURATION:PT1H
X-Robots-Tag:noindex
X-PUBLISHED-TTL:PT1H
BEGIN:VTIMEZONE
TZID:America/New_York
BEGIN:DAYLIGHT
TZOFFSETFROM:-0500
TZOFFSETTO:-0400
TZNAME:EDT
DTSTART:20250309T070000
END:DAYLIGHT
BEGIN:STANDARD
TZOFFSETFROM:-0400
TZOFFSETTO:-0500
TZNAME:EST
DTSTART:20251102T060000
END:STANDARD
BEGIN:DAYLIGHT
TZOFFSETFROM:-0500
TZOFFSETTO:-0400
TZNAME:EDT
DTSTART:20260308T070000
END:DAYLIGHT
BEGIN:STANDARD
TZOFFSETFROM:-0400
TZOFFSETTO:-0500
TZNAME:EST
DTSTART:20261101T060000
END:STANDARD
BEGIN:DAYLIGHT
TZOFFSETFROM:-0500
TZOFFSETTO:-0400
TZNAME:EDT
DTSTART:20270314T070000
END:DAYLIGHT
BEGIN:STANDARD
TZOFFSETFROM:-0400
TZOFFSETTO:-0500
TZNAME:EST
DTSTART:20271107T060000
END:STANDARD
END:VTIMEZONE
BEGIN:VEVENT
DTSTART;TZID=America/New_York:20260211T180000
DTEND;TZID=America/New_York:20260211T200000
DTSTAMP:20260424T234627
CREATED:20260122T040518Z
LAST-MODIFIED:20260122T040518Z
UID:10004102-1770832800-1770840000@things-to-lou.com
SUMMARY:Hearts in Bloom: A Romantic Evening at Waterfront Botanical Gardens
DESCRIPTION:Wednesday\, February 11th | 6:00 – 8pm \n\nMusic by Addie and Cole\nDinner from The Black Italian\n\nCash/Card bar featuring wine\, champagne\, and non-alcoholic options. \nTickets: \n\n$60 non-members\n$50 WBG members\n\nThis is a 21+ event. \n***description from website
URL:https://things-to-lou.com/events/hearts-in-bloom-a-romantic-evening-at-waterfront-botanical-gardens-2/
LOCATION:Waterfront Botanical Gardens\, 1435 Frankfort Ave\, Louisville\, KY\, 40206\, United States
CATEGORIES:Food & Drink
END:VEVENT
END:VCALENDAR