BEGIN:VCALENDAR
VERSION:2.0
PRODID:-//Things To Lou - ECPv6.15.20//NONSGML v1.0//EN
CALSCALE:GREGORIAN
METHOD:PUBLISH
X-WR-CALNAME:Things To Lou
X-ORIGINAL-URL:https://things-to-lou.com
X-WR-CALDESC:Events for Things To Lou
REFRESH-INTERVAL;VALUE=DURATION:PT1H
X-Robots-Tag:noindex
X-PUBLISHED-TTL:PT1H
BEGIN:VTIMEZONE
TZID:America/New_York
BEGIN:DAYLIGHT
TZOFFSETFROM:-0500
TZOFFSETTO:-0400
TZNAME:EDT
DTSTART:20250309T070000
END:DAYLIGHT
BEGIN:STANDARD
TZOFFSETFROM:-0400
TZOFFSETTO:-0500
TZNAME:EST
DTSTART:20251102T060000
END:STANDARD
BEGIN:DAYLIGHT
TZOFFSETFROM:-0500
TZOFFSETTO:-0400
TZNAME:EDT
DTSTART:20260308T070000
END:DAYLIGHT
BEGIN:STANDARD
TZOFFSETFROM:-0400
TZOFFSETTO:-0500
TZNAME:EST
DTSTART:20261101T060000
END:STANDARD
BEGIN:DAYLIGHT
TZOFFSETFROM:-0500
TZOFFSETTO:-0400
TZNAME:EDT
DTSTART:20270314T070000
END:DAYLIGHT
BEGIN:STANDARD
TZOFFSETFROM:-0400
TZOFFSETTO:-0500
TZNAME:EST
DTSTART:20271107T060000
END:STANDARD
END:VTIMEZONE
BEGIN:VEVENT
DTSTART;TZID=America/New_York:20260502T190000
DTEND;TZID=America/New_York:20260502T210000
DTSTAMP:20260419T180029
CREATED:20260109T213204Z
LAST-MODIFIED:20260109T213204Z
UID:10003885-1777748400-1777755600@things-to-lou.com
SUMMARY:Liz Cooper show
DESCRIPTION:The thing about finding yourself is there’s always another corner to turn. The Vermont-based singer/songwriter Liz Cooper made her third album during a period of intense self-discovery and reinvention. \nShe moved to New York for the first time\, weathered a pandemic\, came out to herself after falling in love with a friend\, and experienced her first queer relationship and breakup\, all in the course of a few years. \nNew Day marks both a personal and a musical revolution for Cooper – a plunge into psychedelic pop depths and a fullhearted reflection of a whirlwind chapter in her life. \nThese songs scintillate with the kind of self-confidence that only beams through after you’ve aimed a sharp gaze inward and realized that whatever you see will always keep darting ahead of you. \n\nAges 18 and up\nSaturday\, May 02\nDoors: 7 pm // Show: 8 pm\n$25.90
URL:https://things-to-lou.com/events/liz-cooper-show/
LOCATION:The Whirling Tiger\, 1335 Story Ave \, KY 40206\, Louisville\, KY\, 40206\, United States
CATEGORIES:Music
END:VEVENT
BEGIN:VEVENT
DTSTART;TZID=America/New_York:20260502T190000
DTEND;TZID=America/New_York:20260502T220000
DTSTAMP:20260419T180029
CREATED:20260210T071033Z
LAST-MODIFIED:20260210T071033Z
UID:10004718-1777748400-1777759200@things-to-lou.com
SUMMARY:Pretty Good Concerts Presents Liz Cooper
DESCRIPTION:The thing about finding yourself is there’s always another corner to turn. The Vermont-based singer/songwriter Liz Cooper made her third album during a period of intense self-discovery and reinvention. \nShe moved to New York for the first time\, weathered a pandemic\, came out to herself after falling in love with a friend\, and experienced her first queer relationship and breakup\, all in the course of a few years. \nNew Day marks both a personal and a musical revolution for Cooper – a plunge into psychedelic pop depths and a fullhearted reflection of a whirlwind chapter in her life. \nThese songs scintillate with the kind of self-confidence that only beams through after you’ve aimed a sharp gaze inward and realized that whatever you see will always keep darting ahead of you. \n\nPretty Good Concerts Presents: Liz Cooper \n\nAges 18 and up\nSaturday\, May 02\nDoors: 7 pm // Show: 8 pm\n$25.90\n\n 
URL:https://things-to-lou.com/events/pretty-good-concerts-presents-liz-cooper/
LOCATION:The Whirling Tiger\, 1335 Story Ave \, KY 40206\, Louisville\, KY\, 40206\, United States
CATEGORIES:Music
END:VEVENT
END:VCALENDAR