BEGIN:VCALENDAR
VERSION:2.0
PRODID:-//Things To Lou - ECPv6.15.20//NONSGML v1.0//EN
CALSCALE:GREGORIAN
METHOD:PUBLISH
X-WR-CALNAME:Things To Lou
X-ORIGINAL-URL:https://things-to-lou.com
X-WR-CALDESC:Events for Things To Lou
REFRESH-INTERVAL;VALUE=DURATION:PT1H
X-Robots-Tag:noindex
X-PUBLISHED-TTL:PT1H
BEGIN:VTIMEZONE
TZID:America/New_York
BEGIN:DAYLIGHT
TZOFFSETFROM:-0500
TZOFFSETTO:-0400
TZNAME:EDT
DTSTART:20240310T070000
END:DAYLIGHT
BEGIN:STANDARD
TZOFFSETFROM:-0400
TZOFFSETTO:-0500
TZNAME:EST
DTSTART:20241103T060000
END:STANDARD
BEGIN:DAYLIGHT
TZOFFSETFROM:-0500
TZOFFSETTO:-0400
TZNAME:EDT
DTSTART:20250309T070000
END:DAYLIGHT
BEGIN:STANDARD
TZOFFSETFROM:-0400
TZOFFSETTO:-0500
TZNAME:EST
DTSTART:20251102T060000
END:STANDARD
BEGIN:DAYLIGHT
TZOFFSETFROM:-0500
TZOFFSETTO:-0400
TZNAME:EDT
DTSTART:20260308T070000
END:DAYLIGHT
BEGIN:STANDARD
TZOFFSETFROM:-0400
TZOFFSETTO:-0500
TZNAME:EST
DTSTART:20261101T060000
END:STANDARD
END:VTIMEZONE
BEGIN:VEVENT
DTSTART;TZID=America/New_York:20251105T000000
DTEND;TZID=America/New_York:20251107T235959
DTSTAMP:20260422T152829
CREATED:20250718T210656Z
LAST-MODIFIED:20250718T210729Z
UID:10002813-1762300800-1762559999@things-to-lou.com
SUMMARY:Beyond the Barrel: Walking Bourbon Tour with Food Pairings | promo code! | multiple dates
DESCRIPTION:Book your tour here!\n\nUse code “thingstolou10” to save 10%!\n  \nUncover the secrets of Kentucky bourbon. \nDuration\n3 Hours \nAbout\nThis guided walking tour offers an experience that you won’t find at any bourbon distillery in Kentucky: a culinary journey through the story of Kentucky bourbon. \nExplore the unique flavors\, storied history\, and lasting impact of Kentucky’s beloved amber spirit\, paired with delicious bites\, pours\, and cocktails. You’ll trace the origins of bourbon whiskey from its roots in the Appalachian foothills to today’s thriving bourbon scene\, gaining a profound understanding of its cultural importance in Louisville\, Kentucky and beyond. \nAs the sun sets over the bustling NuLu district\, you’ll be guided through award-winning restaurants\, hidden speakeasies\, rooftop terraces\, and cozy tasting rooms. You’ll taste a wide variety of bourbons\, cocktails\, and bites that pair with bourbon in surprising and delicious ways. And you’ll even land a few coveted tables at some of the most hard-to-book restaurants in town. \nThis tour is a fantastic introduction to bourbon for the uninitiated\, and a master class in bourbon pairing for aficionados. Reserve your spot today and uncover the secrets of Kentucky bourbon! \nWhat’s Included \n\n3 Bourbon cocktails showcasing bourbon’s versatility\n2 Guided tastings of rare bourbons\n8-10 Delicious paired bites curated to unlock bourbon’s depth of flavor and versatility\nThe unfiltered history of bourbon in Kentucky\n\nWhat’s Not Included \n\nTransportation\nGuide gratuity\n\nAccessibility \n\n1 mile of flat walking\nWheelchair friendly (including 1 elevator)\nThis tour is 21+\nDue to our set menu and our restaurant partner’s policies\, we are unable to accommodate some food preferences and allergies – please let us know when booking if you have an allergy.
URL:https://things-to-lou.com/events/beyond-the-barrel-walking-bourbon-tour-with-food-pairings-promo-code-multiple-dates-16/
CATEGORIES:Walking Tour / Food Tour
ATTACH;FMTTYPE=image/jpeg:https://things-to-lou.com/wp-content/uploads/2025/07/FULL-SIZE-BTB-2-e1752872405223.jpg
END:VEVENT
BEGIN:VEVENT
DTSTART;TZID=America/New_York:20251128T180000
DTEND;TZID=America/New_York:20251128T210000
DTSTAMP:20260422T152829
CREATED:20251111T202155Z
LAST-MODIFIED:20251112T042039Z
UID:10003192-1764352800-1764363600@things-to-lou.com
SUMMARY:🎅Murder Under the Mistletoe: a Murder Mystery Food Tour | promo code!
DESCRIPTION:Someone’s been murdered\, and it’s up to you to solve the case (or perhaps confess your crime)! Join our immersive Murder Mystery Food Tour for an unforgettable night of intrigue\, food\, and fun. \n\nBook your ticket here!\nUse promo code “thingstolou10” and save 10% on your tickets!\nWe took this tour in 2024! Here’s a preview of what to expect! \n\nQUICK DETAILS:\n\nDistance: 0.2 miles\nDuration: 3 hours\nFood Stops: 3 stops\nCapacity: 6-14\nTime: 6-9 PM Thurs & Fri\nAccessibility: 21+\, wheelchair friendly\n\n\n\nAbout the Tour:\nEat\, drink\, and uncover the clues on a Themed murder mystery in Louisville! \nSomeone’s been murdered\, and it’s up to you to solve the case (or perhaps confess your crime)! Join our immersive Murder Mystery Food Tour for an unforgettable night of intrigue\, food\, and fun. \nAt the start of the tour\, you’ll choose a role—so prepare to get into character! As you stroll to three local restaurants\, you’ll gather clues with each “round” of delicious food and drinks. \nWe strongly encourage you to dress in theme\, and bring your sleuthing skills – everyone has secrets to hide\, and no one is above suspicion. \nReady to crack the case? Put on your detective hat\, dig into some fantastic local food\, and let’s see if you’ve got what it takes to unmask the culprit! \nEach season\, the theme of our Louisville whodunnit changes – so you can hone your murder mystery solving skills again and again. \n  \n \n\n🎄 Murder Under the Mistletoe 🕯️\nNovember – December \nHere is the setting and story for this season’s tour (we encourage you to read it in your best murder mystery movie trailer voice): \nSnow Falls’ Holiday Sweater Cocktail Crawl is the event of the season in the Snowhio River Valley. \nEach year\, the city’s brave\, festive souls gather in their flashiest\, tackiest sweaters to sip bourbon cocktails\, savor local bites\, and revel in the spirit of the season. But this year\, rumors are swirling along with the bourbon… \nWhispers of revenge\, blackmail\, and scandal are heating up faster than a smoked (c)old fashioned\, leaving everyone wondering if someone’s holiday cheer might just be a cover for something sinister. \nOn your tour\, you’ll stroll along Whiskey Row – aka Whiskey Snow – spending most of your time indoors (baby\, it’s cold outside!)\, and stopping at festive eateries and bars for delicious small bites and classic Kentucky cocktails. \nTonight\, you’re a star character in the evening’s Murder Mystery – or even the perpetrator! \nWhile sparkling lights and historic charm immerse you in holiday cheer\, the mystery unfolds as your character is revealed and swirling clues unravel the night’s secrets. \nDress up in your most extravagant ugly sweater\, prepare to immerse yourself in your given character\, and get ready to dig deep into a case of holiday chaos and bourbon-fueled intrigue. \nNote: This is NOT a real holiday sweater cocktail crawl. That is only the setting of the event within the game itself. There will\, however\, be holiday sweaters and cocktails. \n \n\nA Festive\, Interactive Louisville Whodunnit\nOn your murder mystery food tour\, you’ll stroll through Whiskey Row\, spending most of your time indoors (baby\, it’s cold outside!) and stopping at festive eateries and bars for delicious bites and cocktails. \nWhere: Meet at 112 W Washington St\, Louisville\, KY \nWhen​: Thursdays & Fridays\, 6-9 PM November – December \nWhat to Expect\nOur Louisville Murder Mystery experience unravels over the course of 3 rounds. Here’s what to expect: \nFood & Drinks\nA full meal at 3 stops\, plus cocktails or mocktails – all included with your ticket! \nRoleplay\nYou’ll choose an over-the-top character to embody for the evening. \nMaster of Mystery\nA knowledgeable guide and host will lead you through the evening to help with insights\, clues\, & laughs. \nMurder Mystery Materials\nFrom suspect profiles to twists & turns\, we’ll provide everything you need so you can immerse yourself fully! \n \n\nWe did this murder mystery in 2024! Here’s a preview of what to expect! \n\nWant to get a discount on other food tours from Louisville Food Tours? \n\nFAQ:\nWhat should I wear? \nWe recommend dressing comfortably\, but also strongly recommend wearing themed attire that matches the evening’s vibe. Over-the-top costumes are highly encouraged! \nHow long is the tour? \nThe tour typically lasts for about 3 hours\, depending on the pace of the group. \nHow many stops are included? \nEach tour includes 3 unique stops where you’ll enjoy delicious food and drinks\, all while gathering clues for the mystery. \nAre dietary restrictions accommodated? \nYes! Please let us know about any dietary restrictions or allergies at the time of booking\, and we will do our best to accommodate your needs. \nCan I bring my children? \nThis tour is 21+ due to legal restrictions at our bar partners. \nWhat is included in the ticket price? \nYour ticket includes the guided tour\, all food and drink at the stops\, materials for the murder mystery game\, and fascinating tidbits about the local history. \nDo I need to solve the mystery? \nYes\, we won’t let you go home if you don’t solve the mystery. Kidding! You don’t HAVE to\, but participation in mystery solving is part of the fun\, and everyone is given a role to play. If you’re not one for audience participation\, you might want to take one of our other tours\, where you can just sit back and listen to our guides instead! \nIs there a minimum number of participants for the tour to run? \nYes\, we require a minimum number of 4 participants for the game to work. If the tour does not meet this number\, we will notify you in advance to reschedule or provide a full refund. This is also why our murder mystery food tours run on limited days. \nWhat happens if it rains? \nOur tours typically run rain or shine. If severe weather occurs\, we will contact you to discuss rescheduling or alternative arrangements. \n \nCancellations\nCancellation and Refund Policy \nOur cancelation and refund policies vary by ticket type. \nRefundable Tickets & Private Tours: \nChanges\, rescheduling and refunds are available up until 48 hours before the tour start time. Cancellations within 48 hours\, late arrivals\, and no-shows will not be refunded or rescheduled. \nNon-Refundable Tickets: Changes\, rescheduling and refunds are NOT available at any time. Tours cancelled due to severe weather will receive a raincheck credit in the form of a gift card for a future tour. \nWe run tours rain or shine\, so please check the weather and plan accordingly. Booking changes must be made through the platform you originally booked through. Thank you for understanding our policies! \nMinimum Tour Size Policy \nWhile your party size can be as small as 1 person\, our tours require a minimum of 4 paid guests to run. \nIf we are unable to meet that minimum\, we may reach out to you in advance with a low attendance warning to discuss other options. Options include rebooking to another date\, joining a different tour\, receiving a full refund\, or upgrading to a private tour. If we still have not met the minimum at 24 hours prior we will gladly reschedule to a time and day of your choice or fully refund your purchase. \n\nWant to get a discount on other food tours from Louisville Food Tours?
URL:https://things-to-lou.com/events/%f0%9f%8e%85murder-under-the-mistletoe-a-murder-mystery-food-tour-promo-code/
LOCATION:Various
CATEGORIES:Food & Drink,Holiday Season,Walking Tour / Food Tour
ATTACH;FMTTYPE=image/jpeg:https://things-to-lou.com/wp-content/uploads/2025/11/Murder-under-the-mistletoe-cover-image-e1762894127898.jpg
END:VEVENT
END:VCALENDAR