BEGIN:VCALENDAR
VERSION:2.0
PRODID:-//Things To Lou - ECPv6.15.20//NONSGML v1.0//EN
CALSCALE:GREGORIAN
METHOD:PUBLISH
X-ORIGINAL-URL:https://things-to-lou.com
X-WR-CALDESC:Events for Things To Lou
REFRESH-INTERVAL;VALUE=DURATION:PT1H
X-Robots-Tag:noindex
X-PUBLISHED-TTL:PT1H
BEGIN:VTIMEZONE
TZID:America/New_York
BEGIN:DAYLIGHT
TZOFFSETFROM:-0500
TZOFFSETTO:-0400
TZNAME:EDT
DTSTART:20240310T070000
END:DAYLIGHT
BEGIN:STANDARD
TZOFFSETFROM:-0400
TZOFFSETTO:-0500
TZNAME:EST
DTSTART:20241103T060000
END:STANDARD
BEGIN:DAYLIGHT
TZOFFSETFROM:-0500
TZOFFSETTO:-0400
TZNAME:EDT
DTSTART:20250309T070000
END:DAYLIGHT
BEGIN:STANDARD
TZOFFSETFROM:-0400
TZOFFSETTO:-0500
TZNAME:EST
DTSTART:20251102T060000
END:STANDARD
BEGIN:DAYLIGHT
TZOFFSETFROM:-0500
TZOFFSETTO:-0400
TZNAME:EDT
DTSTART:20260308T070000
END:DAYLIGHT
BEGIN:STANDARD
TZOFFSETFROM:-0400
TZOFFSETTO:-0500
TZNAME:EST
DTSTART:20261101T060000
END:STANDARD
END:VTIMEZONE
BEGIN:VEVENT
DTSTART;TZID=America/New_York:20251024T180000
DTEND;TZID=America/New_York:20251024T210000
DTSTAMP:20260423T122630
CREATED:20250814T042031Z
LAST-MODIFIED:20250814T042111Z
UID:10002898-1761328800-1761339600@things-to-lou.com
SUMMARY:Kentucky Bat Festival
DESCRIPTION:Event Name:\nKentucky Bat Festival \nEvent Date:\n2025-10-24 \nWebsite / Ticket Link:\nhttps://www.eventbrite.com/e/kentucky-bat-festival-tickets-1368111039949?utm-campaign=social&utm-content=attendeeshare&utm-medium=discovery&utm-term=listing&utm-source=wsa&aff=ebdsshwebmobile \nLocation:\nLouisville Slugger Field \nEvent Host:\nSecond Chances Wildlife Center \nEvent Description / Other Info:\nJoin Second Chances Wildlife Center at Louisville Slugger Field\, as we celebrate and raise funds to continue our efforts to rescue wildlife and bring engaging environmental education to Kentuckians. \nLast year’s Kentucky Bat Festival was held at Louisville Slugger Museum & Factory and was a great time! This year we are keeping the Louisville Slugger but moving to the Field! \nThis is a family-friendly event with activities for all ages. \n\n-Meet different species of live bats (including Slugger\, one of our life-time sanctuary animals and an endangered Indiana bat)\n-Vendor fair\n-Live music by Dean Heckel\n-Silent auction\n-Educational tables and children’s crafts\n-Second Chances merch\n-Meet popular children’s storybook character Stellaluna\n-Appearance by Buddy Bat \n\n  \nTicket prices are: $15 general admission\, $10 for children (ages 3-10)\, ages 2 and under are free. \nIf your business is interested in sponsoring this event\, please contact Brittany Goode-Roberts at Brittany@SecondChancesWildlife.org for more information. \nKentucky is home to 16 species of bats\, including 4 endangered species. They are critical members of our ecosystem – providing us with natural pest and disease control. \nHowever\, they face serious threats from human encroachment. Second Chances Wildlife Center specializes in bat rehabilitation and aims to change the way we perceive these incredible members of our natural community. \nPlease join us and learn more about these fascinating creatures!
URL:https://things-to-lou.com/events/kentucky-bat-festival-2/
LOCATION:Louisville Slugger Field\, 103 N Preston St\, Louisville\, KY\, 40202\, United States
CATEGORIES:Family & Children,Nature
END:VEVENT
END:VCALENDAR