BEGIN:VCALENDAR
VERSION:2.0
PRODID:-//Things To Lou - ECPv6.15.20//NONSGML v1.0//EN
CALSCALE:GREGORIAN
METHOD:PUBLISH
X-ORIGINAL-URL:https://things-to-lou.com
X-WR-CALDESC:Events for Things To Lou
REFRESH-INTERVAL;VALUE=DURATION:PT1H
X-Robots-Tag:noindex
X-PUBLISHED-TTL:PT1H
BEGIN:VTIMEZONE
TZID:America/New_York
BEGIN:DAYLIGHT
TZOFFSETFROM:-0500
TZOFFSETTO:-0400
TZNAME:EDT
DTSTART:20240310T070000
END:DAYLIGHT
BEGIN:STANDARD
TZOFFSETFROM:-0400
TZOFFSETTO:-0500
TZNAME:EST
DTSTART:20241103T060000
END:STANDARD
BEGIN:DAYLIGHT
TZOFFSETFROM:-0500
TZOFFSETTO:-0400
TZNAME:EDT
DTSTART:20250309T070000
END:DAYLIGHT
BEGIN:STANDARD
TZOFFSETFROM:-0400
TZOFFSETTO:-0500
TZNAME:EST
DTSTART:20251102T060000
END:STANDARD
BEGIN:DAYLIGHT
TZOFFSETFROM:-0500
TZOFFSETTO:-0400
TZNAME:EDT
DTSTART:20260308T070000
END:DAYLIGHT
BEGIN:STANDARD
TZOFFSETFROM:-0400
TZOFFSETTO:-0500
TZNAME:EST
DTSTART:20261101T060000
END:STANDARD
END:VTIMEZONE
BEGIN:VEVENT
DTSTART;TZID=America/New_York:20250608T130000
DTEND;TZID=America/New_York:20250608T160000
DTSTAMP:20260425T062235
CREATED:20250605T063609Z
LAST-MODIFIED:20250605T063609Z
UID:10002560-1749387600-1749398400@things-to-lou.com
SUMMARY:Louisville Bats vs Norfolk Tides: Father's Day
DESCRIPTION:Louisville Bats vs Norfolk Tides\, June 5-8\n\nThursday\, Jun 5\, 6:35 PM \n\nGame Highlight: Thrifty Thursdays: $4 Hot Dogs\, $2 Popcorn & $2 16 oz Pepsi\n\n  \nFriday\, Jun 6\, 7:15 PM \n\nGame Highlight (5): Yacht Rock Night:  Time to set sail for Louisville Slugger Field! It is a night dedicated to the all popular Yacht Rock genre.\nGame Highlight: 502 Fridays: Select Fridays throughout the season\, we will be wearing out 502 Connect jerseys!\nGame Highlight: Gametime Happy Hour: Enjoy $3 Miller Lite and Coors Lights from 6-9 PM! | Presented By Miller Lite\nGame Highlight: Margarita Madness: Get your $6 Margaritas available at all bars around the ballpark. | Presented By Number Juan Tequila\nGame Highlight: Brake the Bank: Stick around postgame for Brake the Bank\, where you will have the chance to win the grand cash prize! | Presented By Tony’s Brake & Alignment\nPromotion: Yacht Rock Captains Hat Giveaway: Presented By Zip Heating & Cooling | First 1\,500 fans\nTicket Offer: Student Pass Offer: Use your .edu address and get accepted to receive $10 tickets for every Friday game!\n\n  \nSaturday\, Jun 7\, 7:15 PM \n\nGame Highlight (3): Art at the Park!: It is a day dedicated to all of our artistic fans! Arts and craft stations will be located all throughout the ballpark!| Presented by Norton Children’s\nGame Highlight: Party @ the Park: Featuring $4 Cupcake Vineyard Wine Pours\, $6 Signature Bats Cocktails & $6 Select Craft Beers\nGame Highlight: Postgame Fireworks\nPromotion: Color in Hat Giveaway: 12 & Younger Only | Presented By Norton Children’s | First 500 Kids\n\n  \nSunday\, Jun 8\, 1:05 PM \n\nGame Highlight (8): Father’s Day: Join us and celebrate everything your dad does for you by watching Bats Baseball! | Presented By Penn Station East Coast Subs\nGame Highlight: Kids Club Day: All 2025 Kids Club Members are asked to join us for every Sunday home game for Kids Day which includes a free kids meal! | Presented By Kentucky Kingdom Theme & Water Park\nGame Highlight: Evan Williams Flight Trays: Try up to four flavors of Evan Williams signature bourbon!\nGame Highlight: Kids Run the Bases: Stick around after every Sunday Home Game for Kids Run the Bases\nGame Highlight: Postgame Catch on-Field: Join us on the field postgame for the annual catch on the field with Dad! | Presented By Penn Station East Coast Subs\nGame Highlight: Kids Inflatables in the Hall of Fame\nGame Highlight: Woody’s Barbershop Haircuts: Head over to the Penn Station Pavilion and receive a free haircut while enjoying some Bats baseball!\nGame Highlight: Philly’s Best non-alcoholic slushies: Make sure to stop by the Philly’s Best stand every Sunday game and enjoy $4 non-alcoholic slushies! | Presented By Philly’s Best Frozen Desserts\nTicket Offer: Father’s Day Ticket Offer: Ticket Offer includes\, Exclusive Game Ticket\, Medium Bucket of Range Balls from Different Strokes Golf Center OR Louisville Slugger Museum Pass\, Evan Williams Flight Tray Tasting\, Beer Voucher and Bow Tie Car Wash Voucher\n\n***description from website
URL:https://things-to-lou.com/events/louisville-bats-vs-norfolk-tides-fathers-day/
LOCATION:Louisville Slugger Field\, 103 N Preston St\, Louisville\, KY\, 40202\, United States
CATEGORIES:Family & Children,Food & Drink,Sports
END:VEVENT
END:VCALENDAR