BEGIN:VCALENDAR
VERSION:2.0
PRODID:-//Things To Lou - ECPv6.15.20//NONSGML v1.0//EN
CALSCALE:GREGORIAN
METHOD:PUBLISH
X-WR-CALNAME:Things To Lou
X-ORIGINAL-URL:https://things-to-lou.com
X-WR-CALDESC:Events for Things To Lou
REFRESH-INTERVAL;VALUE=DURATION:PT1H
X-Robots-Tag:noindex
X-PUBLISHED-TTL:PT1H
BEGIN:VTIMEZONE
TZID:America/New_York
BEGIN:DAYLIGHT
TZOFFSETFROM:-0500
TZOFFSETTO:-0400
TZNAME:EDT
DTSTART:20250309T070000
END:DAYLIGHT
BEGIN:STANDARD
TZOFFSETFROM:-0400
TZOFFSETTO:-0500
TZNAME:EST
DTSTART:20251102T060000
END:STANDARD
BEGIN:DAYLIGHT
TZOFFSETFROM:-0500
TZOFFSETTO:-0400
TZNAME:EDT
DTSTART:20260308T070000
END:DAYLIGHT
BEGIN:STANDARD
TZOFFSETFROM:-0400
TZOFFSETTO:-0500
TZNAME:EST
DTSTART:20261101T060000
END:STANDARD
BEGIN:DAYLIGHT
TZOFFSETFROM:-0500
TZOFFSETTO:-0400
TZNAME:EDT
DTSTART:20270314T070000
END:DAYLIGHT
BEGIN:STANDARD
TZOFFSETFROM:-0400
TZOFFSETTO:-0500
TZNAME:EST
DTSTART:20271107T060000
END:STANDARD
END:VTIMEZONE
BEGIN:VEVENT
DTSTART;TZID=America/New_York:20260130T173000
DTEND;TZID=America/New_York:20260130T200000
DTSTAMP:20260425T082653
CREATED:20260127T065731Z
LAST-MODIFIED:20260127T065752Z
UID:10004192-1769794200-1769803200@things-to-lou.com
SUMMARY:Grand Re-Opening of the LTS Humidor
DESCRIPTION:Celebrate the Grand Re-Opening of the LTS Cigar Humidor in partnership with Oxmoor Smoke Shoppe! \nKickoff the grand opening with a Black Manhattan Welcome Cocktail and complimentary The Blending House + Castle & Key sample pours. The official ribbon cutting will be at 5:30pm at the LTS Humidor. \nDon’t miss out on this exciting experience! The first 50 Members will receive a raffle ticket to be entered to win a traveling humidor\, bourbon package\, dinner for two\, or EJ Curley Bourbon and Lucky Seven The Frenchman. \n\nDate:\nFriday\, January 30\, 2026 \nTime:\n5:30pm – 8:00pm \nLocation:\nLouisville Thoroughbred Society\n209 East Main Street\nLouisville\, KY 40202
URL:https://things-to-lou.com/events/grand-re-opening-of-the-lts-humidor/
LOCATION:Louisville Thoroughbred Society\, 209 E Main St #200\, Louisville\, KY\, 40202\, United States
CATEGORIES:Bourbon,Food & Drink,Grand Openings
END:VEVENT
END:VCALENDAR