BEGIN:VCALENDAR
VERSION:2.0
PRODID:-//Things To Lou - ECPv6.15.20//NONSGML v1.0//EN
CALSCALE:GREGORIAN
METHOD:PUBLISH
X-ORIGINAL-URL:https://things-to-lou.com
X-WR-CALDESC:Events for Things To Lou
REFRESH-INTERVAL;VALUE=DURATION:PT1H
X-Robots-Tag:noindex
X-PUBLISHED-TTL:PT1H
BEGIN:VTIMEZONE
TZID:America/New_York
BEGIN:DAYLIGHT
TZOFFSETFROM:-0500
TZOFFSETTO:-0400
TZNAME:EDT
DTSTART:20240310T070000
END:DAYLIGHT
BEGIN:STANDARD
TZOFFSETFROM:-0400
TZOFFSETTO:-0500
TZNAME:EST
DTSTART:20241103T060000
END:STANDARD
BEGIN:DAYLIGHT
TZOFFSETFROM:-0500
TZOFFSETTO:-0400
TZNAME:EDT
DTSTART:20250309T070000
END:DAYLIGHT
BEGIN:STANDARD
TZOFFSETFROM:-0400
TZOFFSETTO:-0500
TZNAME:EST
DTSTART:20251102T060000
END:STANDARD
BEGIN:DAYLIGHT
TZOFFSETFROM:-0500
TZOFFSETTO:-0400
TZNAME:EDT
DTSTART:20260308T070000
END:DAYLIGHT
BEGIN:STANDARD
TZOFFSETFROM:-0400
TZOFFSETTO:-0500
TZNAME:EST
DTSTART:20261101T060000
END:STANDARD
BEGIN:DAYLIGHT
TZOFFSETFROM:-0500
TZOFFSETTO:-0400
TZNAME:EDT
DTSTART:20270314T070000
END:DAYLIGHT
BEGIN:STANDARD
TZOFFSETFROM:-0400
TZOFFSETTO:-0500
TZNAME:EST
DTSTART:20271107T060000
END:STANDARD
END:VTIMEZONE
BEGIN:VEVENT
DTSTART;TZID=America/New_York:20251122T100000
DTEND;TZID=America/New_York:20251122T160000
DTSTAMP:20260424T033536
CREATED:20251112T034034Z
LAST-MODIFIED:20251112T034048Z
UID:10003200-1763805600-1763827200@things-to-lou.com
SUMMARY:Fall Kentucky Plant Show
DESCRIPTION:Fall 2025 Kentucky Plant Show\nNovember 22nd\, 2025 \nNorton Healthcare Sports & Learning Center: 3029 W Muhammad Ali BLVD\, Louisville\, KY 40202 \nGeneral admission: 10am-4pm \n\nVIP and General Admission Tickets\nGeneral Admission Tickets\nGENERAL ADMISSION TICKETS NEVER SELL OUT. \nAdults –\nCash $10.00\nCredit Card $12.00 \nUnder 15 years of age – Always free \nWe will not be accepting cashapp\, paypal\, zelle\, etc at the door. Please have cash or card ready. \n\nFACEBOOK EVENT \n\nF25 Vendor List\n\nAbove the Dirt Garden Shop\nAmy Lentz Photography\, LLC\nBleume\nCompany 12 Designs\nCozy Corner Plants\nGebo’s Worm Farm\nGrowing In Sonshine\, LLC\nHeart Leaf Tropicals\nHerhoyas\nHey Fancy Plants\nJemma’s Boutique\nKitty Wren Creations\nLawless Vines\nLeafy Nook\nNot Your Average Sansevieria\nOlive Grows\nPeace\, Love & Plants\nPrimmPlantz\nProp & Grow\nPlumes & Petals\nRachels Plant Paradise\nRuth’s Garden\nSnip and Grow Plant Co\nSprout and Sprig Plants\nSugar Leaf Crystals\nT&T Plants and Things\nThe Mother’s Daughter\nThe Ping Guy\nThe Sagebrush Shack\nThe Simply Rooted Mama\nThe Upcycle Garden\nThe Vivarium\nTMC Plant Company\nTuko Farm LLC\nVee’s Herbal Exchange\nVariegated Ventures\nWall of plants\nWeathered Barn Creations\nWild Sage Ranch\nZapped by Zoey Permanent Jewelry\n502 Wood & Leaf LLC
URL:https://things-to-lou.com/events/2nd-kentucky-plant-show/
LOCATION:Norton Healthcare Sports & Learning Center\, 3029 W Muhammad Ali Blvd\, Louisville\, KY\, 40212\, United States
CATEGORIES:Market,Plants / Gardening,Shopping
END:VEVENT
BEGIN:VEVENT
DTSTART;TZID=America/New_York:20251122T110000
DTEND;TZID=America/New_York:20251122T160000
DTSTAMP:20260424T033536
CREATED:20251107T025201Z
LAST-MODIFIED:20251107T025201Z
UID:10003162-1763809200-1763827200@things-to-lou.com
SUMMARY:Vagabond Holiday Art Market
DESCRIPTION:Event Name:\nVagabond Holiday Art Market \nEvent Date:\n2025-11-22 \nWebsite / Ticket Link:\nInstagram:@vagabondartmarket \nLocation:\nFirst Build 333 E. Brandeis Avenue \nEvent Host:\nVagabond Art Market/First Build \nEvent Description / Other Info:\nNovember 22 from 11am-4pm\, Vagabond Holiday Art Market will have several local artists\, an art supply swap table\, live demonstrations from artists and FirstBuild along with locally made snacks and beverages. \nFirstBuild\, an inventor and maker space for the community\, is also offering the space for free for this event. FirstBuild would like to increase attendance on Saturdays and let the community know their maker space is available for use for very low fees. \nIf the community has a need\, you can create a solution at FirstBuild with their computers\, printers\, 3D printers\, laser cutters\, blacksmithing shop and more. \nThis market is indoors with plenty of free parking in the FirstBuild parking lot. \nPlease come select your holiday gifts from local makers\, participate in the art supply swap and learn a thing or two from FirstBuild and local artists. \nFirstBuild is located at 333 E. Brandeis Ave\, Louisville\, KY 40208
URL:https://things-to-lou.com/events/vagabond-holiday-art-market/
LOCATION:FirstBuild\, 333 E. Brandeis Ave\, Louisville\, KY\, 40208\, United States
CATEGORIES:Market,Shopping
ATTACH;FMTTYPE=image/jpeg:https://things-to-lou.com/wp-content/uploads/2025/11/inbound5957010233965657680-e1762483957174.jpg
END:VEVENT
BEGIN:VEVENT
DTSTART;TZID=America/New_York:20251128T000000
DTEND;TZID=America/New_York:20260104T235959
DTSTAMP:20260424T033536
CREATED:20251201T161019Z
LAST-MODIFIED:20251201T161803Z
UID:10003242-1764288000-1767571199@things-to-lou.com
SUMMARY:Fête de Noël (multiple dates) (“Festival of Christmas”)
DESCRIPTION:Experience the magic of the season at Paristown’s 7th annual Fête De Noël (“Festival of Christmas”) Winter Holiday Festival. \nFÊTE DE NOËL WINTER HOLIDAY FESTIVAL\nPresented by Stock Yards Bank & Trust \nOver six festive weeks\, enjoy Louisville’s only authentic outdoor ice skating rink\, photos with Santa\, the Brent Street Holiday Market\, trackless train rides\, and more. \nEmbrace the spirit of tradition as you skate\, shop\, and celebrate in the heart of Paristown. \n\nCheck out this preview of the festival! \n\nCRYSTAL ICE SKATING RINK​\nThis stunning 100’x50′ outdoor ice skating rink is an authentic sheet of ice featuring festive holiday music\, skate rentals for all ages and concession stand. \nGeneral admission tickets include 60 minutes of ice time and complimentary skate rental. \nPublic skating hours subject to change depending on weather and ice rink conditions. Follow @paristownky on Instagram for up-to-date info and announcements. \nBRENT STREET HOLIDAY MARKET\nNov. 28-30 | Dec. 5-7\nDec. 12-14 | Dec. 19-24 \nFree and open to the public! Returning to Brent Street in Paristown for the holiday season. \nShop dozens of specialty gift ideas from local and regional makers across 20 outdoor pop-up shops lining Brent Street. \nPHOTOS WITH SANTA​​\nGet creative during your own personal photoshoot with Santa himself at his all-new Louisville workshop located on Brent Street. $10 tickets include admission for groups of up to six people. \nKROGER FRESH EXPRESS TRACKLESS TRAIN RIDES\nTake a magical ride around the Paristown Arts District in this fully custom trackless train. \nFOOD & BEVERAGE\nEnjoy festive cocktails and refreshments from the 4 bars\, 5 restaurants\, and Jeff’s Donuts newest Louisville location inside The Village Market Food Hall. \nGrab breakfast\, brunch\, lunch or dinner before or after you hit the ice\, and stroll the Brent Street Holiday Market with hot cocoa or hot cider. \n  \n***description from website \n***more info and schedules on website
URL:https://things-to-lou.com/events/fete-de-noel-multiple-dates-festival-of-christmas/
LOCATION:Paristown Arts District\, 731 Brent Street\, Louisville\, KY\, 40204\, United States
CATEGORIES:Family & Children,Market
ATTACH;FMTTYPE=image/png:https://things-to-lou.com/wp-content/uploads/2025/12/img_4545-e1764605827106.png
END:VEVENT
END:VCALENDAR