BEGIN:VCALENDAR
VERSION:2.0
PRODID:-//Things To Lou - ECPv6.15.20//NONSGML v1.0//EN
CALSCALE:GREGORIAN
METHOD:PUBLISH
X-ORIGINAL-URL:https://things-to-lou.com
X-WR-CALDESC:Events for Things To Lou
REFRESH-INTERVAL;VALUE=DURATION:PT1H
X-Robots-Tag:noindex
X-PUBLISHED-TTL:PT1H
BEGIN:VTIMEZONE
TZID:America/New_York
BEGIN:DAYLIGHT
TZOFFSETFROM:-0500
TZOFFSETTO:-0400
TZNAME:EDT
DTSTART:20240310T070000
END:DAYLIGHT
BEGIN:STANDARD
TZOFFSETFROM:-0400
TZOFFSETTO:-0500
TZNAME:EST
DTSTART:20241103T060000
END:STANDARD
BEGIN:DAYLIGHT
TZOFFSETFROM:-0500
TZOFFSETTO:-0400
TZNAME:EDT
DTSTART:20250309T070000
END:DAYLIGHT
BEGIN:STANDARD
TZOFFSETFROM:-0400
TZOFFSETTO:-0500
TZNAME:EST
DTSTART:20251102T060000
END:STANDARD
BEGIN:DAYLIGHT
TZOFFSETFROM:-0500
TZOFFSETTO:-0400
TZNAME:EDT
DTSTART:20260308T070000
END:DAYLIGHT
BEGIN:STANDARD
TZOFFSETFROM:-0400
TZOFFSETTO:-0500
TZNAME:EST
DTSTART:20261101T060000
END:STANDARD
BEGIN:DAYLIGHT
TZOFFSETFROM:-0500
TZOFFSETTO:-0400
TZNAME:EDT
DTSTART:20270314T070000
END:DAYLIGHT
BEGIN:STANDARD
TZOFFSETFROM:-0400
TZOFFSETTO:-0500
TZNAME:EST
DTSTART:20271107T060000
END:STANDARD
END:VTIMEZONE
BEGIN:VEVENT
DTSTART;TZID=America/New_York:20251128T000000
DTEND;TZID=America/New_York:20260104T235959
DTSTAMP:20260424T000017
CREATED:20251201T161019Z
LAST-MODIFIED:20251201T161803Z
UID:10003242-1764288000-1767571199@things-to-lou.com
SUMMARY:Fête de Noël (multiple dates) (“Festival of Christmas”)
DESCRIPTION:Experience the magic of the season at Paristown’s 7th annual Fête De Noël (“Festival of Christmas”) Winter Holiday Festival. \nFÊTE DE NOËL WINTER HOLIDAY FESTIVAL\nPresented by Stock Yards Bank & Trust \nOver six festive weeks\, enjoy Louisville’s only authentic outdoor ice skating rink\, photos with Santa\, the Brent Street Holiday Market\, trackless train rides\, and more. \nEmbrace the spirit of tradition as you skate\, shop\, and celebrate in the heart of Paristown. \n\nCheck out this preview of the festival! \n\nCRYSTAL ICE SKATING RINK​\nThis stunning 100’x50′ outdoor ice skating rink is an authentic sheet of ice featuring festive holiday music\, skate rentals for all ages and concession stand. \nGeneral admission tickets include 60 minutes of ice time and complimentary skate rental. \nPublic skating hours subject to change depending on weather and ice rink conditions. Follow @paristownky on Instagram for up-to-date info and announcements. \nBRENT STREET HOLIDAY MARKET\nNov. 28-30 | Dec. 5-7\nDec. 12-14 | Dec. 19-24 \nFree and open to the public! Returning to Brent Street in Paristown for the holiday season. \nShop dozens of specialty gift ideas from local and regional makers across 20 outdoor pop-up shops lining Brent Street. \nPHOTOS WITH SANTA​​\nGet creative during your own personal photoshoot with Santa himself at his all-new Louisville workshop located on Brent Street. $10 tickets include admission for groups of up to six people. \nKROGER FRESH EXPRESS TRACKLESS TRAIN RIDES\nTake a magical ride around the Paristown Arts District in this fully custom trackless train. \nFOOD & BEVERAGE\nEnjoy festive cocktails and refreshments from the 4 bars\, 5 restaurants\, and Jeff’s Donuts newest Louisville location inside The Village Market Food Hall. \nGrab breakfast\, brunch\, lunch or dinner before or after you hit the ice\, and stroll the Brent Street Holiday Market with hot cocoa or hot cider. \n  \n***description from website \n***more info and schedules on website
URL:https://things-to-lou.com/events/fete-de-noel-multiple-dates-festival-of-christmas/
LOCATION:Paristown Arts District\, 731 Brent Street\, Louisville\, KY\, 40204\, United States
CATEGORIES:Family & Children,Market
ATTACH;FMTTYPE=image/png:https://things-to-lou.com/wp-content/uploads/2025/12/img_4545-e1764605827106.png
END:VEVENT
BEGIN:VEVENT
DTSTART;TZID=America/New_York:20251205T000000
DTEND;TZID=America/New_York:20251206T235959
DTSTAMP:20260424T000017
CREATED:20251202T073946Z
LAST-MODIFIED:20251202T073946Z
UID:10003272-1764892800-1765065599@things-to-lou.com
SUMMARY:Annual WinterFair! | fine art\, crafts\, handcrafted items
DESCRIPTION:On Dec 5 and 6\, we will be hosting our traditional WinterFair! \nOn Friday\, Dec. 5th 1-6pm & Sat. Dec. 6th 9-4pm (4936 Brownsboro Rd. Louisville\, KY 40222) \nHeld the first Friday & Saturday in December \nUncommon Gifts for Uncommon People\nWinterFair! began in 1991\, and has not missed a year of art and artists\, creativity\, imagination\, and excellence. \nWe present fine art and very fine crafts at affordable prices in time for the winter giving season. In the season of holiday sales\, WinterFair is not your granny’s church bazaar. \nWinterFair! presents over 70 artists in two church buildings (plus Bold & Cold artists outdoors!). \nYou’ll find all original handcrafted media including ceramics\, wood\, mixed media\, fiber\, photography\, sculpture\, glass\, jewelry and much more. Our artists will be glad to tell you about their creations! \n\nIn addition to all the superb artwork (of which there is soooo much!)\, WinterFair! includes: \n\nFood\, including vegetarian\, soups\, chili (with/without meat)\, giant juicy hotdogs\, soft drinks\, coffee and yummy homemade desserts\, along with a quiet café for resting and eating.\nArt raffle supporting a worthy local charity. Art items are donated by our generous artists\, and you just might take home the very piece you want!\nThe Roberta Marx Gallery is our entrance hallway and will display artwork by All Peoples members. Many of these artists will have their own WinterFair booths or will display more creations for sale in the Member Gift Shop. Our church attracts all kinds of creative people\, so the variety is amazing!\nThe Member Gallery Gift Shop Art work in the Gift Shop is made by All Peoples artists\, many of whom have art displayed in the Gallery. You’ll find a remarkable variety at reasonable prices. Sales from the gift shop support both the artists and All Peoples
URL:https://things-to-lou.com/events/annual-winterfair-fine-art-crafts-handcrafted-items/
LOCATION:ALL PEOPLES: a Unitarian Universalist Congregation\, 4936 Brownsboro Rd\, Louisville\, KY\, 40222\, United States
CATEGORIES:Art,Food & Drink,Market,Shopping
END:VEVENT
BEGIN:VEVENT
DTSTART;TZID=America/New_York:20251205T000000
DTEND;TZID=America/New_York:20251207T235959
DTSTAMP:20260424T000017
CREATED:20251202T074159Z
LAST-MODIFIED:20251202T074159Z
UID:10003273-1764892800-1765151999@things-to-lou.com
SUMMARY:Locust Grove Holiday Book Sale
DESCRIPTION:This season’s book show promises to be our most exciting yet! Unlike our usual holiday show\, this winter\, the entire auditorium will be transformed into a reader’s paradise\, filled wall to wall with books\, thanks to a remarkable recently donated collection. \nDiscover an exceptional selection of fine-quality volumes\, including beautiful bindings\, classic literature\, poetry\, cookbooks\, and children’s books\, alongside a delightful assortment of holiday-themed books perfect for gifting or cozy winter reading. \nWhether you’re a seasoned collector or simply love the feel of a good book in your hands\, this expanded Winter Book Show invites you to browse\, linger\, and let the right story find you. \nDecember 5 – December 7\n10am – 5pm \n***description from website
URL:https://things-to-lou.com/events/locust-grove-holiday-book-sale/
LOCATION:Locust Grove\, 561 Blankenbaker Ln\, Louisville\, KY\, 40207\, United States
CATEGORIES:Market,Shopping
END:VEVENT
BEGIN:VEVENT
DTSTART;TZID=America/New_York:20251205T180000
DTEND;TZID=America/New_York:20251206T210000
DTSTAMP:20260424T000017
CREATED:20250805T181524Z
LAST-MODIFIED:20251202T064440Z
UID:10002861-1764957600-1765054800@things-to-lou.com
SUMMARY:Preview Night: Made Market | Louisville Holiday Market 2025
DESCRIPTION:Holiday shoppers\, brace yourselves for an unforgettable day of festive fun! We’re returning to Mellwood’s premier event space with an even more spectacular lineup of artisans to spark your holiday spirit! \n\nWe really enjoyed the Louisville Holiday market last year! Check out this preview! \n\nFri\, Dec 5 – Holiday Preview Market\nYou’re invited to the exciting fourth annual collaboration between Made Market and Maker’s Mark at our Holiday Preview Market! \nJoin us on Friday December 5 from 6-9pm at Mellwood Art Center (1860 Mellwood Ave\, Louisville\, KY). \nPurchase tickets here \nWe have so many incredible elements going into this event:\n\nShop all your favorite makers early\, before doors open to the public.\nGourmet charcuterie box\nLive Screen Printing with the Maker’s Studio + free tote\nMaker’s Mark tasting experience\nCash bar\nYour choice of workshop with one of our expert makers (scroll down for descriptions)\n\n**While Made Market on Saturday is intentionally family friendly\, our Preview Night is exclusively 21 & older. \nWorkshops:\n\nCustom Cologne Blend\nSignature Candle Creation\nEvergreen Elegance\n\n\nSat\, Dec 6 – Louisville Holiday Market\nWe’re thrilled for you to join us for Made Market Louisville – Holiday 2025! \nHoliday shoppers\, brace yourselves for an unforgettable day of festive fun! We’re returning to Mellwood’s premier event space with an even more spectacular lineup of artisans to spark your holiday spirit! \nDiscover unique\, handcrafted treasures from over 90 talented makers\, indulge in delicious food and drinks\, and immerse yourself in the vibrant Louisville community we cherish. \n\nTime: 10 AM – 5 PM\nLocation: Mellwood Art Center (1860 Mellwood Ave)\n\nMade Market is your go-to for curated\, one-of-a-kind gifts perfect for everyone on your list–or a little treat for yourself! \nWe’re thrilled to celebrate Louisville’s maker scene with you! \nAdmission is $5 for adults\, free for kids 15 and under\, and parking is completely FREE! \nJoin us for a day of holiday magic! \n\nWe really enjoyed the Louisville Holiday market last year! Check out this preview! \n\n  \n***description from website \n 
URL:https://things-to-lou.com/events/louisville-holiday-2025-made-market/
LOCATION:Mellwood Art Center\, 1860 Mellwood Ave\, Louisville\, 40206\, United States
CATEGORIES:Market,Shopping
ATTACH;FMTTYPE=image/png:https://things-to-lou.com/wp-content/uploads/2025/08/590171625_688277730805820_3311751047034614992_n-e1764656781398.png
END:VEVENT
BEGIN:VEVENT
DTSTART;TZID=America/New_York:20251206T000000
DTEND;TZID=America/New_York:20251207T235959
DTSTAMP:20260424T000017
CREATED:20251201T192245Z
LAST-MODIFIED:20251201T192245Z
UID:10003253-1764979200-1765151999@things-to-lou.com
SUMMARY:Holiday Nightmare on Main Street
DESCRIPTION:Join us for two frightfully festive days packed with holiday spirit\, spooky surprises\, and a unique shopping experience! \nOVER 70 VENDORS | INDEPENDENT ARTISTS | HAUNTS | FOOD TRUCKS | GRINCH AND KRAMPUS PHOTO-OPS \n\nDECEMBER 6: 10am – 7pm\nDECEMBER 7: 12PM – 5PM
URL:https://things-to-lou.com/events/holiday-nightmare-on-main-street/
LOCATION:Caufield’s Novelty\, 1006 W Main St\, Louisville\, KY\, 40202\, United States
CATEGORIES:Market,Shopping
END:VEVENT
BEGIN:VEVENT
DTSTART;TZID=America/New_York:20251206T100000
DTEND;TZID=America/New_York:20251206T170000
DTSTAMP:20260424T000017
CREATED:20251202T064424Z
LAST-MODIFIED:20251202T064424Z
UID:10003260-1765015200-1765040400@things-to-lou.com
SUMMARY:Made Market | Louisville Holiday Market 2025
DESCRIPTION:Holiday shoppers\, brace yourselves for an unforgettable day of festive fun! We’re returning to Mellwood’s premier event space with an even more spectacular lineup of artisans to spark your holiday spirit! \n\nWe really enjoyed the Louisville Holiday market last year! Check out this preview! \n\nFri\, Dec 5 – Holiday Preview Market\nYou’re invited to the exciting fourth annual collaboration between Made Market and Maker’s Mark at our Holiday Preview Market! \nJoin us on Friday December 5 from 6-9pm at Mellwood Art Center (1860 Mellwood Ave\, Louisville\, KY). \nPurchase tickets here \nWe have so many incredible elements going into this event:\n\nShop all your favorite makers early\, before doors open to the public.\nGourmet charcuterie box\nLive Screen Printing with the Maker’s Studio + free tote\nMaker’s Mark tasting experience\nCash bar\nYour choice of workshop with one of our expert makers (scroll down for descriptions)\n\n**While Made Market on Saturday is intentionally family friendly\, our Preview Night is exclusively 21 & older. \nWorkshops:\n\nCustom Cologne Blend\nSignature Candle Creation\nEvergreen Elegance\n\n\nSat\, Dec 6 – Louisville Holiday Market\nWe’re thrilled for you to join us for Made Market Louisville – Holiday 2025! \nHoliday shoppers\, brace yourselves for an unforgettable day of festive fun! We’re returning to Mellwood’s premier event space with an even more spectacular lineup of artisans to spark your holiday spirit! \nDiscover unique\, handcrafted treasures from over 90 talented makers\, indulge in delicious food and drinks\, and immerse yourself in the vibrant Louisville community we cherish. \n\nTime: 10 AM – 5 PM\nLocation: Mellwood Art Center (1860 Mellwood Ave)\n\nMade Market is your go-to for curated\, one-of-a-kind gifts perfect for everyone on your list–or a little treat for yourself! \nWe’re thrilled to celebrate Louisville’s maker scene with you! \nAdmission is $5 for adults\, free for kids 15 and under\, and parking is completely FREE! \nJoin us for a day of holiday magic! \n\nWe really enjoyed the Louisville Holiday market last year! Check out this preview! \n\n  \n***description from website \n 
URL:https://things-to-lou.com/events/made-market-louisville-holiday-market-2025/
LOCATION:Mellwood Art Center\, 1860 Mellwood Ave\, Louisville\, 40206\, United States
CATEGORIES:Market,Shopping
ATTACH;FMTTYPE=image/png:https://things-to-lou.com/wp-content/uploads/2025/08/590171625_688277730805820_3311751047034614992_n-e1764656781398.png
END:VEVENT
BEGIN:VEVENT
DTSTART;TZID=America/New_York:20251206T150000
DTEND;TZID=America/New_York:20251206T210000
DTSTAMP:20260424T000017
CREATED:20251201T192819Z
LAST-MODIFIED:20251201T192858Z
UID:10003254-1765033200-1765054800@things-to-lou.com
SUMMARY:Light Up Louisville | parade\, market\, Santa\, entertainment\, & more!
DESCRIPTION:Don’t miss one of the City of Louisville’s biggest events! \nStep into a winter wonderland as we kick off the holiday season in Downtown Louisville at this year’s “Light Up Louisville” \nPowered by LG&E 🎄☃️ \nJoin us on Saturday\, December 6th from 3pm – 9pm at Jefferson Square Park for an evening full of festive fun for the entire family! \nWhat to expect:\n❄️ Video-Mapping Holiday Show on Metro Hall\n❄️ Local\, holiday shopping along the Mistletoe Market\n❄️ Delicious bites at Frosty’s Food Court\n❄️ Live entertainment across 2 stages\n❄️ The magical Lots of Lights Parade (Starts at 6pm) (See the application)\n❄️ Free photos with Santa & Friends inside Santa’s House\n❄️ Free trackless train rides aboard the Jolly Jingle Express\n❄️ A visit from the REAL Santa Claus!\n❄️ A special finale show to close out Light Up Louisville & kick off the holiday season!\n❄️ Fun\, free activities for kids and so much more! \nBring the whole family for a night of holiday magic—it’s the perfect way to begin the season! \nFREE admission for all. \nLight Up Louisville is Sponsored by LG&E\, Ford Motor Co.\, AT&T\, Humana\, Centerwell\, Louisville Downtown Partnership\, WLKY\, 840 WHAS\, 100.5 FM\, 98.9 KISS\, McCain\, Outfront Media. \nThe event is in collaboration with Louisville Metro’s annual Light Up Louisville and will transform the Plaza on Fourth\, between Jefferson and Market Streets\, with a unique outdoor\, pop-up shopping and food vendor market in the heart of Louisville. \nThis festive event offers a unique opportunity for the community to shop local\, support small businesses\, and enjoy the holiday spirit in a vibrant downtown setting. \nSo Downtown will be full of the holiday spirit on Saturday\, December 6th and we cannot wait to see you there! \nSTREET CLOSURES
URL:https://things-to-lou.com/events/light-up-louisville-2/
LOCATION:Downtown Louisville
CATEGORIES:Family & Children,Holiday Season,Market
END:VEVENT
BEGIN:VEVENT
DTSTART;TZID=America/New_York:20251212T000000
DTEND;TZID=America/New_York:20251212T235959
DTSTAMP:20260424T000017
CREATED:20250618T034240Z
LAST-MODIFIED:20250618T034240Z
UID:10002588-1765497600-1765583999@things-to-lou.com
SUMMARY:NuLu Nights
DESCRIPTION:Introducing NuLu Nights! \nJoin us in NuLu on July 25\, August 22\, October 17 and December 12. \nFeaturing music and art activations along with NuLu retail shops and other businesses staying open late\, with many of them offering exclusive discounts and specials. \nMore information with be posted soon. \nCheers \n  \n***description from website
URL:https://things-to-lou.com/events/nulu-nights-2/
LOCATION:NULU\, 701 E Market St.\, Louisville\, KY\, 40202\, United States
CATEGORIES:Block Party / Community Festival,Market,Shopping
END:VEVENT
BEGIN:VEVENT
DTSTART;TZID=America/New_York:20251213T000000
DTEND;TZID=America/New_York:20251214T235959
DTSTAMP:20260424T000017
CREATED:20251110T230955Z
LAST-MODIFIED:20251110T230955Z
UID:10003186-1765584000-1765756799@things-to-lou.com
SUMMARY:Bri Weaves | Open Studio
DESCRIPTION:Event Name:\nBri Weaves Open Studio \nEvent Date:\n2025-12-13 \nWebsite / Ticket Link:\nhttp://www.briweaves.com \nLocation:\n107 N. Jane St. Louisville\, KY 40206 \nEvent Host:\nBri Weaves \nEvent Description / Other Info:\nLouisville\, KY — Briana Frederick\, aka the “Goat Lady\,” is excited to announce the 5th Annual Bri Weaves Open Studio. \nThis two-day event invites the public to meet the weaver\, visit the famed Clifton goats-Betty & Boon\, see the studio Bri uses the goat fiber in\, & buy handwoven cowls\, neckerchiefs\, scarves\, upcycled vests & more for the holidays. \nAttendees can complete their shopping with local\, handmade goods straight from other makers too! Melissa Louise Calhoun of Pleasant Holler Herbal Apothecary with wildcrafted plant extracts\, Jessica Ballard of Star Flower Services with ritual crafts & incense\, Don’t Call Me Heather with micro-crochet accessories\, Edwin Ramirez with wearable art & local sourdough goods will be available from El Bread. \nThe event will take place Saturday\, Dec 13th & Sunday\, Dec. 14th from 10-5 each day at 107 N. Jane St. Louisville\, KY 40206\, wheelchair accessible from the rear. \nFor more information please contact Briana Frederick (she/her)\, or visit http://www.briweaves.com.
URL:https://things-to-lou.com/events/bri-weaves-open-studio/
LOCATION:Bri Weaves – Studio\, 107 N. Jane St\, Louisville\, KY\, 40206\, United States
CATEGORIES:Art,Market,Shopping
ATTACH;FMTTYPE=image/png:https://things-to-lou.com/wp-content/uploads/2025/11/bri-weaves-5th-annual-open-studio.zip-1-e1762816247131.png
END:VEVENT
BEGIN:VEVENT
DTSTART;TZID=America/New_York:20251213T000000
DTEND;TZID=America/New_York:20251214T235959
DTSTAMP:20260424T000017
CREATED:20251112T035200Z
LAST-MODIFIED:20251112T035200Z
UID:10003202-1765584000-1765756799@things-to-lou.com
SUMMARY:14th Annual Indoor Holiday Bazaar | Flea Off Market (multiple days)
DESCRIPTION:Shop small this holiday season at The Flea Off Market’s 14th Annual Indoor Holiday Bazaar: \nThis pop-up holiday market has over 150 artists\, makers\, craftspeople\, and vendors selling vintage\, collectible\, and handmade items\, ensuring you’ll find the perfectly unique gift! ❄️ \n\nSaturday\, December 13\, 11 am-6 pm\nSunday\, December 14\, 11 am-5 pm\n\nFeaturing food trucks\, craft beer\, wine\, cocktails\, the Flea Bar\, live music\, and pics with Santa! The Flea Off Market is always free and family-friendly. \n🎵LIVE MUSIC🎵\n🍔FOOD🌯\n🍺FULL BAR🥃 \nMellwood Arts Center is one of Louisville’s premier event spaces\, with a prime location just East of downtown. \nWith its artist studios\, galleries\, shops\, and cafes\, MAC will already be a bustling shopping center on Dec 13-14; and with The Flea taking over the two giant event rooms we expect huge crowds. \nAlso worth noting: this spot has an enormous adjacent parking lot. \n  \n***description from FB event
URL:https://things-to-lou.com/events/14th-annual-indoor-holiday-bazaar-flea-off-market-multiple-days/
LOCATION:Mellwood Art Center\, 1860 Mellwood Ave\, Louisville\, 40206\, United States
CATEGORIES:Holiday Season,Market,Shopping
END:VEVENT
BEGIN:VEVENT
DTSTART;TZID=America/New_York:20251214T090000
DTEND;TZID=America/New_York:20251214T140000
DTSTAMP:20260424T000017
CREATED:20251212T072946Z
LAST-MODIFIED:20251212T072946Z
UID:10003296-1765702800-1765720800@things-to-lou.com
SUMMARY:Myrna Brame Ujima Marketplace | a holiday shopping experience celebrating community\, creativity\, and togetherness
DESCRIPTION:Event Name:\nUjima Marketplace \nEvent Date:\n2025-12-14 \nWebsite / Ticket Link:\nhttp://www.ssclive.org \nLocation:\n1508 W Kentucky St\, Louisville\, KY 40210 \nEvent Host:\nSt. Stephen Baptist Church \nEvent Description / Other Info:\nJoin us for the annual Myrna Brame Ujima Marketplace\, a joyful holiday shopping experience celebrating community\, creativity\, and togetherness! \nThis festive indoor marketplace will feature over 30 local vendors\, offering unique gifts\, handmade crafts\, specialty items\, and holiday treasures perfect for everyone on your list. \nBring the kids along for cookie decorating\, festive fun\, and a chance to experience the magic of the season. \nAnd don’t miss a special appearance by Sir San Applause\, available for photos from 12 PM – 2 PM by Rob Johnson. \nHosted by Krystal Goodner-Spratt and Derrick Carr\, the Ujima Marketplace is a celebration of collective work and responsibility—a chance to support local businesses while enjoying the warmth of the holiday season with your church family and community. \nFor more information\, contact Angela Lucear at ALucear@ssclive.org
URL:https://things-to-lou.com/events/myrna-brame-ujima-marketplace-a-holiday-shopping-experience-celebrating-community-creativity-and-togetherness/
LOCATION:St. Stephen Baptist Church\, 1018 South 15th Street\, Louisville\, KY\, 40210\, United States
CATEGORIES:Holiday Season,Market,Shopping
ATTACH;FMTTYPE=image/jpeg:https://things-to-lou.com/wp-content/uploads/2025/12/ssc_holidaymarketplace2025-e1765524599334.jpg
END:VEVENT
END:VCALENDAR