BEGIN:VCALENDAR
VERSION:2.0
PRODID:-//Things To Lou - ECPv6.15.20//NONSGML v1.0//EN
CALSCALE:GREGORIAN
METHOD:PUBLISH
X-ORIGINAL-URL:https://things-to-lou.com
X-WR-CALDESC:Events for Things To Lou
REFRESH-INTERVAL;VALUE=DURATION:PT1H
X-Robots-Tag:noindex
X-PUBLISHED-TTL:PT1H
BEGIN:VTIMEZONE
TZID:America/New_York
BEGIN:DAYLIGHT
TZOFFSETFROM:-0500
TZOFFSETTO:-0400
TZNAME:EDT
DTSTART:20240310T070000
END:DAYLIGHT
BEGIN:STANDARD
TZOFFSETFROM:-0400
TZOFFSETTO:-0500
TZNAME:EST
DTSTART:20241103T060000
END:STANDARD
BEGIN:DAYLIGHT
TZOFFSETFROM:-0500
TZOFFSETTO:-0400
TZNAME:EDT
DTSTART:20250309T070000
END:DAYLIGHT
BEGIN:STANDARD
TZOFFSETFROM:-0400
TZOFFSETTO:-0500
TZNAME:EST
DTSTART:20251102T060000
END:STANDARD
BEGIN:DAYLIGHT
TZOFFSETFROM:-0500
TZOFFSETTO:-0400
TZNAME:EDT
DTSTART:20260308T070000
END:DAYLIGHT
BEGIN:STANDARD
TZOFFSETFROM:-0400
TZOFFSETTO:-0500
TZNAME:EST
DTSTART:20261101T060000
END:STANDARD
END:VTIMEZONE
BEGIN:VEVENT
DTSTART;TZID=America/New_York:20251125T183000
DTEND;TZID=America/New_York:20251125T220000
DTSTAMP:20260424T052056
CREATED:20251110T221650Z
LAST-MODIFIED:20251110T221650Z
UID:10003166-1764095400-1764108000@things-to-lou.com
SUMMARY:Thanksgiving Cocktail Competition
DESCRIPTION:Join us November 25th at 6:30 pm for our first annual Thanksgiving Cocktail Competition\, when 8 of your favorite local bartenders will compete for prizes and a year’s worth of bragging rights! \nWe’ve partnered with our friends at\, you guessed it\, @wildturkey\, to bring you an exciting evening full of spirited competition. Each contestant will draw a secret ingredient on the spot and create a cocktail with the Wild Turkey spirit of their choice. We’ll have three judges on hand to determine the winners\, and one cocktail from each round will be auctioned off for charity! \nWild Turkey cocktail specials will be available all evening and the one and only @record_shop will be on the vinyl until the winners take their victory laps! \nThis one’s gonna be a blast\, so don’t miss it…Cheers\, y’all! \n***description from IG post
URL:https://things-to-lou.com/events/thanksgiving-cocktail-competition/
LOCATION:Tartan House\, 1027 E Main St\, Louisville\, KY\, 40206\, United States
CATEGORIES:Bourbon,Mixology
END:VEVENT
END:VCALENDAR