BEGIN:VCALENDAR
VERSION:2.0
PRODID:-//Things To Lou - ECPv6.15.20//NONSGML v1.0//EN
CALSCALE:GREGORIAN
METHOD:PUBLISH
X-WR-CALNAME:Things To Lou
X-ORIGINAL-URL:https://things-to-lou.com
X-WR-CALDESC:Events for Things To Lou
REFRESH-INTERVAL;VALUE=DURATION:PT1H
X-Robots-Tag:noindex
X-PUBLISHED-TTL:PT1H
BEGIN:VTIMEZONE
TZID:America/New_York
BEGIN:DAYLIGHT
TZOFFSETFROM:-0500
TZOFFSETTO:-0400
TZNAME:EDT
DTSTART:20250309T070000
END:DAYLIGHT
BEGIN:STANDARD
TZOFFSETFROM:-0400
TZOFFSETTO:-0500
TZNAME:EST
DTSTART:20251102T060000
END:STANDARD
BEGIN:DAYLIGHT
TZOFFSETFROM:-0500
TZOFFSETTO:-0400
TZNAME:EDT
DTSTART:20260308T070000
END:DAYLIGHT
BEGIN:STANDARD
TZOFFSETFROM:-0400
TZOFFSETTO:-0500
TZNAME:EST
DTSTART:20261101T060000
END:STANDARD
BEGIN:DAYLIGHT
TZOFFSETFROM:-0500
TZOFFSETTO:-0400
TZNAME:EDT
DTSTART:20270314T070000
END:DAYLIGHT
BEGIN:STANDARD
TZOFFSETFROM:-0400
TZOFFSETTO:-0500
TZNAME:EST
DTSTART:20271107T060000
END:STANDARD
END:VTIMEZONE
BEGIN:VEVENT
DTSTART;TZID=America/New_York:20260608T083000
DTEND;TZID=America/New_York:20260608T160000
DTSTAMP:20260423T235607
CREATED:20260206T022120Z
LAST-MODIFIED:20260206T022120Z
UID:10004656-1780907400-1780934400@things-to-lou.com
SUMMARY:Camp Frazier: Wild Lives: All Things (Even Live) Animals!
DESCRIPTION:Prepare to get wild during this week-long Summer Camp! Themed around all things animals\, learn about some of history’s most famous furry friends and join us for presentations with local organizations that educate about and showcase real animals! \n\nABOUT THE CAMP\nCamp Frazier: Wild Lives: All Things (Even Live) Animals!\nMonday\, June 8–Friday\, June 12\nFrazier Kentucky History Museum \n\nDrop-off: 8:45–9:30 a.m.\nPickup: 3:30–4 p.m.\n\nAges:\nOpen to Kids in Grades Rising 1–6 \nCost:\n\n$295/week\n($265/week for members)\n\n(ask about our sibling discount!)
URL:https://things-to-lou.com/events/camp-frazier-wild-lives-all-things-even-live-animals/2026-06-08/
LOCATION:Frazier History Museum\, 829 West Main Street\, Louisville\, 40202\, United States
CATEGORIES:Educational,Family & Children,Museum
ATTACH;FMTTYPE=image/jpeg:https://things-to-lou.com/wp-content/uploads/2026/02/2026-6-8-12-camp-frazier-wild-lives-e1770343996986.jpg
END:VEVENT
BEGIN:VEVENT
DTSTART;TZID=America/New_York:20260609T083000
DTEND;TZID=America/New_York:20260609T160000
DTSTAMP:20260423T235607
CREATED:20260206T022120Z
LAST-MODIFIED:20260206T022120Z
UID:10004657-1780993800-1781020800@things-to-lou.com
SUMMARY:Camp Frazier: Wild Lives: All Things (Even Live) Animals!
DESCRIPTION:Prepare to get wild during this week-long Summer Camp! Themed around all things animals\, learn about some of history’s most famous furry friends and join us for presentations with local organizations that educate about and showcase real animals! \n\nABOUT THE CAMP\nCamp Frazier: Wild Lives: All Things (Even Live) Animals!\nMonday\, June 8–Friday\, June 12\nFrazier Kentucky History Museum \n\nDrop-off: 8:45–9:30 a.m.\nPickup: 3:30–4 p.m.\n\nAges:\nOpen to Kids in Grades Rising 1–6 \nCost:\n\n$295/week\n($265/week for members)\n\n(ask about our sibling discount!)
URL:https://things-to-lou.com/events/camp-frazier-wild-lives-all-things-even-live-animals/2026-06-09/
LOCATION:Frazier History Museum\, 829 West Main Street\, Louisville\, 40202\, United States
CATEGORIES:Educational,Family & Children,Museum
ATTACH;FMTTYPE=image/jpeg:https://things-to-lou.com/wp-content/uploads/2026/02/2026-6-8-12-camp-frazier-wild-lives-e1770343996986.jpg
END:VEVENT
BEGIN:VEVENT
DTSTART;TZID=America/New_York:20260610T083000
DTEND;TZID=America/New_York:20260610T160000
DTSTAMP:20260423T235607
CREATED:20260206T022120Z
LAST-MODIFIED:20260206T022120Z
UID:10004658-1781080200-1781107200@things-to-lou.com
SUMMARY:Camp Frazier: Wild Lives: All Things (Even Live) Animals!
DESCRIPTION:Prepare to get wild during this week-long Summer Camp! Themed around all things animals\, learn about some of history’s most famous furry friends and join us for presentations with local organizations that educate about and showcase real animals! \n\nABOUT THE CAMP\nCamp Frazier: Wild Lives: All Things (Even Live) Animals!\nMonday\, June 8–Friday\, June 12\nFrazier Kentucky History Museum \n\nDrop-off: 8:45–9:30 a.m.\nPickup: 3:30–4 p.m.\n\nAges:\nOpen to Kids in Grades Rising 1–6 \nCost:\n\n$295/week\n($265/week for members)\n\n(ask about our sibling discount!)
URL:https://things-to-lou.com/events/camp-frazier-wild-lives-all-things-even-live-animals/2026-06-10/
LOCATION:Frazier History Museum\, 829 West Main Street\, Louisville\, 40202\, United States
CATEGORIES:Educational,Family & Children,Museum
ATTACH;FMTTYPE=image/jpeg:https://things-to-lou.com/wp-content/uploads/2026/02/2026-6-8-12-camp-frazier-wild-lives-e1770343996986.jpg
END:VEVENT
BEGIN:VEVENT
DTSTART;TZID=America/New_York:20260611T083000
DTEND;TZID=America/New_York:20260611T160000
DTSTAMP:20260423T235607
CREATED:20260206T022120Z
LAST-MODIFIED:20260206T022120Z
UID:10004659-1781166600-1781193600@things-to-lou.com
SUMMARY:Camp Frazier: Wild Lives: All Things (Even Live) Animals!
DESCRIPTION:Prepare to get wild during this week-long Summer Camp! Themed around all things animals\, learn about some of history’s most famous furry friends and join us for presentations with local organizations that educate about and showcase real animals! \n\nABOUT THE CAMP\nCamp Frazier: Wild Lives: All Things (Even Live) Animals!\nMonday\, June 8–Friday\, June 12\nFrazier Kentucky History Museum \n\nDrop-off: 8:45–9:30 a.m.\nPickup: 3:30–4 p.m.\n\nAges:\nOpen to Kids in Grades Rising 1–6 \nCost:\n\n$295/week\n($265/week for members)\n\n(ask about our sibling discount!)
URL:https://things-to-lou.com/events/camp-frazier-wild-lives-all-things-even-live-animals/2026-06-11/
LOCATION:Frazier History Museum\, 829 West Main Street\, Louisville\, 40202\, United States
CATEGORIES:Educational,Family & Children,Museum
ATTACH;FMTTYPE=image/jpeg:https://things-to-lou.com/wp-content/uploads/2026/02/2026-6-8-12-camp-frazier-wild-lives-e1770343996986.jpg
END:VEVENT
BEGIN:VEVENT
DTSTART;TZID=America/New_York:20260612T083000
DTEND;TZID=America/New_York:20260612T160000
DTSTAMP:20260423T235607
CREATED:20260206T022120Z
LAST-MODIFIED:20260206T022120Z
UID:10004660-1781253000-1781280000@things-to-lou.com
SUMMARY:Camp Frazier: Wild Lives: All Things (Even Live) Animals!
DESCRIPTION:Prepare to get wild during this week-long Summer Camp! Themed around all things animals\, learn about some of history’s most famous furry friends and join us for presentations with local organizations that educate about and showcase real animals! \n\nABOUT THE CAMP\nCamp Frazier: Wild Lives: All Things (Even Live) Animals!\nMonday\, June 8–Friday\, June 12\nFrazier Kentucky History Museum \n\nDrop-off: 8:45–9:30 a.m.\nPickup: 3:30–4 p.m.\n\nAges:\nOpen to Kids in Grades Rising 1–6 \nCost:\n\n$295/week\n($265/week for members)\n\n(ask about our sibling discount!)
URL:https://things-to-lou.com/events/camp-frazier-wild-lives-all-things-even-live-animals/2026-06-12/
LOCATION:Frazier History Museum\, 829 West Main Street\, Louisville\, 40202\, United States
CATEGORIES:Educational,Family & Children,Museum
ATTACH;FMTTYPE=image/jpeg:https://things-to-lou.com/wp-content/uploads/2026/02/2026-6-8-12-camp-frazier-wild-lives-e1770343996986.jpg
END:VEVENT
BEGIN:VEVENT
DTSTART;TZID=America/New_York:20260614T120000
DTEND;TZID=America/New_York:20260614T170000
DTSTAMP:20260423T235607
CREATED:20260108T072417Z
LAST-MODIFIED:20260108T072417Z
UID:10003805-1781438400-1781456400@things-to-lou.com
SUMMARY:Louisville Water Tower | WaterWorks Museum Open Day
DESCRIPTION:Mark your calendars! 📅 \nThe Louisville Water Tower is open the second Sunday of every month for tours throughout 2026\, starting Sunday\, Jan. 11! \nWhether you’re a history enthusiast\, architecture lover\, or looking for a unique educational experience for the family\, we’d love to welcome you to explore Louisville’s iconic landmark. \n#LouisvilleWaterTower #LouisvillePureTap #LouisvilleHistory \n**description from IG post
URL:https://things-to-lou.com/events/louisville-water-tower-waterworks-museum-open-day-7/2026-06-14/
LOCATION:Louisville Water Tower\, 3005 River Rd\, Louisville\, KY\, 40207\, United States
CATEGORIES:Educational,Entertainment,Family & Children,Museum
ATTACH;FMTTYPE=image/jpeg:https://things-to-lou.com/wp-content/uploads/2026/01/IMG_0867-1-e1767857030939.jpg
END:VEVENT
BEGIN:VEVENT
DTSTART;TZID=America/New_York:20260615T083000
DTEND;TZID=America/New_York:20260615T160000
DTSTAMP:20260423T235607
CREATED:20260206T022447Z
LAST-MODIFIED:20260206T022447Z
UID:10004661-1781512200-1781539200@things-to-lou.com
SUMMARY:Camp Frazier: The Museum\, the Myth\, the Legend
DESCRIPTION:Brace yourself for some history mysteries! In this exciting week-long Summer Camp\, learn all about local legends\, discover the history behind some of the world’s most famous myths\, and embark on a journey around the museum! \n\nABOUT THE CAMP\nCamp Frazier: The Museum\, the Myth\, the Legend\nMonday\, June 15–Friday\, June 19\nFrazier Kentucky History Museum \n\nDrop-off: 8:45–9:30 a.m.\nPickup: 3:30–4 p.m.\n\nAges:\n\nOpen to Kids in Grades Rising 1–6\n\nCost:\n\n$295/week\n($265/week for members)\n\n(ask about our sibling discount!)
URL:https://things-to-lou.com/events/camp-frazier-the-museum-the-myth-the-legend/2026-06-15/
LOCATION:Frazier History Museum\, 829 West Main Street\, Louisville\, 40202\, United States
CATEGORIES:Educational,Family & Children
ATTACH;FMTTYPE=image/jpeg:https://things-to-lou.com/wp-content/uploads/2026/02/2026-6-15-19-camp-frazier-museum-myth-legend-e1770343987225.jpg
END:VEVENT
BEGIN:VEVENT
DTSTART;TZID=America/New_York:20260616T083000
DTEND;TZID=America/New_York:20260616T160000
DTSTAMP:20260423T235607
CREATED:20260206T022447Z
LAST-MODIFIED:20260206T022447Z
UID:10004662-1781598600-1781625600@things-to-lou.com
SUMMARY:Camp Frazier: The Museum\, the Myth\, the Legend
DESCRIPTION:Brace yourself for some history mysteries! In this exciting week-long Summer Camp\, learn all about local legends\, discover the history behind some of the world’s most famous myths\, and embark on a journey around the museum! \n\nABOUT THE CAMP\nCamp Frazier: The Museum\, the Myth\, the Legend\nMonday\, June 15–Friday\, June 19\nFrazier Kentucky History Museum \n\nDrop-off: 8:45–9:30 a.m.\nPickup: 3:30–4 p.m.\n\nAges:\n\nOpen to Kids in Grades Rising 1–6\n\nCost:\n\n$295/week\n($265/week for members)\n\n(ask about our sibling discount!)
URL:https://things-to-lou.com/events/camp-frazier-the-museum-the-myth-the-legend/2026-06-16/
LOCATION:Frazier History Museum\, 829 West Main Street\, Louisville\, 40202\, United States
CATEGORIES:Educational,Family & Children
ATTACH;FMTTYPE=image/jpeg:https://things-to-lou.com/wp-content/uploads/2026/02/2026-6-15-19-camp-frazier-museum-myth-legend-e1770343987225.jpg
END:VEVENT
BEGIN:VEVENT
DTSTART;TZID=America/New_York:20260617T083000
DTEND;TZID=America/New_York:20260617T160000
DTSTAMP:20260423T235607
CREATED:20260206T022447Z
LAST-MODIFIED:20260206T022447Z
UID:10004663-1781685000-1781712000@things-to-lou.com
SUMMARY:Camp Frazier: The Museum\, the Myth\, the Legend
DESCRIPTION:Brace yourself for some history mysteries! In this exciting week-long Summer Camp\, learn all about local legends\, discover the history behind some of the world’s most famous myths\, and embark on a journey around the museum! \n\nABOUT THE CAMP\nCamp Frazier: The Museum\, the Myth\, the Legend\nMonday\, June 15–Friday\, June 19\nFrazier Kentucky History Museum \n\nDrop-off: 8:45–9:30 a.m.\nPickup: 3:30–4 p.m.\n\nAges:\n\nOpen to Kids in Grades Rising 1–6\n\nCost:\n\n$295/week\n($265/week for members)\n\n(ask about our sibling discount!)
URL:https://things-to-lou.com/events/camp-frazier-the-museum-the-myth-the-legend/2026-06-17/
LOCATION:Frazier History Museum\, 829 West Main Street\, Louisville\, 40202\, United States
CATEGORIES:Educational,Family & Children
ATTACH;FMTTYPE=image/jpeg:https://things-to-lou.com/wp-content/uploads/2026/02/2026-6-15-19-camp-frazier-museum-myth-legend-e1770343987225.jpg
END:VEVENT
BEGIN:VEVENT
DTSTART;TZID=America/New_York:20260618T083000
DTEND;TZID=America/New_York:20260618T160000
DTSTAMP:20260423T235607
CREATED:20260206T022447Z
LAST-MODIFIED:20260206T022447Z
UID:10004664-1781771400-1781798400@things-to-lou.com
SUMMARY:Camp Frazier: The Museum\, the Myth\, the Legend
DESCRIPTION:Brace yourself for some history mysteries! In this exciting week-long Summer Camp\, learn all about local legends\, discover the history behind some of the world’s most famous myths\, and embark on a journey around the museum! \n\nABOUT THE CAMP\nCamp Frazier: The Museum\, the Myth\, the Legend\nMonday\, June 15–Friday\, June 19\nFrazier Kentucky History Museum \n\nDrop-off: 8:45–9:30 a.m.\nPickup: 3:30–4 p.m.\n\nAges:\n\nOpen to Kids in Grades Rising 1–6\n\nCost:\n\n$295/week\n($265/week for members)\n\n(ask about our sibling discount!)
URL:https://things-to-lou.com/events/camp-frazier-the-museum-the-myth-the-legend/2026-06-18/
LOCATION:Frazier History Museum\, 829 West Main Street\, Louisville\, 40202\, United States
CATEGORIES:Educational,Family & Children
ATTACH;FMTTYPE=image/jpeg:https://things-to-lou.com/wp-content/uploads/2026/02/2026-6-15-19-camp-frazier-museum-myth-legend-e1770343987225.jpg
END:VEVENT
BEGIN:VEVENT
DTSTART;TZID=America/New_York:20260619T083000
DTEND;TZID=America/New_York:20260619T160000
DTSTAMP:20260423T235607
CREATED:20260206T022447Z
LAST-MODIFIED:20260206T022447Z
UID:10004665-1781857800-1781884800@things-to-lou.com
SUMMARY:Camp Frazier: The Museum\, the Myth\, the Legend
DESCRIPTION:Brace yourself for some history mysteries! In this exciting week-long Summer Camp\, learn all about local legends\, discover the history behind some of the world’s most famous myths\, and embark on a journey around the museum! \n\nABOUT THE CAMP\nCamp Frazier: The Museum\, the Myth\, the Legend\nMonday\, June 15–Friday\, June 19\nFrazier Kentucky History Museum \n\nDrop-off: 8:45–9:30 a.m.\nPickup: 3:30–4 p.m.\n\nAges:\n\nOpen to Kids in Grades Rising 1–6\n\nCost:\n\n$295/week\n($265/week for members)\n\n(ask about our sibling discount!)
URL:https://things-to-lou.com/events/camp-frazier-the-museum-the-myth-the-legend/2026-06-19/
LOCATION:Frazier History Museum\, 829 West Main Street\, Louisville\, 40202\, United States
CATEGORIES:Educational,Family & Children
ATTACH;FMTTYPE=image/jpeg:https://things-to-lou.com/wp-content/uploads/2026/02/2026-6-15-19-camp-frazier-museum-myth-legend-e1770343987225.jpg
END:VEVENT
BEGIN:VEVENT
DTSTART;TZID=America/New_York:20260622T083000
DTEND;TZID=America/New_York:20260622T160000
DTSTAMP:20260423T235607
CREATED:20260206T022813Z
LAST-MODIFIED:20260206T022813Z
UID:10004666-1782117000-1782144000@things-to-lou.com
SUMMARY:Camp Frazier: From Heralds to Hashtags: History’s Greatest Influencers!
DESCRIPTION:Get your cameras ready and strike a pose! \nDuring this week-long Summer Camp\, explore some of the stories behind history’s most famous and influential figures and learn from the Frazier’s marketing team how to become a museum influencer yourself! \n\nABOUT THE CAMP\nCamp Frazier: From Heralds to Hashtags: History’s Greatest Influencers!\nMonday\, June 22–Friday\, June 26\nFrazier Kentucky History Museum \n\nDrop-off: 8:45–9:30 a.m.\nPickup: 3:30–4 p.m.\n\nAges:\n\nOpen to Kids in Grades Rising 1–6\n\nCost:\n\n$295/week\n($265/week for members)\n\n(ask about our sibling discount!)
URL:https://things-to-lou.com/events/camp-frazier-from-heralds-to-hashtags-historys-greatest-influencers/2026-06-22/
LOCATION:Frazier History Museum\, 829 West Main Street\, Louisville\, 40202\, United States
CATEGORIES:Educational,Family & Children,Museum
ATTACH;FMTTYPE=image/jpeg:https://things-to-lou.com/wp-content/uploads/2026/02/2026-6-22-26-camp-frazier-heralds-hashtags-e1770343979963.jpg
END:VEVENT
BEGIN:VEVENT
DTSTART;TZID=America/New_York:20260623T083000
DTEND;TZID=America/New_York:20260623T160000
DTSTAMP:20260423T235607
CREATED:20260206T022813Z
LAST-MODIFIED:20260206T022813Z
UID:10004667-1782203400-1782230400@things-to-lou.com
SUMMARY:Camp Frazier: From Heralds to Hashtags: History’s Greatest Influencers!
DESCRIPTION:Get your cameras ready and strike a pose! \nDuring this week-long Summer Camp\, explore some of the stories behind history’s most famous and influential figures and learn from the Frazier’s marketing team how to become a museum influencer yourself! \n\nABOUT THE CAMP\nCamp Frazier: From Heralds to Hashtags: History’s Greatest Influencers!\nMonday\, June 22–Friday\, June 26\nFrazier Kentucky History Museum \n\nDrop-off: 8:45–9:30 a.m.\nPickup: 3:30–4 p.m.\n\nAges:\n\nOpen to Kids in Grades Rising 1–6\n\nCost:\n\n$295/week\n($265/week for members)\n\n(ask about our sibling discount!)
URL:https://things-to-lou.com/events/camp-frazier-from-heralds-to-hashtags-historys-greatest-influencers/2026-06-23/
LOCATION:Frazier History Museum\, 829 West Main Street\, Louisville\, 40202\, United States
CATEGORIES:Educational,Family & Children,Museum
ATTACH;FMTTYPE=image/jpeg:https://things-to-lou.com/wp-content/uploads/2026/02/2026-6-22-26-camp-frazier-heralds-hashtags-e1770343979963.jpg
END:VEVENT
BEGIN:VEVENT
DTSTART;TZID=America/New_York:20260624T083000
DTEND;TZID=America/New_York:20260624T160000
DTSTAMP:20260423T235607
CREATED:20260206T022813Z
LAST-MODIFIED:20260206T022813Z
UID:10004668-1782289800-1782316800@things-to-lou.com
SUMMARY:Camp Frazier: From Heralds to Hashtags: History’s Greatest Influencers!
DESCRIPTION:Get your cameras ready and strike a pose! \nDuring this week-long Summer Camp\, explore some of the stories behind history’s most famous and influential figures and learn from the Frazier’s marketing team how to become a museum influencer yourself! \n\nABOUT THE CAMP\nCamp Frazier: From Heralds to Hashtags: History’s Greatest Influencers!\nMonday\, June 22–Friday\, June 26\nFrazier Kentucky History Museum \n\nDrop-off: 8:45–9:30 a.m.\nPickup: 3:30–4 p.m.\n\nAges:\n\nOpen to Kids in Grades Rising 1–6\n\nCost:\n\n$295/week\n($265/week for members)\n\n(ask about our sibling discount!)
URL:https://things-to-lou.com/events/camp-frazier-from-heralds-to-hashtags-historys-greatest-influencers/2026-06-24/
LOCATION:Frazier History Museum\, 829 West Main Street\, Louisville\, 40202\, United States
CATEGORIES:Educational,Family & Children,Museum
ATTACH;FMTTYPE=image/jpeg:https://things-to-lou.com/wp-content/uploads/2026/02/2026-6-22-26-camp-frazier-heralds-hashtags-e1770343979963.jpg
END:VEVENT
BEGIN:VEVENT
DTSTART;TZID=America/New_York:20260625T083000
DTEND;TZID=America/New_York:20260625T160000
DTSTAMP:20260423T235607
CREATED:20260206T022813Z
LAST-MODIFIED:20260206T022813Z
UID:10004669-1782376200-1782403200@things-to-lou.com
SUMMARY:Camp Frazier: From Heralds to Hashtags: History’s Greatest Influencers!
DESCRIPTION:Get your cameras ready and strike a pose! \nDuring this week-long Summer Camp\, explore some of the stories behind history’s most famous and influential figures and learn from the Frazier’s marketing team how to become a museum influencer yourself! \n\nABOUT THE CAMP\nCamp Frazier: From Heralds to Hashtags: History’s Greatest Influencers!\nMonday\, June 22–Friday\, June 26\nFrazier Kentucky History Museum \n\nDrop-off: 8:45–9:30 a.m.\nPickup: 3:30–4 p.m.\n\nAges:\n\nOpen to Kids in Grades Rising 1–6\n\nCost:\n\n$295/week\n($265/week for members)\n\n(ask about our sibling discount!)
URL:https://things-to-lou.com/events/camp-frazier-from-heralds-to-hashtags-historys-greatest-influencers/2026-06-25/
LOCATION:Frazier History Museum\, 829 West Main Street\, Louisville\, 40202\, United States
CATEGORIES:Educational,Family & Children,Museum
ATTACH;FMTTYPE=image/jpeg:https://things-to-lou.com/wp-content/uploads/2026/02/2026-6-22-26-camp-frazier-heralds-hashtags-e1770343979963.jpg
END:VEVENT
BEGIN:VEVENT
DTSTART;TZID=America/New_York:20260626T083000
DTEND;TZID=America/New_York:20260626T160000
DTSTAMP:20260423T235607
CREATED:20260206T022813Z
LAST-MODIFIED:20260206T022813Z
UID:10004670-1782462600-1782489600@things-to-lou.com
SUMMARY:Camp Frazier: From Heralds to Hashtags: History’s Greatest Influencers!
DESCRIPTION:Get your cameras ready and strike a pose! \nDuring this week-long Summer Camp\, explore some of the stories behind history’s most famous and influential figures and learn from the Frazier’s marketing team how to become a museum influencer yourself! \n\nABOUT THE CAMP\nCamp Frazier: From Heralds to Hashtags: History’s Greatest Influencers!\nMonday\, June 22–Friday\, June 26\nFrazier Kentucky History Museum \n\nDrop-off: 8:45–9:30 a.m.\nPickup: 3:30–4 p.m.\n\nAges:\n\nOpen to Kids in Grades Rising 1–6\n\nCost:\n\n$295/week\n($265/week for members)\n\n(ask about our sibling discount!)
URL:https://things-to-lou.com/events/camp-frazier-from-heralds-to-hashtags-historys-greatest-influencers/2026-06-26/
LOCATION:Frazier History Museum\, 829 West Main Street\, Louisville\, 40202\, United States
CATEGORIES:Educational,Family & Children,Museum
ATTACH;FMTTYPE=image/jpeg:https://things-to-lou.com/wp-content/uploads/2026/02/2026-6-22-26-camp-frazier-heralds-hashtags-e1770343979963.jpg
END:VEVENT
END:VCALENDAR