BEGIN:VCALENDAR
VERSION:2.0
PRODID:-//Things To Lou - ECPv6.15.20//NONSGML v1.0//EN
CALSCALE:GREGORIAN
METHOD:PUBLISH
X-ORIGINAL-URL:https://things-to-lou.com
X-WR-CALDESC:Events for Things To Lou
REFRESH-INTERVAL;VALUE=DURATION:PT1H
X-Robots-Tag:noindex
X-PUBLISHED-TTL:PT1H
BEGIN:VTIMEZONE
TZID:America/New_York
BEGIN:DAYLIGHT
TZOFFSETFROM:-0500
TZOFFSETTO:-0400
TZNAME:EDT
DTSTART:20240310T070000
END:DAYLIGHT
BEGIN:STANDARD
TZOFFSETFROM:-0400
TZOFFSETTO:-0500
TZNAME:EST
DTSTART:20241103T060000
END:STANDARD
BEGIN:DAYLIGHT
TZOFFSETFROM:-0500
TZOFFSETTO:-0400
TZNAME:EDT
DTSTART:20250309T070000
END:DAYLIGHT
BEGIN:STANDARD
TZOFFSETFROM:-0400
TZOFFSETTO:-0500
TZNAME:EST
DTSTART:20251102T060000
END:STANDARD
BEGIN:DAYLIGHT
TZOFFSETFROM:-0500
TZOFFSETTO:-0400
TZNAME:EDT
DTSTART:20260308T070000
END:DAYLIGHT
BEGIN:STANDARD
TZOFFSETFROM:-0400
TZOFFSETTO:-0500
TZNAME:EST
DTSTART:20261101T060000
END:STANDARD
END:VTIMEZONE
BEGIN:VEVENT
DTSTART;TZID=America/New_York:20251018T170000
DTEND;TZID=America/New_York:20251018T200000
DTSTAMP:20260423T223910
CREATED:20250910T030937Z
LAST-MODIFIED:20250910T030937Z
UID:10002951-1760806800-1760817600@things-to-lou.com
SUMMARY:Sofar Sounds concert (Downtown - Museum)
DESCRIPTION:At this show\, you’ll get up close and personal with artists\, meet like-minded music fans\, and experience a cool\, local space in an entirely new way. \nNOTE — check out this Instagram video of a recent Sofar Sounds concert we went to! \nSaturday\, October 18 \n\nDoors open – 5:00 PM\nShow starts – 6:00 PM\n\nDowntown \nAddress revealed 36 hours before \nLate arrivals may be held at door until set break \n\nEvent details \n\nDuration: Up to 3 hours\nAddress reveal: You’ll receive the street address via email or text about 36 hours before the show. For same day purchases\, you’ll receive an email or text within 15 minutes of placing your order.\n\n  \nAlcohol for purchase \n\nThis venue has drinks (alcoholic and non-alcoholic) available for purchase.\n\n  \nYou cannot bring your own food \n\nThis venue does not permit attendees to bring any food to the show. If you need to bring food for medical or religious reasons\, please reach out to our team so we can make appropriate accommodations.\n\n  \nUsually floor seating: cushions welcome \n\nIf we don’t have the full seating information for the venue\, you can assume that the show will be mostly floor seating. You can bring cushions or blankets to make yourself more comfortable. If you have an accessibility need\, please reach out in advance and we can try to make arrangements to provide seats.\n\n  \nIndoor show \n\nThis show takes place indoors.\n\n  \nMuseum \n\nOur shows are hosted in unique spaces and hidden gems around the city.\n\n  \nAccessibility information \n\nThis space is not wheelchair accessible.\nFor more details on how we can assist you\, check out this helpful article.\nIf you have an accessibility need\, please get in touch either before or immediately after booking tickets so we can work with you to accommodate any requests.\n\n  \nAdditional information \n\nFree public parking is available near this venue.\n\n  \n***description from event website
URL:https://things-to-lou.com/events/sofar-sounds-concert-downtown-museum/
LOCATION:Secret Location
CATEGORIES:Music
END:VEVENT
END:VCALENDAR