BEGIN:VCALENDAR
VERSION:2.0
PRODID:-//Things To Lou - ECPv6.15.20//NONSGML v1.0//EN
CALSCALE:GREGORIAN
METHOD:PUBLISH
X-ORIGINAL-URL:https://things-to-lou.com
X-WR-CALDESC:Events for Things To Lou
REFRESH-INTERVAL;VALUE=DURATION:PT1H
X-Robots-Tag:noindex
X-PUBLISHED-TTL:PT1H
BEGIN:VTIMEZONE
TZID:America/New_York
BEGIN:DAYLIGHT
TZOFFSETFROM:-0500
TZOFFSETTO:-0400
TZNAME:EDT
DTSTART:20240310T070000
END:DAYLIGHT
BEGIN:STANDARD
TZOFFSETFROM:-0400
TZOFFSETTO:-0500
TZNAME:EST
DTSTART:20241103T060000
END:STANDARD
BEGIN:DAYLIGHT
TZOFFSETFROM:-0500
TZOFFSETTO:-0400
TZNAME:EDT
DTSTART:20250309T070000
END:DAYLIGHT
BEGIN:STANDARD
TZOFFSETFROM:-0400
TZOFFSETTO:-0500
TZNAME:EST
DTSTART:20251102T060000
END:STANDARD
BEGIN:DAYLIGHT
TZOFFSETFROM:-0500
TZOFFSETTO:-0400
TZNAME:EDT
DTSTART:20260308T070000
END:DAYLIGHT
BEGIN:STANDARD
TZOFFSETFROM:-0400
TZOFFSETTO:-0500
TZNAME:EST
DTSTART:20261101T060000
END:STANDARD
END:VTIMEZONE
BEGIN:VEVENT
DTSTART;TZID=America/New_York:20251218T173000
DTEND;TZID=America/New_York:20251218T203000
DTSTAMP:20260423T190901
CREATED:20251126T052011Z
LAST-MODIFIED:20251126T052444Z
UID:10003227-1766079000-1766089800@things-to-lou.com
SUMMARY:2025 Lights on Main | Late Night Thursday
DESCRIPTION:Event Name:\n2025 Lights on Main Late Night Thursday \nEvent Date:\n2025-12-18 \nWebsite / Ticket Link:\nhttps://www.fraziermuseum.org/calendar/lights-on-main-late-night-thursday-2025 \nLocation:\nFrazier History Museum\, 829 W. Main St. \nEvent Host:\nFrazier History Museum \nEvent Description / Other Info:\nStep into the holiday season at the Frazier History Museum for Lights on Main! \nFrom November 25 to January 4\, the Frazier in partnership with the nonprofit I Would Rather Be Reading is transformed into a winter wonderland with three floors of trees beautifully decorated by local businesses. \nLearn more at fraziermuseum.org/exhibitions/lights-on-main \nABOUT THE PROGRAM\n2025 Lights on Main Late Night Thursday\nThursday\, December 18\n5:30–8:30 p.m.\nFrazier History Museum\nAdmission: $12 Discounted Admission \n· Angel’s Envy\, Buzzard’s Roost\, and Pursuit Spirits Offer Complimentary Tastings\n· Bearno’s Sells Pizza\n· Christian Academy of Indiana (CAI) High School Chamber Singers Perform\n· Louisville Academy of Music Curates Performances\n· Frazier’s Museum Shop Sells Kentucky-Themed Gifts for Last-Minute Christmas Shoppers!
URL:https://things-to-lou.com/events/2025-lights-on-main-late-night-thursday/
LOCATION:Frazier History Museum\, 829 West Main Street\, Louisville\, 40202\, United States
CATEGORIES:Bourbon,Holiday Season,Museum
ATTACH;FMTTYPE=image/jpeg:https://things-to-lou.com/wp-content/uploads/2025/11/lights-on-main-2025_-12-18-website-square-e1764136766493.jpg
END:VEVENT
BEGIN:VEVENT
DTSTART;TZID=America/New_York:20251218T183000
DTEND;TZID=America/New_York:20251218T200000
DTSTAMP:20260423T190901
CREATED:20251126T054716Z
LAST-MODIFIED:20251126T054716Z
UID:10003234-1766082600-1766088000@things-to-lou.com
SUMMARY:Wild Turkeys: Russell Family Tasting & Barrel Pick
DESCRIPTION:Event Name:\nWild Turkeys: Russell Family Tasting & Barrel Pick \nEvent Date:\n2025-12-18 \nWebsite / Ticket Link:\nhttps://www.fraziermuseum.org/calendar/wild-turkeys-russell-family-barrel-selection \nLocation:\nFrazier Kentucky History Museum\, 829 W. Main St. \nEvent Host:\nFrazier Kentucky History Museum \nEvent Description / Other Info:\nJoin us for an unforgettable night at the Frazier\, where three generations of Bourbon mastery come together for a once-in-a-lifetime tasting and storytelling experience. \nThis immersive event blends the artistry of Bourbon making with the soul of family tradition\, culminating in a private barrel selection from the world-famous Camp Nelson F Rickhouse—home to some of the most sought-after Wild Turkey barrels ever produced. \nThird-generation whiskey maker Bruce Russell will lead tastings of premium Wild Turkey and Russell’s Reserve Bourbons while sharing stories of his grandfather\, Jimmy Russell\, who first stepped foot in the distillery in 1954\, and his father\, Eddie Russell\, who worked at Wild Turkey for 34 years before becoming master distiller. \nEvery guest will experience a taste of time\, tradition\, and the Wild Turkey way before having the option to purchase a bottle of the Russell’s Camp Nelson F private barrel selection. Live a little\, come have a taste! \nABOUT THE PROGRAM\nWild Turkeys: Russell Family Tasting & Barrel Pick\nThursday\, December 18\nFrazier History Museum \n\nDoors Open: 5:30 p.m.\nFull Museum Access: 5:30–8:30 p.m.\nProgram: 6:30–8 p.m.\n\nAdmission: $45 \nRussell’s Reserve Frazier Barrel Selection (Camp Nelson F Rickhouse): $96 \nGet tickets at fraziermuseum.org
URL:https://things-to-lou.com/events/wild-turkeys-russell-family-tasting-barrel-pick/
LOCATION:Frazier History Museum\, 829 West Main Street\, Louisville\, 40202\, United States
CATEGORIES:Bourbon,Museum
ATTACH;FMTTYPE=image/jpeg:https://things-to-lou.com/wp-content/uploads/2025/11/wild-turkeys_-website-square-e1764136841699.jpg
END:VEVENT
END:VCALENDAR