BEGIN:VCALENDAR
VERSION:2.0
PRODID:-//Things To Lou - ECPv6.15.20//NONSGML v1.0//EN
CALSCALE:GREGORIAN
METHOD:PUBLISH
X-WR-CALNAME:Things To Lou
X-ORIGINAL-URL:https://things-to-lou.com
X-WR-CALDESC:Events for Things To Lou
REFRESH-INTERVAL;VALUE=DURATION:PT1H
X-Robots-Tag:noindex
X-PUBLISHED-TTL:PT1H
BEGIN:VTIMEZONE
TZID:America/New_York
BEGIN:DAYLIGHT
TZOFFSETFROM:-0500
TZOFFSETTO:-0400
TZNAME:EDT
DTSTART:20250309T070000
END:DAYLIGHT
BEGIN:STANDARD
TZOFFSETFROM:-0400
TZOFFSETTO:-0500
TZNAME:EST
DTSTART:20251102T060000
END:STANDARD
BEGIN:DAYLIGHT
TZOFFSETFROM:-0500
TZOFFSETTO:-0400
TZNAME:EDT
DTSTART:20260308T070000
END:DAYLIGHT
BEGIN:STANDARD
TZOFFSETFROM:-0400
TZOFFSETTO:-0500
TZNAME:EST
DTSTART:20261101T060000
END:STANDARD
BEGIN:DAYLIGHT
TZOFFSETFROM:-0500
TZOFFSETTO:-0400
TZNAME:EDT
DTSTART:20270314T070000
END:DAYLIGHT
BEGIN:STANDARD
TZOFFSETFROM:-0400
TZOFFSETTO:-0500
TZNAME:EST
DTSTART:20271107T060000
END:STANDARD
END:VTIMEZONE
BEGIN:VEVENT
DTSTART;TZID=America/New_York:20260214T100000
DTEND;TZID=America/New_York:20260214T150000
DTSTAMP:20260423T141645
CREATED:20251212T070633Z
LAST-MODIFIED:20251212T070633Z
UID:10003292-1771063200-1771081200@things-to-lou.com
SUMMARY:Vows with your Valentine | mini-matrimony ceremonies
DESCRIPTION:Event Name:\nVows with your Valentine \nEvent Date:\n2026-02-14 \nWebsite / Ticket Link:\nhttps://www.fraziermuseum.org/calendar/vows-with-your-valentine \nLocation:\nFrazier Kentucky History Museum\, 829 W. Main St. \nEvent Host:\nFrazier Kentucky History Museum \nEvent Description / Other Info:\nLet us sweat the small stuff with memorable mini-matrimony ceremonies on Valentine’s Day! \nPackage per couple plus up to ten guests includes: \n· Ordained Ceremony in Order of the Writ\n· Champagne toast & cake in the Speakeasy\n· One complimentary portrait/videography of the ceremony\n· Floral décor provided by Michaelis Events\n· All gallery access\, including Davis Jewelers’ Love & Marriage exhibition \nMake history at the Frazier by letting us write the first chapter with you! \nCost: $500 \nFor additional information\, contact events@fraziermuseum.org or (502) 587-0941. \n*Applies to February 14\, 2026\, only. Spots are limited!
URL:https://things-to-lou.com/events/vows-with-your-valentine-mini-matrimony-ceremonies/
LOCATION:Frazier History Museum\, 829 West Main Street\, Louisville\, 40202\, United States
CATEGORIES:Museum
ATTACH;FMTTYPE=image/jpeg:https://things-to-lou.com/wp-content/uploads/2025/12/vows-with-your-valentine-2025_-web-square-e1765523613943.jpg
END:VEVENT
END:VCALENDAR