BEGIN:VCALENDAR
VERSION:2.0
PRODID:-//Things To Lou - ECPv6.15.20//NONSGML v1.0//EN
CALSCALE:GREGORIAN
METHOD:PUBLISH
X-WR-CALNAME:Things To Lou
X-ORIGINAL-URL:https://things-to-lou.com
X-WR-CALDESC:Events for Things To Lou
REFRESH-INTERVAL;VALUE=DURATION:PT1H
X-Robots-Tag:noindex
X-PUBLISHED-TTL:PT1H
BEGIN:VTIMEZONE
TZID:America/New_York
BEGIN:DAYLIGHT
TZOFFSETFROM:-0500
TZOFFSETTO:-0400
TZNAME:EDT
DTSTART:20250309T070000
END:DAYLIGHT
BEGIN:STANDARD
TZOFFSETFROM:-0400
TZOFFSETTO:-0500
TZNAME:EST
DTSTART:20251102T060000
END:STANDARD
BEGIN:DAYLIGHT
TZOFFSETFROM:-0500
TZOFFSETTO:-0400
TZNAME:EDT
DTSTART:20260308T070000
END:DAYLIGHT
BEGIN:STANDARD
TZOFFSETFROM:-0400
TZOFFSETTO:-0500
TZNAME:EST
DTSTART:20261101T060000
END:STANDARD
BEGIN:DAYLIGHT
TZOFFSETFROM:-0500
TZOFFSETTO:-0400
TZNAME:EDT
DTSTART:20270314T070000
END:DAYLIGHT
BEGIN:STANDARD
TZOFFSETFROM:-0400
TZOFFSETTO:-0500
TZNAME:EST
DTSTART:20271107T060000
END:STANDARD
END:VTIMEZONE
BEGIN:VEVENT
DTSTART;TZID=America/New_York:20260205T180000
DTEND;TZID=America/New_York:20260206T000000
DTSTAMP:20260423T190936
CREATED:20260121T054359Z
LAST-MODIFIED:20260121T054359Z
UID:10004067-1770314400-1770336000@things-to-lou.com
SUMMARY:After Work Kickback X Behind The Pink Door
DESCRIPTION:The Kickback returns for its first installment of 2026! Behind The Pink Door is running back-to-back weeks! \nBringing you two beloved community vibes\, one epic night\, and infinite energy. An iconic moment in time that you don’t want to miss! \n✨ Celebrating Black history\, sapphic magic\, and love in ALL its forms. \n✨ Historic DJ lineup hitting the stage together for the first time ever — Black\, queer\, and excellence in full effect. \n✨ A safe\, elevated space where multi-intersectional identities are centered\, highlighted\, and uplifted. \nExperience a cultural shift as we transform space where music\, energy\, and intention collide. \nSee you in 3 weeks! \n#AfterWorkKickback #BehindThePinkDoor #BlackExcellence #SapphicMagic #NightlifeRemagined \n***description from IG post
URL:https://things-to-lou.com/events/after-work-kickback-x-behind-the-pink-door/
LOCATION:The Whirling Tiger\, 1335 Story Ave \, KY 40206\, Louisville\, KY\, 40206\, United States
CATEGORIES:Food & Drink,Music
ATTACH;FMTTYPE=image/png:https://things-to-lou.com/wp-content/uploads/2025/12/img_5096-e1766981559383.png
END:VEVENT
BEGIN:VEVENT
DTSTART;TZID=America/New_York:20260205T180000
DTEND;TZID=America/New_York:20260206T000000
DTSTAMP:20260423T190936
CREATED:20260128T185549Z
LAST-MODIFIED:20260128T185704Z
UID:10004197-1770314400-1770336000@things-to-lou.com
SUMMARY:After Work Kickback X Behind The Pink Door
DESCRIPTION:The Kickback returns for its first installment of 2026! Behind The Pink Door is running back-to-back weeks! Bringing you two beloved community vibes\, one epic night\, and infinite energy. An iconic moment in time that you don’t want to miss! \n✨ Celebrating Black history\, sapphic magic\, and love in ALL its forms. \n✨ Historic DJ lineup hitting the stage together for the first time ever — Black\, queer\, and excellence in full effect. \n✨ A safe\, elevated space where multi-intersectional identities are centered\, highlighted\, and uplifted. \n  \nExperience a cultural shift as we transform space where music\, energy\, and intention collide. \n#AfterWorkKickback #BehindThePinkDoor #BlackExcellence #SapphicMagic #NightlifeRemagined \n  \n***description from IG post \n\n\nCocktails by Sherri Jenkins\nFood by POCO Pop Ups\nHosted by TALA\nMusic by DJ Ayomi\, DJ DNasti\, & DJ Ibjamn
URL:https://things-to-lou.com/events/after-work-kickback-x-behind-the-pink-door-2/
LOCATION:The Whirling Tiger\, 1335 Story Ave \, KY 40206\, Louisville\, KY\, 40206\, United States
CATEGORIES:Food & Drink,LGBTQIA+,Mixology,Music,Nightlife
ATTACH;FMTTYPE=image/jpeg:https://things-to-lou.com/wp-content/uploads/2026/01/612207509_1347241044096959_4589668293982925383_n-e1769625742765.jpg
END:VEVENT
BEGIN:VEVENT
DTSTART;TZID=America/New_York:20260205T193000
DTEND;TZID=America/New_York:20260205T220000
DTSTAMP:20260423T190936
CREATED:20260109T223834Z
LAST-MODIFIED:20260109T223834Z
UID:10003931-1770319800-1770328800@things-to-lou.com
SUMMARY:Black Violin: Full Circle Tour
DESCRIPTION:Step into Black Violin’s Full Circle Tour\, where GRAMMY-nominated duo Wil Baptiste and Kev Marcus redefine the possibilities of music by merging classical depth with hip-hop’s pulse. This tour captures the essence of returning to where it all began—transformed and reimagined. Each powerful performance invites audiences to reflect on their own journeys\, discovering that even as we evolve\, we’re often drawn back to our roots with renewed purpose. \nFrom high school orchestra classmates to groundbreaking artists\, Black Violin’s path reflects resilience\, creativity\, and the courage to challenge expectations. With their Black Violin Foundation reaching over 100\,000 students each year\, they’re building a legacy that transcends the stage\, inspiring a new generation to dream boldly. Join them for an unforgettable night that celebrates growth\, music\, and the beauty of coming full circle. \n$1 from every ticket sold for this event will go to the Black Violin Foundation. Click here for more information on the Black Violin Foundation and their work to empower the next generation of young musicians. \nBrown-Forman Midnite Ramble Series Presents \nBlack Violin\nFull Circle Tour
URL:https://things-to-lou.com/events/black-violin-full-circle-tour/
LOCATION:Brown Theatre\, 315 W Broadway\, Louisville\, KY\, 40202\, United States
CATEGORIES:Music
END:VEVENT
BEGIN:VEVENT
DTSTART;TZID=America/New_York:20260205T200000
DTEND;TZID=America/New_York:20260205T220000
DTSTAMP:20260423T190936
CREATED:20260116T041915Z
LAST-MODIFIED:20260116T041915Z
UID:10004007-1770321600-1770328800@things-to-lou.com
SUMMARY:Time Slip Theatre presents Alanis Morissette’s Jagged Little Pill
DESCRIPTION:Time Slip Theatre Presents First Local Production of Alanis Morissette’s ‘Jagged Little Pill’ The Musical \nBased on the Alanis Morissette album\, the show will run in community partnership with Actors Theatre of Louisville\, January 30 – February 8th \n“Jagged Little Pill” is an exhilarating and cathartic musical theatre experience set to the music of the iconic 1995 album of the same name. From the outside looking in\, Mary Jane Healy lives the perfect life in her peaceful Connecticut suburb. Her husband Steve has a well-paying job in the city; her son Nick just got accepted into Harvard; and her adopted daughter Frankie is operating her own social advocacy student group. But beneath the surface\, there’s more than meets the eye for the Healy family. Mary Jane is struggling with addiction while doing everything she can to keep her family together in order to maintain the picture-perfect appearance she clings to. But when an incident at a high school party rocks this small community\, everyone is forced to look inward\, see who they truly are and find the courage to make a change. \nSet to the unforgettable music of Alanis Morissette\, the show features hits like “All I Really Want\,” “Ironic\,” “You Oughta Know\,” “You Learn” and more. Against this timeless and incisive rock music backdrop\, the show explores the messy and beautiful intersection of love\, strength\, trauma and identity and proves that it’s never too late to change your way of thinking. \nDirected by Remy Sisk and Myranda Thomas \nFunds raised from the show will help support the revitalization of an Old Louisville church that Time Slip recently moved into. Located at 100 W. Ormsby Ave.\, the building will be a theatre and community arts hub where Time Slip will produce its mainstage shows and host its after-school children’s program. \nMore information is available at timesliptheatre.org. \n\nEvent Date:\nJan 30 – Feb 8\, 2026 \nWebsite / Ticket Link:\nhttps://www.actorstheatre.org/events/jagged-little-pill \nLocation:\nActors Theatre of Louisville \nEvent Host:\nTime Slip Theatre \n\nShowtimes:\nFri\, January 30\, 2026\n8:00 pm \nSat\, January 31\, 2026\n8:00 pm \nSun\, February 1\, 2026\n5:30 pm \nMon\, February 2\, 2026\n8:00 pm \nThu\, February 5\, 2026\n8:00 pm \nFri\, February 6\, 2026\n8:00 pm \nSat\, February 7\, 2026\n8:00 pm \nSun\, February 8\, 2026\n2:30 pm \n 
URL:https://things-to-lou.com/events/time-slip-theatre-presents-alanis-morissettes-jagged-little-pill/2026-02-05/
LOCATION:Actors Theatre of Louisville\, 316 W Main St\, Louisville\, KY\, 40202\, United States
CATEGORIES:Music,Theatre
ATTACH;FMTTYPE=image/jpeg:https://things-to-lou.com/wp-content/uploads/2026/01/untitled-design-e1768536665330.jpg
END:VEVENT
END:VCALENDAR