BEGIN:VCALENDAR
VERSION:2.0
PRODID:-//Things To Lou - ECPv6.15.20//NONSGML v1.0//EN
CALSCALE:GREGORIAN
METHOD:PUBLISH
X-ORIGINAL-URL:https://things-to-lou.com
X-WR-CALDESC:Events for Things To Lou
REFRESH-INTERVAL;VALUE=DURATION:PT1H
X-Robots-Tag:noindex
X-PUBLISHED-TTL:PT1H
BEGIN:VTIMEZONE
TZID:America/New_York
BEGIN:DAYLIGHT
TZOFFSETFROM:-0500
TZOFFSETTO:-0400
TZNAME:EDT
DTSTART:20250309T070000
END:DAYLIGHT
BEGIN:STANDARD
TZOFFSETFROM:-0400
TZOFFSETTO:-0500
TZNAME:EST
DTSTART:20251102T060000
END:STANDARD
BEGIN:DAYLIGHT
TZOFFSETFROM:-0500
TZOFFSETTO:-0400
TZNAME:EDT
DTSTART:20260308T070000
END:DAYLIGHT
BEGIN:STANDARD
TZOFFSETFROM:-0400
TZOFFSETTO:-0500
TZNAME:EST
DTSTART:20261101T060000
END:STANDARD
BEGIN:DAYLIGHT
TZOFFSETFROM:-0500
TZOFFSETTO:-0400
TZNAME:EDT
DTSTART:20270314T070000
END:DAYLIGHT
BEGIN:STANDARD
TZOFFSETFROM:-0400
TZOFFSETTO:-0500
TZNAME:EST
DTSTART:20271107T060000
END:STANDARD
END:VTIMEZONE
BEGIN:VEVENT
DTSTART;TZID=America/New_York:20260213T190000
DTEND;TZID=America/New_York:20260213T210000
DTSTAMP:20260423T191301
CREATED:20260115T032721Z
LAST-MODIFIED:20260115T032721Z
UID:10003992-1771009200-1771016400@things-to-lou.com
SUMMARY:Chocolate & Roses: A Galentine's Day Celebration
DESCRIPTION:Grab the girls and join us for Galentine’s’ Day at Locust Grove! \nThis Ladies event centers around chocolate and roses\, featuring live music with Kiana Del\, pop-up shopping\, female voices\, and floral crafts with JamilaWorks. \nDon’t forget to dress in style for your photo opps; we encourage velvet\, fur\, silk\, satin\, and lace. Drinks and Girl Dinner are included in the ticket price. \n\nEvent Date:\n2026-02-13 \nWebsite / Ticket Link:\nhttps://locustgrove.org/event/galentines-day/ \nLocation:\nLocust Grove Audubon Room \nEvent Host:\nHistoric Locust Grove \nEvent Description / Other Info:\nCHOCOLATE AND ROSES \nFriday\, February 13th \n7-9 PM\n$40 \n 
URL:https://things-to-lou.com/events/chocolate-roses-a-galentines-day-celebration/
LOCATION:Locust Grove\, 561 Blankenbaker Ln\, Louisville\, KY\, 40207\, United States
CATEGORIES:Food & Drink
ATTACH;FMTTYPE=image/png:https://things-to-lou.com/wp-content/uploads/2026/01/a-galentines-day-dinner-e1768447617190.png
END:VEVENT
BEGIN:VEVENT
DTSTART;TZID=America/New_York:20260213T193000
DTEND;TZID=America/New_York:20260213T210000
DTSTAMP:20260423T191301
CREATED:20260129T155332Z
LAST-MODIFIED:20260129T155332Z
UID:10004200-1771011000-1771016400@things-to-lou.com
SUMMARY:SPANISH GUITAR CONCERT: Andrea González Caballero
DESCRIPTION:Hailed as “the female voice of the Spanish guitar” by Opera World Magazine\, Andrea Gonzalez Caballero is an extraordinary talent\, enchanting audiences worldwide with her impeccable skills and evocative performances. A record-breaker\, Andrea is the youngest guitarist to win First Prize at the prestigious “XIII Alhambra International Guitar Competition” (Valencia) and has also claimed First Prize and Special Prize at the “XL International Competition F. Sor” (Rome). \nProudly sponsored by Guitarras Alhambra and D’addario and co.\, Andrea Gonzalez Caballero continues to mesmerize audiences with her extraordinary talent\, making her classical guitar concerts an unforgettable experience for all. \n\nFriday\, February 13th\n📍Holy Trinity Clifton Theater\n2117 Payne St\, Louisville\, KY 40206\, United States \n⏱️ 7:30pm – 8:45pm \n\n\nAll seating is general admission and assigned on a first come first served basis\nConcert length is 75 mins without interval\nAge requirement: Ages 7 and above. Under 16 must be accompanied by a parent or guardian.\nAccessibility: This venue is wheelchair accessible\nTickets cannot be purchased at the door. Online bookings only.\nDoors open 40 mins prior to concert start time\n* Applicable taxes will be added to your order.\n* Tickets are non-refundable.\nQuestions? Please contact info@andreagonzalezcaballero.com
URL:https://things-to-lou.com/events/spanish-guitar-concert-andrea-gonzalez-caballero/
LOCATION:Holy Trinity Clifton Theater\, 2117 Payne St\, Louisville\, KY\, 40206\, United States
CATEGORIES:Music
END:VEVENT
BEGIN:VEVENT
DTSTART;TZID=America/New_York:20260213T200000
DTEND;TZID=America/New_York:20260213T220000
DTSTAMP:20260423T191301
CREATED:20260109T220702Z
LAST-MODIFIED:20260109T220702Z
UID:10003906-1771012800-1771020000@things-to-lou.com
SUMMARY:Tony & The Tanlines Presents: Tanlines After Dark
DESCRIPTION:
URL:https://things-to-lou.com/events/tony-the-tanlines-presents-tanlines-after-dark/
LOCATION:Headliners Music Hall\, 1386 Lexington Road\, Louisville\, KY\, 40206\, United States
CATEGORIES:Music
END:VEVENT
END:VCALENDAR