BEGIN:VCALENDAR
VERSION:2.0
PRODID:-//Things To Lou - ECPv6.15.20//NONSGML v1.0//EN
CALSCALE:GREGORIAN
METHOD:PUBLISH
X-WR-CALNAME:Things To Lou
X-ORIGINAL-URL:https://things-to-lou.com
X-WR-CALDESC:Events for Things To Lou
REFRESH-INTERVAL;VALUE=DURATION:PT1H
X-Robots-Tag:noindex
X-PUBLISHED-TTL:PT1H
BEGIN:VTIMEZONE
TZID:America/New_York
BEGIN:DAYLIGHT
TZOFFSETFROM:-0500
TZOFFSETTO:-0400
TZNAME:EDT
DTSTART:20250309T070000
END:DAYLIGHT
BEGIN:STANDARD
TZOFFSETFROM:-0400
TZOFFSETTO:-0500
TZNAME:EST
DTSTART:20251102T060000
END:STANDARD
BEGIN:DAYLIGHT
TZOFFSETFROM:-0500
TZOFFSETTO:-0400
TZNAME:EDT
DTSTART:20260308T070000
END:DAYLIGHT
BEGIN:STANDARD
TZOFFSETFROM:-0400
TZOFFSETTO:-0500
TZNAME:EST
DTSTART:20261101T060000
END:STANDARD
BEGIN:DAYLIGHT
TZOFFSETFROM:-0500
TZOFFSETTO:-0400
TZNAME:EDT
DTSTART:20270314T070000
END:DAYLIGHT
BEGIN:STANDARD
TZOFFSETFROM:-0400
TZOFFSETTO:-0500
TZNAME:EST
DTSTART:20271107T060000
END:STANDARD
END:VTIMEZONE
BEGIN:VEVENT
DTSTART;TZID=America/New_York:20260228T180000
DTEND;TZID=America/New_York:20260228T203000
DTSTAMP:20260425T072847
CREATED:20260214T053610Z
LAST-MODIFIED:20260214T053610Z
UID:10004731-1772301600-1772310600@things-to-lou.com
SUMMARY:Kevin Harris Jazz Trio | Louisville Urban League Benefit Concert
DESCRIPTION:This special concert series features fellow Kentuckian and jazz pianist Kevin Harris\, marking Music For A Purpose’s first foray into the jazz genre. \nProceeds from the performances will benefit the Louisville Urban League\, supporting our work to expand jobs\, justice\, education\, health\, housing\, and Black business in West Louisville. Join us for an intimate concert experience at The Cafe in Paristown\, where music meets atmosphere in a cozy\, up-close setting. \nWith limited tickets available\, this intimate concert invites all who appreciate live music to experience every note up close. \nDoors open at 6:00 PM\, so arrive early to secure the best seating and enjoy dinner at the Cafe before the show begins. \nTickets are required. \n\nAbout the Artist\n\nKevin Harris is an internationally recognized jazz pianist and composer known for his soulful sound\, artistic curiosity\, and innovative collaborations.\nRooted in Black Gospel and Afro-Caribbean traditions\, his music weaves together jazz\, classical\, electronic media\, and storytelling to create immersive\, participatory performances that engage both heart and mind. Praised by artists such as Fred Hersch and Terri Lyne Carrington\, Harris’s work explores themes of strength\, love\, and self-awareness.\nA prolific composer and bandleader\, Harris has released six albums and premiered major works including Resonance: A Contemporary Symphonic Reflection Through the Courageous Lens of Steve Biko in South Africa.\nHe is a Yamaha Jazz piano artist and serves on the faculty at Berklee College of Music\, where he coaches ensembles\, teaches piano\, and mentors emerging musicians.
URL:https://things-to-lou.com/events/kevin-harris-jazz-trio-louisville-urban-league-benefit-concert/
LOCATION:The Café\, 731 Brent St\, Louisville\, KY\, 40204\, United States
CATEGORIES:Charity Fundraiser,Music
ATTACH;FMTTYPE=image/png:https://things-to-lou.com/wp-content/uploads/2026/02/feb28-e1771047647699.png
END:VEVENT
BEGIN:VEVENT
DTSTART;TZID=America/New_York:20260228T180000
DTEND;TZID=America/New_York:20260228T230000
DTSTAMP:20260425T072847
CREATED:20260129T154238Z
LAST-MODIFIED:20260129T154252Z
UID:10004199-1772301600-1772319600@things-to-lou.com
SUMMARY:'Supersonic Sanctuary' at the Time Slip Theatre
DESCRIPTION:A one-of-a-kind cocktail of funky lights & sounds inside of a 200 year old gothic revival-style church. \nFor one night only\, the newly transformed Time Slip Theatre will become a Supersonic Sanctuary – a genre-bending concert set beneath vaulted ceilings\, glowing stained glass\, and the eerie\, breathtaking acoustics of a space that’s never hosted music like this before … until now. \nFeaturing a dynamic/talented lineup of some of Louisville’s most up & coming musicians: \n\nIn Flight Entertainment – high-octane\, psych-tinged rock\nLacey Guthrie – atmospheric and experimental with ethereal vocals\nW.G. Rickel (of Future Killer) – cinematic\, brooding soundscapes layered with finger lickin’ guitar riffs\n\nExpect moody\, ethereal lighting. A candlelit stage. And a completely transformed space for a multisensory night of sound and ambiance that blurs the line between concert and a full blown spiritual experience. \nTickets = $30 (+fees & taxes). \n\nDoors at 6:00 PM\nMusic from 7:00–11:00 PM\n\nFull Cash Bar Available \nThis will be the first show held in this newly transformed space – and there will never be another first like it. \n****description from Eventbrite evetn \n\nMORE INFO ON FACEBOOK POST
URL:https://things-to-lou.com/events/supersonic-sanctuary-at-the-time-slip-theatre/
LOCATION:Time Slip Theatre\, 100 W Ormsby Ave\, Louisville\, KY\, 40203\, United States
CATEGORIES:Music
END:VEVENT
END:VCALENDAR