BEGIN:VCALENDAR
VERSION:2.0
PRODID:-//Things To Lou - ECPv6.15.20//NONSGML v1.0//EN
CALSCALE:GREGORIAN
METHOD:PUBLISH
X-WR-CALNAME:Things To Lou
X-ORIGINAL-URL:https://things-to-lou.com
X-WR-CALDESC:Events for Things To Lou
REFRESH-INTERVAL;VALUE=DURATION:PT1H
X-Robots-Tag:noindex
X-PUBLISHED-TTL:PT1H
BEGIN:VTIMEZONE
TZID:America/New_York
BEGIN:DAYLIGHT
TZOFFSETFROM:-0500
TZOFFSETTO:-0400
TZNAME:EDT
DTSTART:20250309T070000
END:DAYLIGHT
BEGIN:STANDARD
TZOFFSETFROM:-0400
TZOFFSETTO:-0500
TZNAME:EST
DTSTART:20251102T060000
END:STANDARD
BEGIN:DAYLIGHT
TZOFFSETFROM:-0500
TZOFFSETTO:-0400
TZNAME:EDT
DTSTART:20260308T070000
END:DAYLIGHT
BEGIN:STANDARD
TZOFFSETFROM:-0400
TZOFFSETTO:-0500
TZNAME:EST
DTSTART:20261101T060000
END:STANDARD
BEGIN:DAYLIGHT
TZOFFSETFROM:-0500
TZOFFSETTO:-0400
TZNAME:EDT
DTSTART:20270314T070000
END:DAYLIGHT
BEGIN:STANDARD
TZOFFSETFROM:-0400
TZOFFSETTO:-0500
TZNAME:EST
DTSTART:20271107T060000
END:STANDARD
END:VTIMEZONE
BEGIN:VEVENT
DTSTART;TZID=America/New_York:20260308T190000
DTEND;TZID=America/New_York:20260308T220000
DTSTAMP:20260423T155157
CREATED:20251014T150741Z
LAST-MODIFIED:20251014T150741Z
UID:10003094-1772996400-1773007200@things-to-lou.com
SUMMARY:Dropkick Murphys St. Patricks Day Tour
DESCRIPTION:☘️ JUST ANNOUNCED ☘️ @dropkickmurphys bring their St. Patrick’s Day Tour — FOR THE PEOPLE…IN THE PIT — to @oldforestersparistownhall on March 8 with @theaggrolites and @haywire617! \n🎫 Tickets on sale Friday at 10AM >> link in bio \n***description from Instagram post \n  \nGET TICKETS
URL:https://things-to-lou.com/events/dropkick-murphys-st-patricks-day-tour/
LOCATION:Old Forester’s Paristown Hall\, 724 Brent St\, Louisville\, KY\, 40204\, United States
CATEGORIES:Music
END:VEVENT
BEGIN:VEVENT
DTSTART;TZID=America/New_York:20260308T190000
DTEND;TZID=America/New_York:20260308T220000
DTSTAMP:20260423T155157
CREATED:20260105T081521Z
LAST-MODIFIED:20260105T081521Z
UID:10003789-1772996400-1773007200@things-to-lou.com
SUMMARY:Dropkick Murphys For The People... In the Pit St. Patrick's Day 2026 Tour
DESCRIPTION:Dropkick Murphys proudly remain Boston’s rock ‘n’ roll underdogs turned champions. Since 1996\, the boys have created the kind of music that’s meant to be chanted at last call\, in packed arenas\, and during the fourth quarter\, third period\, or ninth inning of a comeback rally. Their celebrated discography includes four consecutive Billboard top 10 album debuts (Turn Up That Dial\, 11 Short Stories Of Pain & Glory\, Signed and Sealed in Blood\, Going Out In Style)\, along with 2005’s Certified-Gold album The Warrior’s Code featuring the double platinum classic “I’m Shipping Up To Boston.” \nDropkick Murphys’ music has generated half-a-billion streams\, they’ve quietly moved 8 million-plus units worldwide and the band has sold out gigs on multiple continents. \nDropkick Murphys’ new album For The People rises to its moment: an expression of humanity at a time of relentless dehumanization\, a promise of hope in an era fueled by fear-mongering\, a declaration of solidarity in an age of disunion\, a defiant rebuttal to the charlatans and demagogues who seek to divide us for their own power and profit. \n  \n  \n**description from website
URL:https://things-to-lou.com/events/dropkick-murphys-for-the-people-in-the-pit-st-patricks-day-2026-tour/
LOCATION:Old Forester’s Paristown Hall\, 724 Brent St\, Louisville\, KY\, 40204\, United States
CATEGORIES:Music
END:VEVENT
END:VCALENDAR