BEGIN:VCALENDAR
VERSION:2.0
PRODID:-//Things To Lou - ECPv6.15.20//NONSGML v1.0//EN
CALSCALE:GREGORIAN
METHOD:PUBLISH
X-WR-CALNAME:Things To Lou
X-ORIGINAL-URL:https://things-to-lou.com
X-WR-CALDESC:Events for Things To Lou
REFRESH-INTERVAL;VALUE=DURATION:PT1H
X-Robots-Tag:noindex
X-PUBLISHED-TTL:PT1H
BEGIN:VTIMEZONE
TZID:America/New_York
BEGIN:DAYLIGHT
TZOFFSETFROM:-0500
TZOFFSETTO:-0400
TZNAME:EDT
DTSTART:20250309T070000
END:DAYLIGHT
BEGIN:STANDARD
TZOFFSETFROM:-0400
TZOFFSETTO:-0500
TZNAME:EST
DTSTART:20251102T060000
END:STANDARD
BEGIN:DAYLIGHT
TZOFFSETFROM:-0500
TZOFFSETTO:-0400
TZNAME:EDT
DTSTART:20260308T070000
END:DAYLIGHT
BEGIN:STANDARD
TZOFFSETFROM:-0400
TZOFFSETTO:-0500
TZNAME:EST
DTSTART:20261101T060000
END:STANDARD
BEGIN:DAYLIGHT
TZOFFSETFROM:-0500
TZOFFSETTO:-0400
TZNAME:EDT
DTSTART:20270314T070000
END:DAYLIGHT
BEGIN:STANDARD
TZOFFSETFROM:-0400
TZOFFSETTO:-0500
TZNAME:EST
DTSTART:20271107T060000
END:STANDARD
END:VTIMEZONE
BEGIN:VEVENT
DTSTART;TZID=America/New_York:20260528T190000
DTEND;TZID=America/New_York:20260528T210000
DTSTAMP:20260425T140517
CREATED:20260204T211501Z
LAST-MODIFIED:20260204T212356Z
UID:10004585-1779994800-1780002000@things-to-lou.com
SUMMARY:Total Request Thursday | river cruise
DESCRIPTION:Whether you’re looking for a healthy dose of after-school nostalgia or the perfect way to celebrate Friday Eve\, Total Request Thursday is all about you! \nWith drink specials\, an all-request playlist\, and special themes throughout the season\, this cruise is the great way to unwind or get pumped up. \nFrosted tips and homemade posters not required–but we won’t stop you! \n\nWebsite / Ticket Link\nhttps://www.belleoflouisville.org/cruises/total-request-thursday/ \nLocation\nBelle of Louisville Riverboats\, 401 West River Road\, Louisville KY 40202 \nEvent Host\nBelle of Louisville Riverboats
URL:https://things-to-lou.com/events/total-request-thursday/2026-05-28/
LOCATION:Belle of Louisville\, 401 W River Rd\, Louisville\, KY\, 40202\, United States
CATEGORIES:Experiences,Music,Nightlife
ATTACH;FMTTYPE=image/jpeg:https://things-to-lou.com/wp-content/uploads/2026/02/Screenshot_4-2-2026_161359_-e1770240675753.jpeg
END:VEVENT
END:VCALENDAR