BEGIN:VCALENDAR
VERSION:2.0
PRODID:-//Things To Lou - ECPv6.15.20//NONSGML v1.0//EN
CALSCALE:GREGORIAN
METHOD:PUBLISH
X-ORIGINAL-URL:https://things-to-lou.com
X-WR-CALDESC:Events for Things To Lou
REFRESH-INTERVAL;VALUE=DURATION:PT1H
X-Robots-Tag:noindex
X-PUBLISHED-TTL:PT1H
BEGIN:VTIMEZONE
TZID:America/New_York
BEGIN:DAYLIGHT
TZOFFSETFROM:-0500
TZOFFSETTO:-0400
TZNAME:EDT
DTSTART:20250309T070000
END:DAYLIGHT
BEGIN:STANDARD
TZOFFSETFROM:-0400
TZOFFSETTO:-0500
TZNAME:EST
DTSTART:20251102T060000
END:STANDARD
BEGIN:DAYLIGHT
TZOFFSETFROM:-0500
TZOFFSETTO:-0400
TZNAME:EDT
DTSTART:20260308T070000
END:DAYLIGHT
BEGIN:STANDARD
TZOFFSETFROM:-0400
TZOFFSETTO:-0500
TZNAME:EST
DTSTART:20261101T060000
END:STANDARD
BEGIN:DAYLIGHT
TZOFFSETFROM:-0500
TZOFFSETTO:-0400
TZNAME:EDT
DTSTART:20270314T070000
END:DAYLIGHT
BEGIN:STANDARD
TZOFFSETFROM:-0400
TZOFFSETTO:-0500
TZNAME:EST
DTSTART:20271107T060000
END:STANDARD
END:VTIMEZONE
BEGIN:VEVENT
DTSTART;TZID=America/New_York:20260626T190000
DTEND;TZID=America/New_York:20260626T210000
DTSTAMP:20260425T173618
CREATED:20260206T020619Z
LAST-MODIFIED:20260206T020619Z
UID:10004653-1782500400-1782507600@things-to-lou.com
SUMMARY:1980's Cruise on the Belle (21+)
DESCRIPTION:Join us for a fun throwback cruise on the Belle featuring 1980s music\, a costume contest and more!
URL:https://things-to-lou.com/events/1980s-cruise-on-the-belle-21/
LOCATION:Belle of Louisville\, 401 W River Rd\, Louisville\, KY\, 40202\, United States
CATEGORIES:Entertainment,Music
ATTACH;FMTTYPE=image/png:https://things-to-lou.com/wp-content/uploads/2026/02/80s-cruise-e1770342774536.png
END:VEVENT
BEGIN:VEVENT
DTSTART;TZID=America/New_York:20260626T190000
DTEND;TZID=America/New_York:20260626T220000
DTSTAMP:20260425T173618
CREATED:20260325T184539Z
LAST-MODIFIED:20260325T184539Z
UID:10004763-1782500400-1782511200@things-to-lou.com
SUMMARY:Steve Aoki show
DESCRIPTION:🚨𝐇𝐞’𝐬 𝐛𝐚𝐚𝐚𝐚𝐜𝐜𝐤𝐤𝐤🚨 \n@steveaoki returns to the Fourth Street Live! stage on Friday\, June 26\, with special guest @jessica_audiffred 🎶 Expect high-energy drops\, cake throwin’\, and a night you’ll never forget! \n•Presale Thursday\, March 26 from 10AM-10PM EST\n•On Sale Friday\, March 27 at 10AM EST \nPresale = early access\, better odds\, less stress. Sign up now at the link in our bio! \n***description from Instagram post \nGET TICKETS HERE \n 
URL:https://things-to-lou.com/events/steve-aoki-show/
LOCATION:Fourth Street Live!\, 411 S 4th St\, Louisville\, KY\, 40202\, United States
CATEGORIES:Music
END:VEVENT
BEGIN:VEVENT
DTSTART;TZID=America/New_York:20260626T200000
DTEND;TZID=America/New_York:20260626T220000
DTSTAMP:20260425T173618
CREATED:20260205T185447Z
LAST-MODIFIED:20260205T185447Z
UID:10004631-1782504000-1782511200@things-to-lou.com
SUMMARY:Anchors Away Fridays | river cruise
DESCRIPTION:Leave your stress behind on the shore! Grab a cocktail\, sit back and relax to an upbeat playlist– or celebrate the incoming weekend with our signature Silent Disco. \nWith a fun 1980’s vibe\, this cruise and onboard entertainment is the perfect place to unwind. \n\nWebsite / Ticket Link\nhttps://www.belleoflouisville.org/cruises/anchors-away-fridays/ \nLocation\nBelle of Louisville Riverboats\, 401 West River Road\, Louisville KY 40202 \nEvent Host\nBelle of Louisville Riverboats
URL:https://things-to-lou.com/events/anchors-away-fridays-river-cruise/2026-06-26/
LOCATION:Belle of Louisville\, 401 W River Rd\, Louisville\, KY\, 40202\, United States
CATEGORIES:Entertainment,Food & Drink,Music,Nightlife
ATTACH;FMTTYPE=image/png:https://things-to-lou.com/wp-content/uploads/2026/02/Screenshot-2026-02-05-134836-e1770317346393.png
END:VEVENT
END:VCALENDAR