BEGIN:VCALENDAR
VERSION:2.0
PRODID:-//Things To Lou - ECPv6.15.20//NONSGML v1.0//EN
CALSCALE:GREGORIAN
METHOD:PUBLISH
X-WR-CALNAME:Things To Lou
X-ORIGINAL-URL:https://things-to-lou.com
X-WR-CALDESC:Events for Things To Lou
REFRESH-INTERVAL;VALUE=DURATION:PT1H
X-Robots-Tag:noindex
X-PUBLISHED-TTL:PT1H
BEGIN:VTIMEZONE
TZID:America/New_York
BEGIN:DAYLIGHT
TZOFFSETFROM:-0500
TZOFFSETTO:-0400
TZNAME:EDT
DTSTART:20250309T070000
END:DAYLIGHT
BEGIN:STANDARD
TZOFFSETFROM:-0400
TZOFFSETTO:-0500
TZNAME:EST
DTSTART:20251102T060000
END:STANDARD
BEGIN:DAYLIGHT
TZOFFSETFROM:-0500
TZOFFSETTO:-0400
TZNAME:EDT
DTSTART:20260308T070000
END:DAYLIGHT
BEGIN:STANDARD
TZOFFSETFROM:-0400
TZOFFSETTO:-0500
TZNAME:EST
DTSTART:20261101T060000
END:STANDARD
BEGIN:DAYLIGHT
TZOFFSETFROM:-0500
TZOFFSETTO:-0400
TZNAME:EDT
DTSTART:20270314T070000
END:DAYLIGHT
BEGIN:STANDARD
TZOFFSETFROM:-0400
TZOFFSETTO:-0500
TZNAME:EST
DTSTART:20271107T060000
END:STANDARD
END:VTIMEZONE
BEGIN:VEVENT
DTSTART;TZID=America/New_York:20260110T110000
DTEND;TZID=America/New_York:20260110T120000
DTSTAMP:20260425T235645
CREATED:20260108T170108Z
LAST-MODIFIED:20260108T170108Z
UID:10003846-1768042800-1768046400@things-to-lou.com
SUMMARY:Turtle Yoga
DESCRIPTION:Turtle Yoga with instructor Tavi Tichenor and sulcata tortoise\, Apache at Second Chances Wildlife Center! \nThe first of its kind Turtle Yoga class was such a hit that we had to make it monthly! \nJoin yoga instructor Tavi Tichenor for an hour-long session of yoga\, Flow then Slow style. This session will be 50% vinyasa and 50% restorative. \nThis class is BYOM – Bring your own mat! \nAges 16 + \nFriendly animal ambassador Apache\, the rescued (and very social) sulcata tortoise\, will join the class\, wandering among our guests. \nProceeds benefit Second Chances Wildlife Center’s wildlife rehabilitation and environmental education programs. \n***description from eventbrite event
URL:https://things-to-lou.com/events/turtle-yoga-2/
LOCATION:Second Chances Wildlife Center\, 487 Gentry Lane\, Mt. Washington\, KY\, 40047\, United States
CATEGORIES:Exercise,Nature,Wellness
END:VEVENT
END:VCALENDAR