BEGIN:VCALENDAR
VERSION:2.0
PRODID:-//Things To Lou - ECPv6.15.20//NONSGML v1.0//EN
CALSCALE:GREGORIAN
METHOD:PUBLISH
X-ORIGINAL-URL:https://things-to-lou.com
X-WR-CALDESC:Events for Things To Lou
REFRESH-INTERVAL;VALUE=DURATION:PT1H
X-Robots-Tag:noindex
X-PUBLISHED-TTL:PT1H
BEGIN:VTIMEZONE
TZID:America/New_York
BEGIN:DAYLIGHT
TZOFFSETFROM:-0500
TZOFFSETTO:-0400
TZNAME:EDT
DTSTART:20240310T070000
END:DAYLIGHT
BEGIN:STANDARD
TZOFFSETFROM:-0400
TZOFFSETTO:-0500
TZNAME:EST
DTSTART:20241103T060000
END:STANDARD
BEGIN:DAYLIGHT
TZOFFSETFROM:-0500
TZOFFSETTO:-0400
TZNAME:EDT
DTSTART:20250309T070000
END:DAYLIGHT
BEGIN:STANDARD
TZOFFSETFROM:-0400
TZOFFSETTO:-0500
TZNAME:EST
DTSTART:20251102T060000
END:STANDARD
BEGIN:DAYLIGHT
TZOFFSETFROM:-0500
TZOFFSETTO:-0400
TZNAME:EDT
DTSTART:20260308T070000
END:DAYLIGHT
BEGIN:STANDARD
TZOFFSETFROM:-0400
TZOFFSETTO:-0500
TZNAME:EST
DTSTART:20261101T060000
END:STANDARD
END:VTIMEZONE
BEGIN:VEVENT
DTSTART;TZID=America/New_York:20250802T200000
DTEND;TZID=America/New_York:20250802T220000
DTSTAMP:20260425T160408
CREATED:20250618T225109Z
LAST-MODIFIED:20250618T225109Z
UID:10002608-1754164800-1754172000@things-to-lou.com
SUMMARY:LouCity vs. North Carolina FC: Salute to Heroes Night
DESCRIPTION:LouCity vs. North Carolina FC: Salute to Heroes Night \n  \nSaturday night soccer is back! Join us at Lynn Family Stadium on Saturday\, August 2\, as LouCity takes on North Carolina FC with kickoff set for 8 p.m. \nThis is Salute to Heroes Night featuring recognitions of those who commit their lives to our safety and freedoms. All active and retired military personnel and first responders are eligible for discounted tickets by clicking here. \nGates open at 6:30 p.m. for the stadium’s $2 happy hour\, featuring beer\, Pepsi products and bottled water at bars throughout the concourse. \nSingle game tickets are available by clicking below\, via SeatGeek or calling (502) LOU-CITY. Prefer to save on a ticket bundle? Flex packs start at $108 for six tickets\, and season ticket memberships begin at just $15 per game. \n  \n  \n***description from website
URL:https://things-to-lou.com/events/loucity-vs-north-carolina-fc-salute-to-heroes-night/
LOCATION:Lynn Family Stadium\, 350 Adams St\, Louisville\, KY\, 40206
CATEGORIES:Family & Children,Sports
END:VEVENT
END:VCALENDAR