BEGIN:VCALENDAR
VERSION:2.0
PRODID:-//Things To Lou - ECPv6.15.20//NONSGML v1.0//EN
CALSCALE:GREGORIAN
METHOD:PUBLISH
X-WR-CALNAME:Things To Lou
X-ORIGINAL-URL:https://things-to-lou.com
X-WR-CALDESC:Events for Things To Lou
REFRESH-INTERVAL;VALUE=DURATION:PT1H
X-Robots-Tag:noindex
X-PUBLISHED-TTL:PT1H
BEGIN:VTIMEZONE
TZID:America/New_York
BEGIN:DAYLIGHT
TZOFFSETFROM:-0500
TZOFFSETTO:-0400
TZNAME:EDT
DTSTART:20240310T070000
END:DAYLIGHT
BEGIN:STANDARD
TZOFFSETFROM:-0400
TZOFFSETTO:-0500
TZNAME:EST
DTSTART:20241103T060000
END:STANDARD
BEGIN:DAYLIGHT
TZOFFSETFROM:-0500
TZOFFSETTO:-0400
TZNAME:EDT
DTSTART:20250309T070000
END:DAYLIGHT
BEGIN:STANDARD
TZOFFSETFROM:-0400
TZOFFSETTO:-0500
TZNAME:EST
DTSTART:20251102T060000
END:STANDARD
BEGIN:DAYLIGHT
TZOFFSETFROM:-0500
TZOFFSETTO:-0400
TZNAME:EDT
DTSTART:20260308T070000
END:DAYLIGHT
BEGIN:STANDARD
TZOFFSETFROM:-0400
TZOFFSETTO:-0500
TZNAME:EST
DTSTART:20261101T060000
END:STANDARD
END:VTIMEZONE
BEGIN:VEVENT
DTSTART;TZID=America/New_York:20250808T190000
DTEND;TZID=America/New_York:20250808T220000
DTSTAMP:20260425T201302
CREATED:20250807T013414Z
LAST-MODIFIED:20250807T013414Z
UID:10002879-1754679600-1754690400@things-to-lou.com
SUMMARY:Louisville Bats vs Toledo Mud Hens: The Night Night\, Brake the Bank\, Margarita Madness
DESCRIPTION:Louisville Bats vs Toledo Mud Hens series:   Wed\, Aug 6 – Sun\, Aug 10\n\nThursday\, Aug 7\, 6:35 PM\n\nGame Highlight (4): Dog Night — Calling all pups and pooches! Bring out your favorite furry friends for a fun night of dogs & baseball.| Sponsored by Thornbush Whiskey\nGame Highlight: Thrifty Thursdays — $4 Tickets\, $4 Hot Dogs\, $2 Popcorn & $2 16 oz Pepsi\nGame Highlight: State Farm Bobblehead You! — Build your own personalized bobblehead courtesy of State Farm! They’ll take your photo and place it in one of 14 Bobblehead options of your choosing. Become an Astronaut\, a princess\, a baseball player\, or even an alien! The State Farm Bobblehead You! booth will be located by the right field berm.\nGame Highlight: Special Drink — $6 Thornbush Whiskey Frozen Batsberry Lemonade\nPromotion: Dog Bandana Giveaway — Presented By Feeders Pet Supply\nTicket Offer: Human + Dog Ticket — Reserve your seats today for Dog Day at the Park to enjoy the excitement of Bats baseball alongside your four-legged friend at Louisville Slugger Field.\n\n\nFriday\, Aug 8\, 7:15 PM\n\nGame Highlight (6): The Nine Night — Join us on as we honor the rich tradition of Negro League Baseball in Louisville and play as the Louisville Black Caps!\nGame Highlight: Gametime Happy Hour — Enjoy $3 Miller Lite and Coors Lights from 6-9 PM! | Presented By Miller Lite\nGame Highlight: Margarita Madness — Get your $6 Margaritas available at all bars around the ballpark. | Presented By Number Juan Tequila\nGame Highlight: Brake the Bank — Stick around postgame for Brake the Bank\, where you will have the chance to win the grand cash prize! | Presented By Tony’s Brake & Alignment\nGame Highlight: State Farm Bobblehead You! — Build your own personalized bobblehead courtesy of State Farm! They’ll take your photo and place it in one of 14 Bobblehead options of your choosing. Become an Astronaut\, a princess\, a baseball player\, or even an alien! The State Farm Bobblehead You! booth will be located by the right field berm.\nGame Highlight: Playing it Forward Donation Drive\nTicket Offer (2): Hunter Greene Bobblehead Ticket Offer — Ticket offer guarantees you the Hunter Greene Bobblehead | Presented By Pepsi\nTicket Offer: Student Pass Offer — Use your .edu address and get accepted to receive $10 tickets for every Friday game!\n\n\nSaturday\, Aug 9\, 7:15 PM\n\nGame Highlight (5): Princess & Pirates Night — Set sail for an enchanted evening where pirates and princesses unite! Join us for a night of adventure\, treasure\, and royal fun! | Presented By Mercy Academy\nGame Highlight: 2025 Team Card Set Giveaway — Sponsored by Pepsi | First 1\,500 fans\nGame Highlight: Party @ the Park — Featuring $4 Cupcake Vineyards Wine Pours\, $6 Signature Bats Cocktails & $6 Select Craft Beers\nGame Highlight: State Farm Bobblehead You!–Build your own personalized bobblehead courtesy of State Farm! They’ll take your photo and place it in one of 14 Bobblehead options of your choosing. Become an Astronaut\, a princess\, a baseball player\, or even an alien! The State Farm Bobblehead You! booth will be located by the right field berm.\nGame Highlight: Postgame Fireworks — Presented By UA Local 502\n\n\nSunday\, Aug 10\, 1:05 PM\n\nGame Highlight (5): Kids Club Day — All 2025 Kids Club Members are asked to join us for every Sunday home game for Kids Day which includes a free kids meal! | Presented By Kentucky Kingdom Theme & Water Park\nGame Highlight: Kids Run the Bases — Stick around after every Sunday Home Game for Kids Run the Bases | Presented By YMCA & Meijer\nGame Highlight: Kids Inflatables in the Hall of Fame\nGame Highlight: Philly’s Best non-alcoholic slushies — Make sure to stop by the Philly’s Best stand every Sunday game and enjoy $4 non-alcoholic slushies! | Presented By Philly’s Best Frozen Desserts\nGame Highlight: State Farm Bobblehead You! — Build your own personalized bobblehead courtesy of State Farm! They’ll take your photo and place it in one of 14 Bobblehead options of your choosing. Become an Astronaut\, a princess\, a baseball player\, or even an alien! The State Farm Bobblehead You! booth will be located by the right field berm.
URL:https://things-to-lou.com/events/louisville-bats-vs-toledo-mud-hens-the-night-night-brake-the-bank-margarita-madness/
LOCATION:Louisville Slugger Field\, 103 N Preston St\, Louisville\, KY\, 40202\, United States
CATEGORIES:Family & Children,Sports
END:VEVENT
END:VCALENDAR