BEGIN:VCALENDAR
VERSION:2.0
PRODID:-//Things To Lou - ECPv6.15.20//NONSGML v1.0//EN
CALSCALE:GREGORIAN
METHOD:PUBLISH
X-ORIGINAL-URL:https://things-to-lou.com
X-WR-CALDESC:Events for Things To Lou
REFRESH-INTERVAL;VALUE=DURATION:PT1H
X-Robots-Tag:noindex
X-PUBLISHED-TTL:PT1H
BEGIN:VTIMEZONE
TZID:America/New_York
BEGIN:DAYLIGHT
TZOFFSETFROM:-0500
TZOFFSETTO:-0400
TZNAME:EDT
DTSTART:20240310T070000
END:DAYLIGHT
BEGIN:STANDARD
TZOFFSETFROM:-0400
TZOFFSETTO:-0500
TZNAME:EST
DTSTART:20241103T060000
END:STANDARD
BEGIN:DAYLIGHT
TZOFFSETFROM:-0500
TZOFFSETTO:-0400
TZNAME:EDT
DTSTART:20250309T070000
END:DAYLIGHT
BEGIN:STANDARD
TZOFFSETFROM:-0400
TZOFFSETTO:-0500
TZNAME:EST
DTSTART:20251102T060000
END:STANDARD
BEGIN:DAYLIGHT
TZOFFSETFROM:-0500
TZOFFSETTO:-0400
TZNAME:EDT
DTSTART:20260308T070000
END:DAYLIGHT
BEGIN:STANDARD
TZOFFSETFROM:-0400
TZOFFSETTO:-0500
TZNAME:EST
DTSTART:20261101T060000
END:STANDARD
END:VTIMEZONE
BEGIN:VEVENT
DTSTART;TZID=America/New_York:20251011T000000
DTEND;TZID=America/New_York:20251012T235959
DTSTAMP:20260422T204817
CREATED:20250930T060550Z
LAST-MODIFIED:20250930T060550Z
UID:10003046-1760140800-1760313599@things-to-lou.com
SUMMARY:Opening Weekend: ChipIn
DESCRIPTION:JOIN US FOR OPENING WEEKEND! \nOctober 11-12\, 2025 | 11am – 4pm\nDifferent Strokes Driving Range\nLouisville | New Albany \nChipIn is LIVE\, and we’re throwing a launch party you don’t want to miss. Think big swings\, bigger prizes\, and a whole lot of bourbon + pizza vibes. \n🍕 Wood-fired pies from award-winning Mozza Pi\n🥃 Bourbon tastings on Saturday\n⛳ Contests that put your swing to the test\n🏆 Prizes that hit harder than your drive \nContests kick off Opening Weekend and run through October 19. \nGrab your crew\, take your swing\, and claim your spot on the leaderboard!
URL:https://things-to-lou.com/events/opening-weekend-chipin/
LOCATION:Various
CATEGORIES:Charity Fundraiser,Golf,Sports
END:VEVENT
END:VCALENDAR