BEGIN:VCALENDAR
VERSION:2.0
PRODID:-//Things To Lou - ECPv6.15.20//NONSGML v1.0//EN
CALSCALE:GREGORIAN
METHOD:PUBLISH
X-WR-CALNAME:Things To Lou
X-ORIGINAL-URL:https://things-to-lou.com
X-WR-CALDESC:Events for Things To Lou
REFRESH-INTERVAL;VALUE=DURATION:PT1H
X-Robots-Tag:noindex
X-PUBLISHED-TTL:PT1H
BEGIN:VTIMEZONE
TZID:America/New_York
BEGIN:DAYLIGHT
TZOFFSETFROM:-0500
TZOFFSETTO:-0400
TZNAME:EDT
DTSTART:20250309T070000
END:DAYLIGHT
BEGIN:STANDARD
TZOFFSETFROM:-0400
TZOFFSETTO:-0500
TZNAME:EST
DTSTART:20251102T060000
END:STANDARD
BEGIN:DAYLIGHT
TZOFFSETFROM:-0500
TZOFFSETTO:-0400
TZNAME:EDT
DTSTART:20260308T070000
END:DAYLIGHT
BEGIN:STANDARD
TZOFFSETFROM:-0400
TZOFFSETTO:-0500
TZNAME:EST
DTSTART:20261101T060000
END:STANDARD
BEGIN:DAYLIGHT
TZOFFSETFROM:-0500
TZOFFSETTO:-0400
TZNAME:EDT
DTSTART:20270314T070000
END:DAYLIGHT
BEGIN:STANDARD
TZOFFSETFROM:-0400
TZOFFSETTO:-0500
TZNAME:EST
DTSTART:20271107T060000
END:STANDARD
END:VTIMEZONE
BEGIN:VEVENT
DTSTART;TZID=America/New_York:20260104T160000
DTEND;TZID=America/New_York:20260104T180000
DTSTAMP:20260423T161914
CREATED:20251222T074511Z
LAST-MODIFIED:20251222T074511Z
UID:10003466-1767542400-1767549600@things-to-lou.com
SUMMARY:Louisville Women's Basketball vs. Virginia Tech
DESCRIPTION:Salute to Service
URL:https://things-to-lou.com/events/louisville-womens-basketball-vs-virginia-tech/
LOCATION:KFC Yum! Center\, 1 Arena Plaza\, Louisville\, KY\, 40202\, United States
CATEGORIES:Sports
END:VEVENT
BEGIN:VEVENT
DTSTART;TZID=America/New_York:20260104T160000
DTEND;TZID=America/New_York:20260104T180000
DTSTAMP:20260423T161914
CREATED:20251231T070702Z
LAST-MODIFIED:20251231T070702Z
UID:10003560-1767542400-1767549600@things-to-lou.com
SUMMARY:Louisville Women's Basketball vs. Virginia Tech Hokies
DESCRIPTION:Salute to Service | Active and veteran members of the military will be honored throughout the game. \nDiscounted tickets are available and verified using this ID.me link. \n  \n  \nMore Info \nFacebook Event
URL:https://things-to-lou.com/events/louisville-womens-basketball-vs-virginia-tech-hokies/
LOCATION:KFC Yum! Center\, 1 Arena Plaza\, Louisville\, KY\, 40202\, United States
CATEGORIES:Sports
END:VEVENT
END:VCALENDAR