BEGIN:VCALENDAR
VERSION:2.0
PRODID:-//Things To Lou - ECPv6.15.20//NONSGML v1.0//EN
CALSCALE:GREGORIAN
METHOD:PUBLISH
X-ORIGINAL-URL:https://things-to-lou.com
X-WR-CALDESC:Events for Things To Lou
REFRESH-INTERVAL;VALUE=DURATION:PT1H
X-Robots-Tag:noindex
X-PUBLISHED-TTL:PT1H
BEGIN:VTIMEZONE
TZID:America/New_York
BEGIN:DAYLIGHT
TZOFFSETFROM:-0500
TZOFFSETTO:-0400
TZNAME:EDT
DTSTART:20250309T070000
END:DAYLIGHT
BEGIN:STANDARD
TZOFFSETFROM:-0400
TZOFFSETTO:-0500
TZNAME:EST
DTSTART:20251102T060000
END:STANDARD
BEGIN:DAYLIGHT
TZOFFSETFROM:-0500
TZOFFSETTO:-0400
TZNAME:EDT
DTSTART:20260308T070000
END:DAYLIGHT
BEGIN:STANDARD
TZOFFSETFROM:-0400
TZOFFSETTO:-0500
TZNAME:EST
DTSTART:20261101T060000
END:STANDARD
BEGIN:DAYLIGHT
TZOFFSETFROM:-0500
TZOFFSETTO:-0400
TZNAME:EDT
DTSTART:20270314T070000
END:DAYLIGHT
BEGIN:STANDARD
TZOFFSETFROM:-0400
TZOFFSETTO:-0500
TZNAME:EST
DTSTART:20271107T060000
END:STANDARD
END:VTIMEZONE
BEGIN:VEVENT
DTSTART;TZID=America/New_York:20260106T190000
DTEND;TZID=America/New_York:20260106T210000
DTSTAMP:20260420T083505
CREATED:20251222T074321Z
LAST-MODIFIED:20251222T074321Z
UID:10003465-1767726000-1767733200@things-to-lou.com
SUMMARY:Louisville Men's Basketball vs. Duke
DESCRIPTION:Join us for the University of Louisville Men’s Basketball team as they take on Duke on January 6th at 7 PM! \nStripe Out\nThe Stripe Out returns for another season! Prepare your game day outfit based on your designated section. \n***description from website
URL:https://things-to-lou.com/events/louisville-mens-basketball-vs-duke/
LOCATION:KFC Yum! Center\, 1 Arena Plaza\, Louisville\, KY\, 40202\, United States
CATEGORIES:Sports
END:VEVENT
BEGIN:VEVENT
DTSTART;TZID=America/New_York:20260106T190000
DTEND;TZID=America/New_York:20260106T210000
DTSTAMP:20260420T083505
CREATED:20251231T065642Z
LAST-MODIFIED:20251231T065642Z
UID:10003475-1767726000-1767733200@things-to-lou.com
SUMMARY:Louisville Men's Basketball vs Duke (Theme: Stripe Out)
DESCRIPTION:Let’s stripe out the KFC Yum! Center on Tuesday\, Jan. 6th against Duke! \nTake a look at the map below to see what color to wear as you prepare for gameday. \nSitting in an ODD number section or premium box? WEAR BLACK\nSitting in an EVEN number section or floor seat? WEAR RED \n***description from website \n  \nTickets: https://gocards.com/sports/2016/4/7/2016-17-mens-basketball-ticket-info \nhttps://gocards.com/calendar.aspx?game_id=25924andsport_id=5
URL:https://things-to-lou.com/events/louisville-mens-basketball-vs-duke-theme-stripe-out/
LOCATION:KFC Yum! Center\, 1 Arena Plaza\, Louisville\, KY\, 40202\, United States
CATEGORIES:Sports
END:VEVENT
END:VCALENDAR