BEGIN:VCALENDAR
VERSION:2.0
PRODID:-//Things To Lou - ECPv6.15.20//NONSGML v1.0//EN
CALSCALE:GREGORIAN
METHOD:PUBLISH
X-ORIGINAL-URL:https://things-to-lou.com
X-WR-CALDESC:Events for Things To Lou
REFRESH-INTERVAL;VALUE=DURATION:PT1H
X-Robots-Tag:noindex
X-PUBLISHED-TTL:PT1H
BEGIN:VTIMEZONE
TZID:America/New_York
BEGIN:DAYLIGHT
TZOFFSETFROM:-0500
TZOFFSETTO:-0400
TZNAME:EDT
DTSTART:20250309T070000
END:DAYLIGHT
BEGIN:STANDARD
TZOFFSETFROM:-0400
TZOFFSETTO:-0500
TZNAME:EST
DTSTART:20251102T060000
END:STANDARD
BEGIN:DAYLIGHT
TZOFFSETFROM:-0500
TZOFFSETTO:-0400
TZNAME:EDT
DTSTART:20260308T070000
END:DAYLIGHT
BEGIN:STANDARD
TZOFFSETFROM:-0400
TZOFFSETTO:-0500
TZNAME:EST
DTSTART:20261101T060000
END:STANDARD
BEGIN:DAYLIGHT
TZOFFSETFROM:-0500
TZOFFSETTO:-0400
TZNAME:EDT
DTSTART:20270314T070000
END:DAYLIGHT
BEGIN:STANDARD
TZOFFSETFROM:-0400
TZOFFSETTO:-0500
TZNAME:EST
DTSTART:20271107T060000
END:STANDARD
END:VTIMEZONE
BEGIN:VEVENT
DTSTART;TZID=America/New_York:20260116T190000
DTEND;TZID=America/New_York:20260116T210000
DTSTAMP:20260423T194457
CREATED:20260108T171433Z
LAST-MODIFIED:20260108T171433Z
UID:10003855-1768590000-1768597200@things-to-lou.com
SUMMARY:KY Shakespeare's "Emma"
DESCRIPTION:Emma Woodhouse is clever\, educated\, and energetic… and in imminent danger of going mad with idleness. In a time when respectable ladies are expected to sit quietly at home\, she desperately needs projects—and prides herself on matchmaking\, much to the chagrin of her friend Mr. Knightley. But where Emma’s considerable energies focus\, screwball comedy follows… A sparkling new take on a treasured classic\, this Emma will sashay right into audience’s hearts with vibrant comic flair\, as she asks “isn’t it fun to watch me try?” \n“Inventively and deliriously fun. Austen positioned Emma’s meddling as the product of a keen mind marooned in a society with little use for it\, but Hamill goes one better\, showing how wealth and class feed Emma’s dilettantism… Prepare to be charmed.” – Star Tribune \n“Hamill’s adaptation is an absolute marvel\, a breathtaking work of comedic and feminist genius that we believe Jane Austen would be fiercely proud of.” – Aisle Say \n\nEMMA is presented through special arrangement with and all authorized performance materials are supplied by:\nTRW PLAYS\, 1180 Avenue of the Americas\, Suite 640\, New York\, NY 10036. http://www.trwplays.com \n\nEMMA\nby Kate Hamill\nBased on the novel by Jane Austen\nOriginally commissioned and produced by Guthrie Theater\, Joesph Haj\, Director \nDates/Times:\nFriday\, January 9 – 7:00PM\nSaturday\, January 10 – 2:00PM and 7:00PM\nSunday\, January 11 – 2:00PM\nWednesday\, January 14 – 7:00PM\nThursday\, January 15 – 7:00PM\nFriday\, January 16 – 7:00PM\nSaturday\, January 17 – 2:00PM and 7:00PM\nSunday\, January 18 – 2:00PM \nLocation: Actors Theatre of Louisville – Pamela Brown Auditorium\, 316 West Main Street\, Louisville\, KY 40202 \nTickets: $25 (plus $5 Actors Theatre service charge)
URL:https://things-to-lou.com/events/ky-shakespeares-emma/2026-01-16/
LOCATION:Actors Theatre of Louisville\, 316 W Main St\, Louisville\, KY\, 40202\, United States
CATEGORIES:Art,Theatre
END:VEVENT
BEGIN:VEVENT
DTSTART;TZID=America/New_York:20260116T193000
DTEND;TZID=America/New_York:20260116T213000
DTSTAMP:20260423T194457
CREATED:20260109T222901Z
LAST-MODIFIED:20260109T222901Z
UID:10003913-1768591800-1768599000@things-to-lou.com
SUMMARY:"Spring Awakening"
DESCRIPTION:Winner of 8 Tony awards\, including best musical\, Spring Awakening is set in repressive 1891 Germany\, following teenagers Melchior\, Wendla\, and Moritz as they grapple with adolescence\, sexuality\, and societal constraints through rebellion\, self-discovery\, and heartbreaking consequences\, all set to a contemporary alternative rock score by Duncan Sheik that contrasts with their strict Victorian world. \nBunbury Theatre Presents The Bunbury Young Artist Series In: Spring Awakening \nAges: Recommended for ages 16+ \nRunning Time: 2 hours including a 15-minute intermission
URL:https://things-to-lou.com/events/spring-awakening/2026-01-16/
LOCATION:Kentucky Performing Arts\, 501 W Main St\, Louisville\, KY\, 40202\, United States
CATEGORIES:Art,Theatre
END:VEVENT
END:VCALENDAR