BEGIN:VCALENDAR
VERSION:2.0
PRODID:-//Things To Lou - ECPv6.15.20//NONSGML v1.0//EN
CALSCALE:GREGORIAN
METHOD:PUBLISH
X-WR-CALNAME:Things To Lou
X-ORIGINAL-URL:https://things-to-lou.com
X-WR-CALDESC:Events for Things To Lou
REFRESH-INTERVAL;VALUE=DURATION:PT1H
X-Robots-Tag:noindex
X-PUBLISHED-TTL:PT1H
BEGIN:VTIMEZONE
TZID:America/New_York
BEGIN:DAYLIGHT
TZOFFSETFROM:-0500
TZOFFSETTO:-0400
TZNAME:EDT
DTSTART:20250309T070000
END:DAYLIGHT
BEGIN:STANDARD
TZOFFSETFROM:-0400
TZOFFSETTO:-0500
TZNAME:EST
DTSTART:20251102T060000
END:STANDARD
BEGIN:DAYLIGHT
TZOFFSETFROM:-0500
TZOFFSETTO:-0400
TZNAME:EDT
DTSTART:20260308T070000
END:DAYLIGHT
BEGIN:STANDARD
TZOFFSETFROM:-0400
TZOFFSETTO:-0500
TZNAME:EST
DTSTART:20261101T060000
END:STANDARD
BEGIN:DAYLIGHT
TZOFFSETFROM:-0500
TZOFFSETTO:-0400
TZNAME:EDT
DTSTART:20270314T070000
END:DAYLIGHT
BEGIN:STANDARD
TZOFFSETFROM:-0400
TZOFFSETTO:-0500
TZNAME:EST
DTSTART:20271107T060000
END:STANDARD
END:VTIMEZONE
BEGIN:VEVENT
DTSTART;TZID=America/New_York:20260125T140000
DTEND;TZID=America/New_York:20260125T160000
DTSTAMP:20260423T175514
CREATED:20260109T222901Z
LAST-MODIFIED:20260109T222901Z
UID:10003919-1769349600-1769356800@things-to-lou.com
SUMMARY:"Spring Awakening"
DESCRIPTION:Winner of 8 Tony awards\, including best musical\, Spring Awakening is set in repressive 1891 Germany\, following teenagers Melchior\, Wendla\, and Moritz as they grapple with adolescence\, sexuality\, and societal constraints through rebellion\, self-discovery\, and heartbreaking consequences\, all set to a contemporary alternative rock score by Duncan Sheik that contrasts with their strict Victorian world. \nBunbury Theatre Presents The Bunbury Young Artist Series In: Spring Awakening \nAges: Recommended for ages 16+ \nRunning Time: 2 hours including a 15-minute intermission
URL:https://things-to-lou.com/events/spring-awakening/2026-01-25/
LOCATION:Kentucky Performing Arts\, 501 W Main St\, Louisville\, KY\, 40202\, United States
CATEGORIES:Art,Theatre
END:VEVENT
BEGIN:VEVENT
DTSTART;TZID=America/New_York:20260125T140000
DTEND;TZID=America/New_York:20260125T160000
DTSTAMP:20260423T175514
CREATED:20260109T225106Z
LAST-MODIFIED:20260109T225106Z
UID:10003934-1769349600-1769356800@things-to-lou.com
SUMMARY:"The Lightning Thief" The Percy Jackson Musical
DESCRIPTION:When 16-year-old Percy Jackson discovers that he is the half-blood son of the Greek God\, Poseidon\, his life takes a dramatic turn as he is plunged into a world much bigger than he could possibly have imagined. \nAdapted from the best-selling book The Lightning Thief by Rick Riordan and featuring a thrilling original rock score\, The Lightning Thief: The Percy Jackson Musical is an action-packed mythical adventure “worthy of the gods” (Time Out New York). \nStageOne Family Theatre: “The Lightning Thief” The Percy Jackson Musical \nAges: All ages \nRunning Time: Approximately 1 hour \n\nSaturday\, Jan 24\, 2026 2:00 PM\nSaturday\, Jan 24\, 2026 7:30 PM\nSunday\, Jan 25\, 2026 2:00 PM\nSaturday\, Jan 31\, 2026 2:00 PM – Sensory Friendly Performance\nSaturday\, Jan 31\, 2026 7:30 PM\nSunday\, Feb 1\, 2026 2:00 PM\nSaturday\, Feb 7\, 2026 2:00 PM\nSaturday\, Feb 7\, 2026 7:30 PM\nSunday\, Feb 8\, 2026 2:00 PM
URL:https://things-to-lou.com/events/the-lightning-thief-the-percy-jackson-musical/2026-01-25/
LOCATION:Kentucky Performing Arts\, 501 W Main St\, Louisville\, KY\, 40202\, United States
CATEGORIES:Family & Children,Theatre
END:VEVENT
END:VCALENDAR