BEGIN:VCALENDAR
VERSION:2.0
PRODID:-//Things To Lou - ECPv6.15.20//NONSGML v1.0//EN
CALSCALE:GREGORIAN
METHOD:PUBLISH
X-WR-CALNAME:Things To Lou
X-ORIGINAL-URL:https://things-to-lou.com
X-WR-CALDESC:Events for Things To Lou
REFRESH-INTERVAL;VALUE=DURATION:PT1H
X-Robots-Tag:noindex
X-PUBLISHED-TTL:PT1H
BEGIN:VTIMEZONE
TZID:America/New_York
BEGIN:DAYLIGHT
TZOFFSETFROM:-0500
TZOFFSETTO:-0400
TZNAME:EDT
DTSTART:20250309T070000
END:DAYLIGHT
BEGIN:STANDARD
TZOFFSETFROM:-0400
TZOFFSETTO:-0500
TZNAME:EST
DTSTART:20251102T060000
END:STANDARD
BEGIN:DAYLIGHT
TZOFFSETFROM:-0500
TZOFFSETTO:-0400
TZNAME:EDT
DTSTART:20260308T070000
END:DAYLIGHT
BEGIN:STANDARD
TZOFFSETFROM:-0400
TZOFFSETTO:-0500
TZNAME:EST
DTSTART:20261101T060000
END:STANDARD
BEGIN:DAYLIGHT
TZOFFSETFROM:-0500
TZOFFSETTO:-0400
TZNAME:EDT
DTSTART:20270314T070000
END:DAYLIGHT
BEGIN:STANDARD
TZOFFSETFROM:-0400
TZOFFSETTO:-0500
TZNAME:EST
DTSTART:20271107T060000
END:STANDARD
END:VTIMEZONE
BEGIN:VEVENT
DTSTART;TZID=America/New_York:20260418T150000
DTEND;TZID=America/New_York:20260418T220000
DTSTAMP:20260419T232608
CREATED:20260326T022506Z
LAST-MODIFIED:20260326T022506Z
UID:10004803-1776524400-1776549600@things-to-lou.com
SUMMARY:Thunder Over High Stakes Rooftop!
DESCRIPTION:Join us for our first annual Thunder Over Louisville Event at High Stakes Rooftop. \nThere is no better place to take in the breathtaking views and roar of the action. Come early for the airshow and stay late for the fireworks! \nEnhance the fun with libations and mocktails from our experienced beverage team. \nDJ JayBird will be onsite to keep the party going all day long! Saturday \nApril 18th\, 3pm-FIREWORKS! \n\n$150 per adult 21 yrs and older\n$75 per child 14yrs-20yrs\nChildren 13yrs and under pay $1 per year! (paid at restaurant day of event)\n\n**price does NOT include Taxes &amp; Fees** \n Tickets include:\n\nDJ Jaybird\nComplimentary Coke products\nONE- Rabbit Hole Cocktail\nONE- Hotel Starlino Cocktail\nONE- Lyres N/A Beverage\nONE-Pathfinder N/A Beverage\nlite bites\, buffet and desserts!\nHourly Door Prize giveaways & Yard Games!\nCash Bar available with Grey Goose\, Red Bull and Sun Cruiser\nDrink Specials!\n\n**This is a rain or shine event** ***FOR GROUPS OF 6 OR MORE please reach out to CHRISTINE DALE at cdale@firsthospitality.com *** \n 
URL:https://things-to-lou.com/events/thunder-over-high-stakes-rooftop/
LOCATION:High Stakes Rooftop Grill\, 710 E Jefferson St\, Louisville\, KY\, 40202\, United States
CATEGORIES:Family & Children,Food & Drink
ATTACH;FMTTYPE=image/png:https://things-to-lou.com/wp-content/uploads/2026/03/aaaaaaaaaaaaaaaaaaaaaaaaa-e1774493131908.png
END:VEVENT
END:VCALENDAR