BEGIN:VCALENDAR
VERSION:2.0
PRODID:-//Things To Lou - ECPv6.15.20//NONSGML v1.0//EN
CALSCALE:GREGORIAN
METHOD:PUBLISH
X-WR-CALNAME:Things To Lou
X-ORIGINAL-URL:https://things-to-lou.com
X-WR-CALDESC:Events for Things To Lou
REFRESH-INTERVAL;VALUE=DURATION:PT1H
X-Robots-Tag:noindex
X-PUBLISHED-TTL:PT1H
BEGIN:VTIMEZONE
TZID:America/New_York
BEGIN:DAYLIGHT
TZOFFSETFROM:-0500
TZOFFSETTO:-0400
TZNAME:EDT
DTSTART:20250309T070000
END:DAYLIGHT
BEGIN:STANDARD
TZOFFSETFROM:-0400
TZOFFSETTO:-0500
TZNAME:EST
DTSTART:20251102T060000
END:STANDARD
BEGIN:DAYLIGHT
TZOFFSETFROM:-0500
TZOFFSETTO:-0400
TZNAME:EDT
DTSTART:20260308T070000
END:DAYLIGHT
BEGIN:STANDARD
TZOFFSETFROM:-0400
TZOFFSETTO:-0500
TZNAME:EST
DTSTART:20261101T060000
END:STANDARD
BEGIN:DAYLIGHT
TZOFFSETFROM:-0500
TZOFFSETTO:-0400
TZNAME:EDT
DTSTART:20270314T070000
END:DAYLIGHT
BEGIN:STANDARD
TZOFFSETFROM:-0400
TZOFFSETTO:-0500
TZNAME:EST
DTSTART:20271107T060000
END:STANDARD
END:VTIMEZONE
BEGIN:VEVENT
DTSTART;TZID=America/New_York:20260302T180000
DTEND;TZID=America/New_York:20260302T190000
DTSTAMP:20260423T135346
CREATED:20251231T070129Z
LAST-MODIFIED:20251231T070129Z
UID:10003484-1772474400-1772478000@things-to-lou.com
SUMMARY:Marketplace Hall Yoga (all levels)
DESCRIPTION:Yoga at West Sixth NuLu \n6 – 7pm \nEvent occurs weekly on Monday \nMarketplace Hall Yoga with Harley Gilman. Donation-based\, beginner friendly flow — just come with a mat and any props you’d like to have \nNo registration required \nAll levels are welcome
URL:https://things-to-lou.com/events/marketplace-hall-yoga-all-levels/2026-03-02/
LOCATION:West 6th Nulu\, 817 E Market St\, Suite 101\, Louisville\, KY\, 40206\, United States
CATEGORIES:Beer / Brewery,Exercise
END:VEVENT
BEGIN:VEVENT
DTSTART;TZID=America/New_York:20260309T180000
DTEND;TZID=America/New_York:20260309T190000
DTSTAMP:20260423T135346
CREATED:20251231T070129Z
LAST-MODIFIED:20251231T070129Z
UID:10003485-1773079200-1773082800@things-to-lou.com
SUMMARY:Marketplace Hall Yoga (all levels)
DESCRIPTION:Yoga at West Sixth NuLu \n6 – 7pm \nEvent occurs weekly on Monday \nMarketplace Hall Yoga with Harley Gilman. Donation-based\, beginner friendly flow — just come with a mat and any props you’d like to have \nNo registration required \nAll levels are welcome
URL:https://things-to-lou.com/events/marketplace-hall-yoga-all-levels/2026-03-09/
LOCATION:West 6th Nulu\, 817 E Market St\, Suite 101\, Louisville\, KY\, 40206\, United States
CATEGORIES:Beer / Brewery,Exercise
END:VEVENT
BEGIN:VEVENT
DTSTART;TZID=America/New_York:20260314T160000
DTEND;TZID=America/New_York:20260314T183000
DTSTAMP:20260423T135346
CREATED:20260311T065939Z
LAST-MODIFIED:20260311T070005Z
UID:10004750-1773504000-1773513000@things-to-lou.com
SUMMARY:Community Game Day: Bingo Edition
DESCRIPTION:You’re invited to Community Game Day: Bingo Edition! This is your chance to unwind\, laugh\, and reconnect with your inner child in a welcoming community space. \nAdults will enjoy Bingo\, food\, and prizes\, while children have their own fun with dedicated childcare. \n✨ Food provided 🎁 Exciting prizes to win 👶 Childcare available \nFree event\, come out\, relax\, and enjoy a day of fun for the whole community!
URL:https://things-to-lou.com/events/community-game-day-bingo-edition/
LOCATION:Play Cousins Collective\, 1701 W Market St\, Louisville\, KY\, 40203\, United States
CATEGORIES:Family & Children
ATTACH;FMTTYPE=image/png:https://things-to-lou.com/wp-content/uploads/2026/03/bingo-flyer-e1773212095811.png
END:VEVENT
BEGIN:VEVENT
DTSTART;TZID=America/New_York:20260316T180000
DTEND;TZID=America/New_York:20260316T190000
DTSTAMP:20260423T135346
CREATED:20251231T070129Z
LAST-MODIFIED:20251231T070129Z
UID:10003486-1773684000-1773687600@things-to-lou.com
SUMMARY:Marketplace Hall Yoga (all levels)
DESCRIPTION:Yoga at West Sixth NuLu \n6 – 7pm \nEvent occurs weekly on Monday \nMarketplace Hall Yoga with Harley Gilman. Donation-based\, beginner friendly flow — just come with a mat and any props you’d like to have \nNo registration required \nAll levels are welcome
URL:https://things-to-lou.com/events/marketplace-hall-yoga-all-levels/2026-03-16/
LOCATION:West 6th Nulu\, 817 E Market St\, Suite 101\, Louisville\, KY\, 40206\, United States
CATEGORIES:Beer / Brewery,Exercise
END:VEVENT
BEGIN:VEVENT
DTSTART;TZID=America/New_York:20260320T190000
DTEND;TZID=America/New_York:20260320T203000
DTSTAMP:20260423T135346
CREATED:20260311T070946Z
LAST-MODIFIED:20260311T071217Z
UID:10004753-1774033200-1774038600@things-to-lou.com
SUMMARY:Botanical Skincare Studio: Tweens & Teens - Spring Glow Edition
DESCRIPTION:This month we’re creating our own fresh spring glow with: \n\nRose whipped soap\nTea-infused lip and face sticks\nPlant-based lotion and shimmer sticks\n\nWe’ll explore what natural ingredients actually do for your skin and create mini DIY zines so you can remake your favorites at home \n 
URL:https://things-to-lou.com/events/botanical-skincare-studio/
LOCATION:Side by Side Studio\, 2528 Frankfort Ave\, Louisville\, KY\, 40206\, United States
CATEGORIES:Family & Children
ATTACH;FMTTYPE=image/jpeg:https://things-to-lou.com/wp-content/uploads/2026/03/purple-and-ivory-retro-food-drive-campaign-flyer-e1773212072922.jpeg
END:VEVENT
BEGIN:VEVENT
DTSTART;TZID=America/New_York:20260322T150000
DTEND;TZID=America/New_York:20260322T173000
DTSTAMP:20260423T135346
CREATED:20260311T070216Z
LAST-MODIFIED:20260311T070216Z
UID:10004751-1774191600-1774200600@things-to-lou.com
SUMMARY:Blooming Connections
DESCRIPTION:Winter invites rest\, but spring reminds us that growth is always possible. Blooming Connections is a free community gathering designed to help participants reflect on their own seasons of rest\, resilience\, and renewal. \nThrough guided journaling\, thoughtful conversation\, and a creative nature inspired activity\, participants will explore mental wellness while building meaningful connections with others.
URL:https://things-to-lou.com/events/blooming-connections/
LOCATION:Play Cousins Collective\, 1701 W Market St\, Louisville\, KY\, 40203\, United States
CATEGORIES:Wellness
ATTACH;FMTTYPE=image/png:https://things-to-lou.com/wp-content/uploads/2026/03/blooming-connections--e1773212087102.png
END:VEVENT
BEGIN:VEVENT
DTSTART;TZID=America/New_York:20260323T180000
DTEND;TZID=America/New_York:20260323T190000
DTSTAMP:20260423T135346
CREATED:20251231T070129Z
LAST-MODIFIED:20251231T070129Z
UID:10003487-1774288800-1774292400@things-to-lou.com
SUMMARY:Marketplace Hall Yoga (all levels)
DESCRIPTION:Yoga at West Sixth NuLu \n6 – 7pm \nEvent occurs weekly on Monday \nMarketplace Hall Yoga with Harley Gilman. Donation-based\, beginner friendly flow — just come with a mat and any props you’d like to have \nNo registration required \nAll levels are welcome
URL:https://things-to-lou.com/events/marketplace-hall-yoga-all-levels/2026-03-23/
LOCATION:West 6th Nulu\, 817 E Market St\, Suite 101\, Louisville\, KY\, 40206\, United States
CATEGORIES:Beer / Brewery,Exercise
END:VEVENT
BEGIN:VEVENT
DTSTART;TZID=America/New_York:20260330T180000
DTEND;TZID=America/New_York:20260330T190000
DTSTAMP:20260423T135346
CREATED:20251231T070129Z
LAST-MODIFIED:20251231T070129Z
UID:10003488-1774893600-1774897200@things-to-lou.com
SUMMARY:Marketplace Hall Yoga (all levels)
DESCRIPTION:Yoga at West Sixth NuLu \n6 – 7pm \nEvent occurs weekly on Monday \nMarketplace Hall Yoga with Harley Gilman. Donation-based\, beginner friendly flow — just come with a mat and any props you’d like to have \nNo registration required \nAll levels are welcome
URL:https://things-to-lou.com/events/marketplace-hall-yoga-all-levels/2026-03-30/
LOCATION:West 6th Nulu\, 817 E Market St\, Suite 101\, Louisville\, KY\, 40206\, United States
CATEGORIES:Beer / Brewery,Exercise
END:VEVENT
END:VCALENDAR