BEGIN:VCALENDAR
VERSION:2.0
PRODID:-//Things To Lou - ECPv6.15.20//NONSGML v1.0//EN
CALSCALE:GREGORIAN
METHOD:PUBLISH
X-WR-CALNAME:Things To Lou
X-ORIGINAL-URL:https://things-to-lou.com
X-WR-CALDESC:Events for Things To Lou
REFRESH-INTERVAL;VALUE=DURATION:PT1H
X-Robots-Tag:noindex
X-PUBLISHED-TTL:PT1H
BEGIN:VTIMEZONE
TZID:America/New_York
BEGIN:DAYLIGHT
TZOFFSETFROM:-0500
TZOFFSETTO:-0400
TZNAME:EDT
DTSTART:20250309T070000
END:DAYLIGHT
BEGIN:STANDARD
TZOFFSETFROM:-0400
TZOFFSETTO:-0500
TZNAME:EST
DTSTART:20251102T060000
END:STANDARD
BEGIN:DAYLIGHT
TZOFFSETFROM:-0500
TZOFFSETTO:-0400
TZNAME:EDT
DTSTART:20260308T070000
END:DAYLIGHT
BEGIN:STANDARD
TZOFFSETFROM:-0400
TZOFFSETTO:-0500
TZNAME:EST
DTSTART:20261101T060000
END:STANDARD
BEGIN:DAYLIGHT
TZOFFSETFROM:-0500
TZOFFSETTO:-0400
TZNAME:EDT
DTSTART:20270314T070000
END:DAYLIGHT
BEGIN:STANDARD
TZOFFSETFROM:-0400
TZOFFSETTO:-0500
TZNAME:EST
DTSTART:20271107T060000
END:STANDARD
END:VTIMEZONE
BEGIN:VEVENT
DTSTART;TZID=America/New_York:20260320T190000
DTEND;TZID=America/New_York:20260320T203000
DTSTAMP:20260423T205132
CREATED:20260311T070946Z
LAST-MODIFIED:20260311T071217Z
UID:10004753-1774033200-1774038600@things-to-lou.com
SUMMARY:Botanical Skincare Studio: Tweens & Teens - Spring Glow Edition
DESCRIPTION:This month we’re creating our own fresh spring glow with: \n\nRose whipped soap\nTea-infused lip and face sticks\nPlant-based lotion and shimmer sticks\n\nWe’ll explore what natural ingredients actually do for your skin and create mini DIY zines so you can remake your favorites at home \n 
URL:https://things-to-lou.com/events/botanical-skincare-studio/
LOCATION:Side by Side Studio\, 2528 Frankfort Ave\, Louisville\, KY\, 40206\, United States
CATEGORIES:Family & Children
ATTACH;FMTTYPE=image/jpeg:https://things-to-lou.com/wp-content/uploads/2026/03/purple-and-ivory-retro-food-drive-campaign-flyer-e1773212072922.jpeg
END:VEVENT
END:VCALENDAR